{"text_format":"1","workbook":"xlsx","n_sheets":18,"sheets":["オーグメント2","アイテム検索(findAll)","アイテム検索(GearSwap)","進捗メモ","花鳥風月","アビセア","リンバス","空４神","七元徳","ログ","Char6","Char5","Char4","Char3","Char2","Char1","CSV","tmp"],"not_rendered":{"charts":0,"images":14,"macros":1,"external_links":0,"defined_names":23,"comments":2,"pivot_tables":0},"unopened":[],"bounds":{"document_bytes":16777216,"sheet_cells":100000,"rows_first":2000,"rows_last":500,"rows_between":2000,"halvings":0,"cell_chars":16384,"cell_head_chars":4096},"cells_cut":0,"cells_raw":0,"read":"whole","date_system":"1900"}

{"sheet":"オーグメント2","index":0,"n_rows":159,"n_cols":22,"rows_kept":159,"cut":false,"hidden":false,"merged":[]}
["逆解析用定義シート ver2.62"]
["Objectives:"]
["各キャラのシートのE列にはGearSwapが書き出したオーグメント情報が表示されるが、① このままではどのモグチケットが使われたのかすぐには分からない。② 強化漏れのNQ装備があるかどうかをチェックできない。"]
["１．使用されているモグチケット情報を分かるようにする。"]
["２．英文オーグメントではなく日本語に置き換える。"]
["３．Gオーグメントの解析"]
[]
["「オーグメント2」シートにはマッピング情報(対応表3: モグチケット⇔英文オーグメント)が定義されており、これと完全マッチしたオーグメントであれば、Tier,色,タイプ,NQ/HQがD列に表示される。"]
["この対比表はすべてのオーグメントをカバーしておらず、手作業で作成した対比表のため入力ミスのリスクもある。そのためダブルチェックを兼ねて次のような処理でモグチケットを特定している。",null,null,null,null,null,null,"保守手順マニュアル"]
[]
["対応表３の整合性チェックおよび未定義のオーグメント解析",null,null,null,null,null,null,"Dオーグメント(2/4) などといった表記があった場合",null,null,null,"更新手順：　自分のオーグメント情報が解析されなかった場合",null,null,"Gオーグメント(2/4) などといった表記があった場合",null,null,null,null,"イベント装備はここに追加しておくと処理が高速になる"]
["１．英文オーグメント情報を4個のコンポーネントに切り出して、対応表２の英語名称(H列)を使って日本語名称(I列)に変換する。",null,null,null,null,null,null,"１．対応表２で未定義のオーグメント性能があったのが原因なので、該当オーグメントを調べる。",null,null,null,"１．各キャラシートの該当オーグメント(E列)を対応表2のAugment E(L列)最後にコピー＆ペースト",null,null,"１．対応表で未定義のオーグメント性能があったのが原因なので、該当オーグメントを調べる。"]
["２．これをひとつの文字列にして、対応表１のNQ(D列)とHQ(E列)にヒットするかどうかチェックする。",null,null,null,null,null,null,"２．シングルクォーツ、ダブルクォーツを除外した英文オーグメントをDescription E(H列)にコピー",null,null,null,"２．対応表2のAugment J(K列)にモグチケット情報を入力",null,null,"２．シングルクォーツ、ダブルクォーツを除外した英文オーグメントをAugment E(P列)にコピー"]
["３．完全マッチすればモグチケット情報をC列に表示。不完全マッチの場合は解析できた部分の日本語オーグメントをC列に表示。",null,null,null,null,null,null,"３．それに対応する日本語オーグメントをDescription J(I列)に入力",null,null,null,"３．M列は計算式なので、1個上の行をそのままコピーする"]
["これをDオーグメントとGオーグメントの両方で評価する。"]
["注意： WIKIのテキストが間違っている場合がある。"]
[]
["対応表1",null,null,null,null,null,null,"対応表2",null,null,"対応表3",null,null,null,"対応表：Gオーグメント",null,null,null,null,"イベント装備"]
["Tier","Type","Letter","NQ Augments","HQ Augments","Mnemonic",null,"Description E","Description J",null,"Pell Mnemonic","Augment E (入力)","Augment J (計算式, チェック確認用)",null,"Tier","Augment E","Augment J","Trade Item",null,"Gear Name","Level","Augment J"]
["T5","緑","A","AGI+6 D+2 二刀流+3 リゲイン+10","AGI+8 D+3 二刀流+5 リゲイン+15",{"$f":"A20 & B20 & C20","v":"T5緑A"},null,"AGI+4","AGI+4",null,"T2虹C NQ","augments={'CHR+1','Ice resistance+1','Pet: Mag. Acc.+4 Pet: \"Mag.Atk.Bns.\"+4','Pet: \"Dbl.Atk.\"+4 Pet: Crit.hit rate +4',}},",{"$f":"IF(RIGHT(K20, 2) =\"HQ\",  INDEX( E:E, MATCH(LEFT(K20,4),F:F,0)), INDEX( D:D, MATCH(LEFT(K20,4),F:F,0)))","v":"CHR+2 STR/DEX/VIT/AGI/INT/MND+1 ペット: 魔命+4 魔攻+4 DA+4 CR率+4"},null,"T5","HP+20","HP+20","炎のクリスタルx5",null,"カカイヘッド",1,"防+1 回避+6 命中+17 飛命+17 DA+2%CR率+2% 魔防+5"]
["T5","緑","B","AGI/STR+5 遠隔ダメージ+2 飛攻+20 リゲイン+10","AGI/STR+7 遠隔ダメージ+3 飛攻+30 リゲイン+15",{"$f":"A21 & B21 & C21","v":"T5緑B"},null,"AGI+6","AGI+6",null,"T4金D HQ","augments={'VIT+5','DEF+18','HP+15','Occ. inc. resist. to stat. ailments +15',}},","VIT+5 防+18 HP+15 全状態異常のレジスト効果アップ+15",null,"T5","MP+20","MP+20","氷のクリスタルx5",null,"カストルリング",1,"MP+15 INT/MND/CHR+5 リフレシュ+1 魔法ダメージ+5 "]
["T5","緑","C","AGI/DEX+5 D+2 WSダメージ+3% DA+2 CR率+2","AGI/DEX+7 D+3 WSダメージ+4% DA+4 CR率+4","T5緑C",null,"AGI+8","AGI+8",null,"T4金D NQ","augments={'VIT+3','DEF+15','HP+10','Occ. inc. resist. to stat. ailments +10',}},","VIT+3 防+15 HP+10 全状態異常のレジスト効果アップ+10",null,"T5","STR+6","STR+6","風のクリスタルx5",null,"キュムラスマスク",1,"全ステータス+3 HP+33 MP+33 耐氷+3 TH+1 WSのダメージ+4%"]
["T5","緑","D","AGI/DEX+5 遠隔ダメージ+2 WSダメージ+3% 弓術スキル+5","AGI/DEX+7 遠隔ダメージ+3 WSダメージ+3% 弓術スキル+10","T5緑D",null,"Attack+15","攻+15",null,"T4銀A HQ","augments={'INT+5','System: 1 ID: 131 Val: 6','\"Fast Cast\"+4','Haste+3',}},","INT+5 魔命+7 魔攻+7 FC+4 ヘイスト+3%",null,"T5","DEX+6","DEX+6","土のクリスタルx5",null,"コシートップ",1," HP+15 全ステータス+5 攻+10 飛攻+10 リジェネ+1"]
["T5","緑","E","AGI+6 アフィニティ+5 WSダメージ+3% 魔命+6 魔攻+6","AGI+8 アフィニティ+5 WSダメージ+4% 魔命+8 魔攻+8","T5緑E",null,"Attack+18","攻+18",null,"T4銀A NQ","augments={'INT+4','System: 1 ID: 131 Val: 5','\"Fast Cast\"+4','Haste+2',}},","INT+4 魔命+6 魔攻+6 FC+4 ヘイスト+2%",null,"T5","VIT+6","VIT+6","雷のクリスタルx5",null,"コシーボトム",1,"攻+10 リジェネ+1"]
["T5","緑","F","AGI/DEX+5 敵対心+10 回避+15 HP+20","AGI/DEX+7 敵対心+15 回避+20 HP+30","T5緑F",null,"Attack+20","攻+20",null,"T4銀B HQ","augments={'INT+5','System: 1 ID: 131 Val: 6','\"Blood Pact\" ability delay -2','Pet: Mag. Acc.+7 Pet: \"Mag.Atk.Bns.\"+7',}},","INT+5 魔命+7 魔攻+7 契約の履行使用間隔-2 ペット: 魔命+7 魔攻+7",null,"T5","AGI+6","AGI+6","水のクリスタルx5",null,"ショールトランク",1,"魔法ダメージ+3"]
["T5","虹","A","STR/DEX/VIT/AGI/INT/MND/CHR+5 あやつる成功率+3% JUG Level Range -1 よびだし再使用時間-2","STR/DEX/VIT/AGI/INT/MND/CHR+7 あやつる成功率+5% JUG Level Range -1 よびだし再使用時間-3","T5虹A",null,"Attack+25","攻+25",null,"T4銀B NQ","augments={'INT+4','System: 1 ID: 131 Val: 5','\"Blood Pact\" ability delay -1','Pet: Mag. Acc.+6 Pet: \"Mag.Atk.Bns.\"+6',}},","INT+4 魔命+6 魔攻+6 契約の履行使用間隔-1 ペット: 魔命+6 魔攻+6",null,"T5","INT+6","INT+6","光のクリスタルx5",null,"ショールマイヨー",1," MP+15 全ステータス+5 FC+3 魔法ダメージ+3"]
["T5","虹","B","STR/DEX/VIT/AGI/INT/MND/CHR+5 FC+4 全状態異常のレジスト効果アップ+10 HP+20","STR/DEX/VIT/AGI/INT/MND/CHR+7 FC+4 全状態異常のレジスト効果アップ+15 HP+30","T5虹B",null,"Attack+4","攻+4",null,"T4銀C HQ","augments={'INT+5','System: 1 ID: 131 Val: 6','Elem. magic skill +4','Magic Damage +10',}},","INT+5 魔命+7 魔攻+7 精霊魔法スキル+4 魔法ダメージ+10",null,"T5","MND+6","MND+6","闇のクリスタルx5",null,"スイミングトグス",1,"耐炎-12.5%"]
["T5","虹","C","ペット: リジェネ+5 被ダメ-4% 敵対心+20 STR/DEX/VIT+5","ペット: リジェネ+10 被ダメ-5% 敵対心+30 STR/DEX/VIT+10","T5虹C",null,"Attack+6","攻+6",null,"T4銀C NQ","augments={'INT+4','System: 1 ID: 131 Val: 5','Elem. magic skill +3','Magic Damage +5',}},","INT+4 魔命+6 魔攻+6 精霊魔法スキル+3 魔法ダメージ+5",null,"T5","CHR+6","CHR+6","獣人の血x5",null,"タ・モコ",1,"防+9 耐炎-12.5%"]
["T5","虹","D","リフレシュ+1 契約の履行使用間隔-2 ペット: 魔命+10 魔攻+10 履行ダメージ+5%","リフレシュ+2 契約の履行使用間隔-3 ペット: 魔命+20 魔攻+20 履行ダメージ+8%","T5虹D",null,"Blood Pact ability delay -1","契約の履行使用間隔-1",null,"T4虹C HQ","augments={'Pet: \"Regen\"+5','Pet: Damage taken -5%','Pet: Mag. Acc.+8 Pet: \"Mag.Atk.Bns.\"+8','Pet: TP Bonus+80',}},","ペット: リジェネ+5 被ダメ-5% 魔命+8 魔攻+8 TPボーナス+80",null,"T5","Fire Affinity: Avatar perp. cost+3","アフィニティ：召喚維持費-4","属性宝珠x1(炎の宝珠等)",null,"ドリームズボン",1,"STR+3 AGI+3 飛命+5 飛攻+5 ラピッドショット+5 スナップショット+10"]
["T5","虹","E","リフレシュ+1 ペット: STR/DEX/VIT+5 命中/飛命/攻/飛攻+20 DA+5 CR率+5","リフレシュ+2 ペット: STR/DEX/VIT+10 命中/飛命/攻/飛攻+20 DA+6 CR率+6","T5虹E",null,"Blood Pact ability delay -2","契約の履行使用間隔-2",null,"T4虹C NQ","augments={'Pet: \"Regen\"+4','Pet: Damage taken -4%','Pet: Mag. Acc.+7 Pet: \"Mag.Atk.Bns.\"+7','Pet: TP Bonus+60',}},","ペット: リジェネ+4 被ダメ-4% 魔命+7 魔攻+7 TPボーナス+60",null,"T5","Treasure Hunter+1","トレジャーハンター+1","アレキサンドライトx99",null,"ハッピーエッグ",1,"HP+1% VIT+1 D+4 ヘイスト+4 DA+4% CR率+4% STP+4 モクシャ+4"]
["T5","虹","F","STR/DEX/VIT/AGI/INT/MND/CHR+5 魔法剣ダメージ+5 スパイクダメージ+5 魔法スキル+5","STR/DEX/VIT/AGI/INT/MND/CHR+7 魔法剣ダメージ+5 スパイクダメージ+5 魔法スキル+5","T5虹F",null,"Blood Pact ability delay -3","契約の履行使用間隔-3",null,"T4盟E HQ","augments={'STR+4 DEX+4','DMG:+3','System: 1 ID: 132 Val: 2','\"Store TP\"+3',}},",{"$f":"IF(RIGHT(K31, 2) =\"HQ\",  INDEX( E:E, MATCH(LEFT(K31,4),F:F,0)), INDEX( D:D, MATCH(LEFT(K31,4),F:F,0)))","v":"STR/DEX+4 D+3 CR率+3 DA+3 STP+3"},null,"T5","Latent effect: Regain+10","リゲイン+100","龍の心臓x1",null,"ポルックスリング",1,"HP+15 STR/DEX/AGI+5 攻+15 リゲイン+10"]
["T5","盟","A","DEX+6 D+2 二刀流+3 リゲイン+10","DEX+8 D+3 二刀流+5 リゲイン+15","T5盟A",null,"CHR+1","CHR+2",null,"T4緑E NQ","augments={'STR+3 AGI+3','Fire resistance+2','Rng.Atk.+15','Marksmanship skill +3',}},","AGI/STR+3 遠隔ダメージ+2 飛攻+15 射撃スキル+3",null,"T5","Attack+20","攻+20","ベヒーモス革の密書x1、ケルベロスの皮x2、ケルベロスの爪x2",null,"メタスラピアス",1,"全ステータス+5 リジェネ+1 リフレシュ+1 リゲイン+20"]
["T5","盟","B","DEX+6 D+2 攻+20 TA+4","DEX+8 D+3 攻+25 TA+4","T5盟B",null,"Crit. hit damage +2%","CRダメージ+2%",null,"T5金A HQ","augments={'VIT+8','DEF+30','HP+30','\"Fast Cast\"+4',}},","VIT+8 防+30 HP+30 FC+4",null,"T5","Rng.Atk.+20","飛攻+20","クァール革の密書x1、ベヒーモスの毛皮x2、忘れ去られた道程x12",null,"ラステクトランク",1,"耐炎-12.5%"]
["T5","盟","C","DEX+6 D+2 WSダメージ+3% TA+4","DEX+8 D+3 WSダメージ+4% CRダメージ+3%","T5盟C",null,"Crit. hit damage +3%","CRダメージ+3%",null,"T5金A NQ","augments={'VIT+6','DEF+20','HP+20','\"Fast Cast\"+4',}},","VIT+6 防+20 HP+20 FC+4",null,"T5","DEF+20","防+20","土の塊、忘れ去られた願いx12",null,"ラステクマイヨー",1,"防+9"]
["T5","盟","D","DEX/STR+5 DA+2 CR率+2 WSダメージ+3% CRダメージ+2%","DEX/STR+7 DA+3 CR率+3 WSダメージ+4% CRダメージ+3%","T5盟D",null,"Cure potency +2%","ケアル回復量+2%",null,"T5金C HQ","augments={'VIT+8','HP+30','Latent effect: \"Regain\"+15','Occ. inc. resist. to stat. ailments +15',}},","VIT+8 HP+30 リゲイン+15 全状態異常のレジスト効果アップ+15",null,"T5","Ice resistance+2","全ステータス+2","獣人古銭x30、雄羊革の密書x1、エメラルドチップx1",null,"ラッキーエッグ",1,"MP+1% VIT+1 D+4 HP+20 MP+20 STR+5 DEX+5 INT+5 MND+5 CHR+5"]
["T5","盟","E","DEX/STR+5 D+2 WSダメージ+3% TA+4","DEX/STR+7 D+3 WSダメージ+4% TA+4","T5盟E",null,"Cure potency +3%","ケアル回復量+3%",null,"T5金C NQ","augments={'VIT+6','HP+20','Latent effect: \"Regain\"+10','Occ. inc. resist. to stat. ailments +10',}},","VIT+6 HP+20 リゲイン+10 全状態異常のレジスト効果アップ+10",null,"T5","Haste+10","ヘイスト+10%","忘れ去られた感触x99、オメガの前肢x1、バルラーンの眼帯x1",null,"胡蝶のイヤリング",90,"N/A"]
["T5","盟","F","DEX/STR+5 D+2 リゲイン+10 QA+1","DEX/STR+7 D+3 リゲイン+15 QA+2","T5盟F",null,"DEF+15","防+15",null,"T5金D HQ","augments={'VIT+8','HP+30','\"Fast Cast\"+4','Spell interruption rate down -15%',}},","VIT+8 HP+30 FC+4 魔法詠唱中断率-15%",null,"T5",null,"ウェポンスキルダメージ+3%","トリックダイスx12",null,"カービーキャップ",1,"カーバンクル:維持費-1 HP%+8% MP%+8% 全ステータス+5"]
["T5","銀","A","INT+6 魔命+6 魔攻+6 FC+4 リフレシュ+1","INT+8 魔命+8 魔攻+8 FC+4 リフレシュ+2","T5銀A",null,"DEF+18","防+18",null,"T5金D NQ","augments={'VIT+6','HP+20','\"Fast Cast\"+4','Spell interruption rate down -10%',}},","VIT+6 HP+20 FC+4 魔法詠唱中断率-10%",null,"T5",null,"ラピッドショット+3%","カメレオンヤーンx1",null,"シベットサシェ",30,"N/A"]
["T5","銀","B","INT+6 リフレシュ+1 契約の履行使用間隔-2 ペット: 魔命+10 魔攻+10","INT+8 リフレシュ+2 契約の履行使用間隔-3 ペット: 魔命+20 魔攻+20","T5銀B",null,"DEF+20","防+20",null,"T5銀A HQ","augments={'INT+8','System: 1 ID: 131 Val: 7','\"Fast Cast\"+4','\"Refresh\"+2',}},","INT+8 魔命+8 魔攻+8 FC+4 リフレシュ+2",null,"T5",null,"TPボーナス+50","ビアオーブx1(魔王印章50)、龍の鱗x10",null,"ムスクサシェ",30,"N/A"]
["T5","銀","C","INT+6 魔命+6 魔攻+6 精霊魔法スキル+7 魔法ダメージ+10","INT+8 魔命+8 魔攻+8 精霊魔法スキル+7 魔法ダメージ+15","T5銀C",null,"DEF+30","防+30",null,"T5銀A NQ","augments={'INT+6','System: 1 ID: 131 Val: 5','\"Fast Cast\"+4','\"Refresh\"+1',}},","INT+6 魔命+6 魔攻+6 FC+4 リフレシュ+1",null,"T5",null,"トリプルアタック発生率+4%","ルンゴナンゴ翠貝貨x50、100バイン紙幣x50、モニヨン銀貨x50",null," スィートサシェ",30,"N/A"]
["T5","銀","D","INT+6 魔命+6 魔攻+6 アフィニティ+4 忍術ダメージ+7%","INT+8 魔命+8 魔攻+8 アフィニティ+5 忍術ダメージ+10%","T5銀D",null,"DEX+4","DEX+4",null,"T5銀C HQ","augments={'INT+8','System: 1 ID: 131 Val: 7','Elem. magic skill +7','Magic Damage +15',}},","INT+8 魔命+8 魔攻+8 精霊魔法スキル+7 魔法ダメージ+15",null,"T5",null,"クアッドアタック発生率+2%(最大15%)","テミスオーブx1(獣神印章99)、キャッツアイx1、アレヴァトと龍x1",null," アターサシェ",30,"N/A"]
["T5","銀","E","INT+6 魔命+6 魔攻+6 暗黒魔法スキル+5 ドレイン&アスピル吸収量+3","INT+8 魔命+8 魔攻+8 暗黒魔法スキル+7 ドレイン&アスピル吸収量+5","T5銀E",null,"DEX+5","DEX+5",null,"T5銀C NQ","augments={'INT+6','System: 1 ID: 131 Val: 5','Elem. magic skill +7','Magic Damage +10',}},","INT+6 魔命+6 魔攻+6 精霊魔法スキル+7 魔法ダメージ+10",null,"T4","Attack+15","攻+15","魔物の血x12、炎の塊x12",null,"オリバナムサシェ",30,"N/A"]
["T5","銀","F","INT+6 魔命+6 魔攻+6 アフィニティ+4 魔法ダメージ+10","INT+8 魔命+8 魔攻+8 アフィニティ+5 魔法ダメージ+15","T5銀F",null,"DEX+5 AGI+5","AGI/DEX+5",null,"T5銀F HQ","augments={'INT+8','System: 1 ID: 131 Val: 7','Fire Affinity: Avatar perp. cost+4','Magic Damage +15',}},","INT+8 魔命+8 魔攻+8 アフィニティ+5 魔法ダメージ+15",null,"T4","Rng.Atk.+15","飛攻+15","ゴーレムの破片、大サソリの針",null,"ミルフルールサシェ",30,"N/A"]
["T5","像","A","MND+6 ケアル回復量+2% ケアル回復量をMPに還元3% リフレシュ+1","MND+8 ケアル回復量+3% ケアル回復量をMPに還元5% リフレシュ+2","T5像A",null,"DEX+6","DEX+6",null,"T5銀F NQ","augments={'INT+6','System: 1 ID: 131 Val: 5','Fire Affinity: Avatar perp. cost+3','Magic Damage +10',}},","INT+6 魔命+6 魔攻+6 アフィニティ+4 魔法ダメージ+10",null,"T4","DEF+15","防+15","上質な陸ガニの甲殻",null,"バルムサシェ",30,"N/A"]
["T5","像","B","MND+6 HP+15 MP+15 FC+4 魔命+6 魔攻+6","MND+8 HP+20 MP+20 FC+4 魔命+8 魔攻+8","T5像B",null,"DEX+7 AGI+7","AGI/DEX+7",null,"T5赤B HQ","augments={'STR+8','DMG:+3','Weapon skill damage +4%','Sklchn.dmg.+10%',}},","STR+8 D+3 WSダメージ+4% 連携ダメージ+10%",null,"T4","Cure potency +2%","ケアル回復量+2%","ポーチ【Ｖ．Ｓ．】x2"]
["T5","像","C","MND/STR+5 D+2 WSダメージ+3% TA+4","MND/STR+7 D+3 WSダメージ+4% TA+4","T5像C",null,"DEX+8","DEX+8",null,"T5赤B NQ","augments={'STR+6','DMG:+2','Weapon skill damage +3%','Sklchn.dmg.+5%',}},","STR+6 D+2 WSダメージ+3% 連携ダメージ+5%",null,"T4",null,"ダブルアタック+4","ルンゴナンゴ翠貝貨x25、100バイン紙幣x25、モニヨン銀貨x25"]
["T5","像","D","MND+6 リフレシュ+1 ヒーリングMP+10 敵対心-10","MND+8 リフレシュ+2 ヒーリングMP+15 敵対心-15","T5像D",null,"DMG:+2","D+2",null,"T5赤E HQ","augments={'STR+8','DMG:+3','Weapon skill damage +4%','\"Triple Atk.\"+4',}},","STR+8 D+3 WSダメージ+4% TA+4",null,"T4",null,"コンサーブMP+2","ブリリアンティン"]
["T5","像","E","MND+6 全ての属性耐性+10 全状態異常のレジスト効果アップ+10 魔防+3","MND+8 全ての属性耐性+20 全状態異常のレジスト効果アップ+15 魔防+5","T5像E",null,"DMG:+3","D+3",null,"T5赤E NQ","augments={'STR+6','DMG:+2','Weapon skill damage +3%','\"Triple Atk.\"+4',}},","STR+6 D+2 WSダメージ+3% TA+4",null,"T4","Occ. inc. resist. to stat. ailments +10","全状態異常のレジスト+10","万能薬"]
["T5","像","F","MND+6 アフィニティ+4 ケアル回復量+2% ストンスキン+20","MND+8 アフィニティ+4 ケアル回復量+3% ストンスキン+30","T5像F",null,"Dual Wield+3","二刀流+3",null,"T5赤F HQ","augments={'STR+8','DMG:+3','Latent effect: \"Regain\"+15','Quadruple Attack +2',}},","STR+8 D+3 リゲイン+15 QA+2",null,"T4","Mag. crit. hit dmg. +3%","魔法クリティカルヒット+3","クーポンA-Lum"]
["T5","赤","A","STR+6 D+2 ヘイスト+5% TA+4","STR+8 D+3 ヘイスト+10% TA+4","T5赤A",null,"Dual Wield+5","二刀流+5",null,"T5赤F NQ","augments={'STR+6','DMG:+2','Latent effect: \"Regain\"+10','Quadruple Attack +1',}},","STR+6 D+2 リゲイン+10 QA+1",null,"T4",null,"魔法クリティカルヒットダメージアップ+3%","万魔殿の鍵"]
["T5","赤","B","STR+6 D+2 WSダメージ+3% 連携ダメージ+5%","STR+8 D+3 WSダメージ+4% 連携ダメージ+10%","T5赤B",null,"Earth resistance+20","ストンスキン+20",null,"T5像A HQ","augments={'MND+8','\"Cure\" potency +3%','Lightning resistance+5','\"Refresh\"+2',}},","MND+8 ケアル回復量+3% ケアル回復量をMPに還元5% リフレシュ+2",null,"T4","Delay:+2","隔:+2","ハイパーポーション"]
["T5","赤","C","STR+6 D+2 WSダメージ+3% CRダメージ+2%","STR+8 D+3 WSダメージ+4% CRダメージ+3%","T5赤C",null,"Earth resistance+30","ストンスキン+30",null,"T5像A NQ","augments={'MND+6','\"Cure\" potency +2%','Lightning resistance+3','\"Refresh\"+1',}},","MND+6 ケアル回復量+2% ケアル回復量をMPに還元3% リフレシュ+1",null,"T4","Delay:-2","隔:-2","マキシポーション"]
["T5","赤","D","STR+6 D+2 攻+20 TA+4","STR+8 D+3 攻+25 TA+4","T5赤D",null,"Elem. magic skill +4","精霊魔法スキル+4",null,"T5像C HQ","augments={'STR+7 MND+7','DMG:+3','Weapon skill damage +4%','\"Triple Atk.\"+4',}},","MND/STR+7 D+3 WSダメージ+4% TA+4",null,"T4","Fire resistance+10 Ice resistance+10 Wind resistance+10 Earth resistance+10 Lightning resistance+10 Water resistance+10 Light resistance+10 Dark resistance+10","全ての属性耐性+10","ルンゴナンゴ翠貝貨x5、100バイン紙幣x5、モニヨン銀貨x5"]
["T5","赤","E","STR+6 D+2 WSダメージ+3% TA+4","STR+8 D+3 WSダメージ+4% TA+4","T5赤E",null,"Elem. magic skill +7","精霊魔法スキル+7",null,"T5像C NQ","augments={'STR+5 MND+5','DMG:+2','Weapon skill damage +3%','\"Triple Atk.\"+4',}},","MND/STR+5 D+2 WSダメージ+3% TA+4",null,"T4",null,"クリティカルヒット率+2%","ランペール金貨"]
["T5","赤","F","STR+6 D+2 リゲイン+10 QA+1","STR+8 D+3 リゲイン+15 QA+2","T5赤F",null,"Enmity+10","敵対心+10",null,"T5像E HQ","augments={'MND+8','Fire resistance+20 Ice resistance+20 Wind resistance+20 Earth resistance+20 Lightning resistance+20 Water resistance+20 Light resistance+20 Dark resistance+20','Occ. inc. resist. to stat. ailments +15','\"Mag.Def.Bns.\"+5',}},","MND+8 全ての属性耐性+20 全状態異常のレジスト効果アップ+15 魔防+5",null,"T4",null,"クリティカルヒットダメージアップ+2%","10000バイン紙幣"]
["T5","金","A","VIT+6 防+20 HP+20 FC+4","VIT+8 防+30 HP+30 FC+4","T5金A",null,"Enmity+15","敵対心+15",null,"T5像E NQ","augments={'MND+6','Fire resistance+10 Ice resistance+10 Wind resistance+10 Earth resistance+10 Lightning resistance+10 Water resistance+10 Light resistance+10 Dark resistance+10','Occ. inc. resist. to stat. ailments +10','\"Mag.Def.Bns.\"+3',}},","MND+6 全ての属性耐性+10 全状態異常のレジスト効果アップ+10 魔防+3",null,"T4",null,"片手斧スキル+3","スマルトレザー"]
["T5","金","B","VIT/STR+5 D+2 WSダメージ+3% DA+2 CR率+2","VIT/STR+7 D+3 WSダメージ+4% DA+3 CR率+3","T5金B",null,"Evasion+15","回避+15",null,"T5像F HQ","augments={'MND+8','Fire Affinity: Avatar perp. cost+3','\"Cure\" potency +3%','Earth resistance+30',}},","MND+8 アフィニティ+4 ケアル回復量+3% ストンスキン+30",null,"T4","Great Axe skill +3","両手斧スキル+3","エカルラートクロス"]
["T5","金","C","VIT+6 HP+20 リゲイン+10 全状態異常のレジスト効果アップ+10","VIT+8 HP+30 リゲイン+15 全状態異常のレジスト効果アップ+15","T5金C",null,"Evasion+20","回避+20",null,"T5像F NQ","augments={'MND+6','Fire Affinity: Avatar perp. cost+3','\"Cure\" potency +2%','Earth resistance+20',}},","MND+6 アフィニティ+4 ケアル回復量+2% ストンスキン+20",null,"T4","Club skill +3","片手棍スキル+3","ベネディクトシルク"]
["T5","金","D","VIT+6 HP+20 FC+4 魔法詠唱中断率-10%","VIT+8 HP+30 FC+4 魔法詠唱中断率-15%","T5金D",null,"Fast Cast+4","FC+4",null,"T5虹C HQ","augments={'Pet: \"Regen\"+10','Pet: Damage taken -5%','Pet: Enmity+30','Pet: STR+10 Pet: DEX+10 Pet: VIT+10',}},","ペット: リジェネ+10 被ダメ-5% 敵対心+30 STR/DEX/VIT+10",null,"T4",null,"短剣スキル+3","フィレレース"]
["T5","金","E","VIT+6 INT+6 魔命+6 魔攻+6 アフィニティ+4","VIT+8 INT+8 魔命+8 魔攻+8 アフィニティ+5","T5金E",null,"Fire Affinity: Avatar perp. cost+3","アフィニティ+4",null,"T5虹C NQ","augments={'Pet: \"Regen\"+5','Pet: Damage taken -4%','Pet: Enmity+20','Pet: STR+5 Pet: DEX+5 Pet: VIT+5',}},","ペット: リジェネ+5 被ダメ-4% 敵対心+20 STR/DEX/VIT+5",null,"T4",null,"格闘スキル+3","天竺金糸"]
["T5","金","F","VIT/STR+5 D+2 WSダメージ+3% TA+4","VIT/STR+7 D+3 WSダメージ+4% TA+4","T5金F",null,"Fire Affinity: Avatar perp. cost+4","アフィニティ+5",null,"T5虹D HQ","augments={'\"Refresh\"+2','\"Blood Pact\" ability delay -3','Pet: Mag. Acc.+20 Pet: \"Mag.Atk.Bns.\"+20','Wind resistance+8',}},","リフレシュ+2 契約の履行使用間隔-3 ペット: 魔命+20 魔攻+20 履行ダメージ+8%",null,"T4",null,"片手刀スキル+3","真田紐"]
["T4","緑","A","AGI+4 D+2 攻+15 ヘイスト+2%","AGI+5 D+3 攻+18 ヘイスト+3%","T4緑A",null,"Fire resistance+10 Ice resistance+10 Wind resistance+10 Earth resistance+10 Lightning resistance+10 Water resistance+10 Light resistance+10 Dark resistance+10","全ての属性耐性+10",null,"T5虹D NQ","augments={'\"Refresh\"+1','\"Blood Pact\" ability delay -2','Pet: Mag. Acc.+10 Pet: \"Mag.Atk.Bns.\"+10','Wind resistance+5',}},","リフレシュ+1 契約の履行使用間隔-2 ペット: 魔命+10 魔攻+10 履行ダメージ+5%",null,"T4",null,"両手刀スキル+3","緋威x1"]
["T4","緑","B","AGI/STR+3 遠隔ダメージ+2 飛攻+15 弓術スキル+3","AGI/STR+4 遠隔ダメージ+3 飛攻+18 弓術スキル+4","T4緑B",null,"Fire resistance+2","遠隔ダメージ+2",null,"T5虹E HQ","augments={'\"Refresh\"+2','Pet: STR+10 Pet: DEX+10 Pet: VIT+10','Pet: Acc.+20 Pet: R.Acc.+20 Pet: Atk.+20 Pet: R.Atk.+20','Pet: \"Dbl.Atk.\"+6 Pet: Crit.hit rate +6',}},",{"$f":"IF(RIGHT(K63, 2) =\"HQ\",  INDEX( E:E, MATCH(LEFT(K63,4),F:F,0)), INDEX( D:D, MATCH(LEFT(K63,4),F:F,0)))","v":"リフレシュ+2 ペット: STR/DEX/VIT+10 命中/飛命/攻/飛攻+20 DA+6 CR率+6"},null,"T4",null,"両手槍スキル+3","コバルトミスリル板"]
["T4","緑","C","AGI/DEX+3 D+2 CR率+2 DA+4","AGI/DEX+4 D+3 CR率+3 DA+3 CR率+3 攻+18","T4緑C",null,"Fire resistance+2","遠隔ダメージ+2",null,"T5虹E NQ","augments={'\"Refresh\"+1','Pet: STR+5 Pet: DEX+5 Pet: VIT+5','Pet: Acc.+20 Pet: R.Acc.+20 Pet: Atk.+20 Pet: R.Atk.+20','Pet: \"Dbl.Atk.\"+5 Pet: Crit.hit rate +5',}},","リフレシュ+1 ペット: STR/DEX/VIT+5 命中/飛命/攻/飛攻+20 DA+5 CR率+5",null,"T4",null,"両手鎌スキル+3","ダークオリハルコン"]
["T4","緑","D","AGI/STR+3 遠隔ダメージ+2 飛命+5 スナップショット+1","AGI/STR+4 遠隔ダメージ+3 飛命+7 スナップショット+2","T4緑D",null,"Fire resistance+20 Ice resistance+20 Wind resistance+20 Earth resistance+20 Lightning resistance+20 Water resistance+20 Light resistance+20 Dark resistance+20","全ての属性耐性+20",null,"T5盟A HQ","augments={'DEX+8','DMG:+3','\"Dual Wield\"+5','Latent effect: \"Regain\"+15',}},","DEX+8 D+3 二刀流+5 リゲイン+15",null,"T4",null,"両手棍スキル+3","ディアボリクシルク"]
["T4","緑","E","AGI/STR+3 遠隔ダメージ+2 飛攻+15 射撃スキル+3","AGI/STR+4 遠隔ダメージ+3 飛攻+18 射撃スキル+4","T4緑E",null,"Fire resistance+3","遠隔ダメージ+3",null,"T5盟A NQ","augments={'DEX+6','DMG:+2','\"Dual Wield\"+3','Latent effect: \"Regain\"+10',}},","DEX+6 D+2 二刀流+3 リゲイン+10",null,"T4",null,"片手剣スキル+3","輝金糸"]
["T4","虹","A","STR/DEX/VIT/AGI/INT/MND+3 CHR+4 D+2 攻+15","STR/DEX/VIT/AGI/INT/MND+4 CHR+6 DMG+3 攻+15","T4虹A",null,"Haste+10","ヘイスト+10%",null,"T5盟C HQ","augments={'DEX+8','DMG:+3','Weapon skill damage +4%','Crit. hit damage +3%',}},","DEX+8 D+3 WSダメージ+4% CRダメージ+3%",null,"T4",null,"両手剣スキル+3","緋絹糸"]
["T4","虹","B","STR/DEX/VIT/AGI/INT/MND+3 CHR+4 D+2 ヘイスト+2%","STR/DEX/VIT/AGI/INT/MND+4 CHR+6 D+3 ヘイスト+3%","T4虹B",null,"Haste+2","ヘイスト+2%",null,"T5盟C NQ","augments={'DEX+6','DMG:+2','Weapon skill damage +3%','\"Triple Atk.\"+4',}},","DEX+6 D+2 WSダメージ+3% TA+4",null,"T4","Fast Cast+4","FC+4","ゼロスオーブ(魔王印章30)"]
["T4","虹","C","ペット: リジェネ+4 被ダメ-4% 魔命+7 魔攻+7 TPボーナス+60","ペット: リジェネ+5 被ダメ-5% 魔命+8 魔攻+8 TPボーナス+80","T4虹C",null,"Haste+3","ヘイスト+3%",null,"T5盟E HQ","augments={'STR+7 DEX+7','DMG:+3','Weapon skill damage +4%','\"Triple Atk.\"+4',}},","DEX/STR+7 D+3 WSダメージ+4% TA+4",null,"T4","Archery skill +3","弓術スキル+3","チャコールコットン"]
["T4","虹","D","INT+4 CHR+4 魔命+6 魔攻+6 魔法スキル+3","INT+4 CHR+4 魔命+6 魔攻+7 魔法スキル+4","T4虹D",null,"Haste+5","ヘイスト+5%",null,"T5盟E NQ","augments={'STR+5 DEX+5','DMG:+2','Weapon skill damage +3%','\"Triple Atk.\"+4',}},","DEX/STR+5 D+2 WSダメージ+3% TA+4",null,"T4","Marksmanship skill +3","射撃スキル+3","トワル"]
["T4","虹","E","ペット: リジェネ+4 被ダメ-4% 命中/飛命/攻/飛攻+20 DA+4 CR率+4","ペット: リジェネ+5 被ダメ-5% 命中/飛命/攻/飛攻+25 DA+6 CR率+6","T4虹E",null,"HP+10","HP+10",null,"T5盟F HQ","augments={'STR+7 DEX+7','DMG:+3','Latent effect: \"Regain\"+15','Quadruple Attack +2',}},","DEX/STR+7 D+3 リゲイン+15 QA+2",null,"T4","Throwing skill +3","投擲スキル+3","ゴールドスタッズ"]
["T4","盟","A","DEX+4 D+2 攻+4 ヘイスト+2%","DEX+5 D+3 攻+6 ヘイスト+3%","T4盟A",null,"HP+15","HP+15",null,"T5盟F NQ","augments={'STR+5 DEX+5','DMG:+2','Latent effect: \"Regain\"+10','Quadruple Attack +1',}},","DEX/STR+5 D+2 リゲイン+10 QA+1",null,"T4","System: 1 ID: 284 Val: 2","ガードスキル+3","エンシェントブラス"]
["T4","盟","B","DEX+4 D+2 ヘイスト+2% DA+4","DEX+5 D+3 ヘイスト+3% DA+4","T4盟B",null,"HP+20","HP+20",null,"T5緑A HQ","augments={'AGI+8','DMG:+3','\"Dual Wield\"+5','Latent effect: \"Regain\"+15',}},","AGI+8 D+3 二刀流+5 リゲイン+15",null,"T4","Shield skill +3","盾スキル+3","ホワイトリベット"]
["T4","盟","C","DEX+4 D+2 攻+15 ヘイスト+2%","DEX+5 D+3 攻+18 ヘイスト+3%","T4盟C",null,"HP+30","HP+30",null,"T5緑A NQ","augments={'AGI+6','DMG:+2','\"Dual Wield\"+3','Latent effect: \"Regain\"+10',}},","AGI+6 D+2 二刀流+3 リゲイン+10",null,"T4","System: 1 ID: 287 Val: 2","受け流しスキル+3","枚くろがね"]
["T4","盟","D","DEX+4 D+2 攻+15 DA+4","DEX+5 D+3 攻+18 DA+4","T4盟D",null,"Ice resistance+1","STR/DEX/VIT/AGI/INT/MND+1",null,"T5緑B HQ","augments={'STR+7 AGI+7','Fire resistance+3','Rng.Atk.+30','Latent effect: \"Regain\"+15',}},","AGI/STR+7 遠隔ダメージ+3 飛攻+30 リゲイン+15",null,"T4","System: 1 ID: 285 Val: 2","回避スキル+3","ライトフィラメント"]
["T4","盟","E","STR/DEX+3 D+2 CR率+2 DA+4","STR/DEX+4 D+3 CR率+3 DA+3 STP+3","T4盟E",null,"INT+4","INT+4",null,"T5緑B NQ","augments={'STR+5 AGI+5','Fire resistance+2','Rng.Atk.+20','Latent effect: \"Regain\"+10',}},","AGI/STR+5 遠隔ダメージ+2 飛攻+20 リゲイン+10",null,"T4","Divine magic skill +3","神聖魔法スキル+3","ベネディクトヤーン"]
["T4","銀","A","INT+4 魔命+6 魔攻+6 FC+4 ヘイスト+2%","INT+5 魔命+7 魔攻+7 FC+4 ヘイスト+3%","T4銀A",null,"INT+5","INT+5",null,"T5緑C HQ","augments={'DEX+7 AGI+7','DMG:+3','Weapon skill damage +4%','System: 1 ID: 132 Val: 3',}},","AGI/DEX+7 D+3 WSダメージ+4% DA+4 CR率+4",null,"T4","Healing magic skill +3","回復魔法スキル+3","フェティドラノリン"]
["T4","銀","B","INT+4 魔命+6 魔攻+6 契約の履行使用間隔-1 ペット: 魔命+6 魔攻+6","INT+5 魔命+7 魔攻+7 契約の履行使用間隔-2 ペット: 魔命+7 魔攻+7","T4銀B",null,"INT+6","INT+6",null,"T5緑C NQ","augments={'DEX+5 AGI+5','DMG:+2','Weapon skill damage +3%','System: 1 ID: 132 Val: 1',}},","AGI/DEX+5 D+2 WSダメージ+3% DA+2 CR率+2",null,"T4","Enha.mag. skill +3","強化魔法スキル+3","エレクトラスタッズ"]
["T4","銀","C","INT+4 魔命+6 魔攻+6 精霊魔法スキル+3 魔法ダメージ+5","INT+5 魔命+7 魔攻+7 精霊魔法スキル+4 魔法ダメージ+10","T4銀C",null,"INT+8","INT+8",null,"T5緑E HQ","augments={'AGI+8','Fire Affinity: Avatar perp. cost+4','Weapon skill damage +4%','System: 1 ID: 131 Val: 7',}},","AGI+8 アフィニティ+5 WSダメージ+4% 魔命+8 魔攻+8",null,"T4","Enfb.mag. skill +3","弱体魔法スキル+3","カーディナルクロス"]
["T4","銀","D","INT+4 魔命+6 魔攻+6 FC+4 遁術ダメージ+3%","INT+5 魔命+7 魔攻+7 FC+4 遁術ダメージ+4%","T4銀D",null,"Latent effect: Regain+10","リゲイン+10",null,"T5緑E NQ","augments={'AGI+6','Fire Affinity: Avatar perp. cost+4','Weapon skill damage +3%','System: 1 ID: 131 Val: 5',}},","AGI+6 アフィニティ+5 WSダメージ+3% 魔命+6 魔攻+6",null,"T4","Elem. magic skill +3","精霊魔法スキル+3","ディアボリクヤーン"]
["T4","銀","E","INT+4 魔命+6 魔攻+6 暗黒魔法+3 ドレイン&アスピル吸収量+2","INT+5 魔命+7 魔攻+7 暗黒魔法+4 ドレイン&アスピル吸収量+3","T4銀E",null,"Latent effect: Regain+15","リゲイン+15",null,"T5緑F HQ","augments={'DEX+7 AGI+7','Enmity+15','Evasion+20','HP+30',}},","AGI/DEX+7 敵対心+15 回避+20 HP+30",null,"T4","Dark magic skill +3","暗黒魔法スキル+3","ブラックリベット"]
["T4","像","A","MND+4 MP+10 FC+4 クイックマジック+1","MND+5 MP+15 FC+4 クイックマジック+2","T4像A",null,"Lightning resistance+3","ケアル回復量をMPに還元3%",null,"T5緑F NQ","augments={'DEX+5 AGI+5','Enmity+10','Evasion+15','HP+20',}},","AGI/DEX+5 敵対心+10 回避+15 HP+20",null,"T4","Summoning magic skill +3","召喚魔法スキル+3","アストラルレザー"]
["T4","像","B","MND+4 MP+10 FC+4 魔命+6 魔攻+6","MND+5 MP+15 FC+4 魔命+7 魔攻+7","T4像B",null,"Lightning resistance+5","ケアル回復量をMPに還元5%",null,null,null,null,null,"T4","Ninjutsu skill +3","忍術スキル+3","烏漆"]
["T4","像","C","MND/STR+3 D+2 攻+15 命中+4","MND/STR+4 D+3 攻+18 命中+6","T4像C",null,"Mag.Def.Bns.+3","魔防+3",null,null,null,null,null,"T4","Singing skill +3","歌唱スキル+3","ブラウンドスキン"]
["T4","像","D","MND/STR+3 D+2 攻+15 ヘイスト+2%","MND/STR+4 D+3 攻+18 ヘイスト+3%",{"$f":"A85 & B85 & C85","v":"T4像D"},null,"Mag.Def.Bns.+5","魔防+5",null,null,null,null,null,"T4","Blue Magic skill +3","青魔法スキル+3","ファイアクロス"]
["T4","像","E","MND+4 MP+10 ケアル回復量+2% ストンスキン+20(HP)","MND+5 MP+15 ケアル回復量+2% ストンスキン+20(HP)","T4像E",null,"Magic Damage +10","魔法ダメージ+10",null,null,null,null,null,"T3","DMG:+2","D値+2","龍の血x1"]
["T4","赤","A","STR+4 D+2 攻+15 ヘイスト+2%","STR+5 D+3 攻+18 ヘイスト+3%","T4赤A",null,"Magic Damage +15","魔法ダメージ+15",null,null,null,null,null,"T3","HP+10","HP+10","炎のクリスタルx2"]
["T4","赤","B","STR+4 D+2 攻+15 DA+4","STR+5 D+3 攻+18 DA+5","T4赤B",null,"Marksmanship skill +3","射撃スキル+3",null,null,null,null,null,"T3","MP+10","MP+10","氷のクリスタルx2"]
["T4","赤","C","STR+4 D+2 CR率+2 DA+4","STR+5 D+3 CR率+3 攻+18 DA+3","T4赤C",null,"MND+4","MND+4",null,null,null,null,null,"T3","STR+4","STR+4","風のクリスタルx2"]
["T4","赤","D","STR/AGI+4 遠隔ダメージ+2 飛攻+15 スナップショット+2","STR/AGI+5 遠隔ダメージ+3 飛攻+18 スナップショット+3","T4赤D",null,"MND+5","MND+5",null,null,null,null,null,"T3","DEX+4","DEX+4","土のクリスタルx2"]
["T4","赤","E","STR+4 D+2 STP+2 DA+4","STR+5 D+3 DA+3 STP+3 CR率+3","T4赤E",null,"MND+6","MND+6",null,null,null,null,null,"T3","VIT+4","VIT+4","雷のクリスタルx2"]
["T4","金","A","VIT+4 D+2 攻+15 ヘイスト+2%","VIT+5 D+2 攻+18 ヘイスト+3%","T4金A",null,"MND+8","MND+8",null,null,null,null,null,"T3","AGI+4","AGI+4","水のクリスタルx2"]
["T4","金","B","VIT+4 防+15 HP+10 魔法詠唱中断率+1%","VIT+8 防+18 HP+15 魔法詠唱中断率+3%","T4金B",null,"MP+10","MP+10",null,null,null,null,null,"T3","INT+4","INT+4","光のクリスタルx2"]
["T4","金","C","VIT+4 防+15 HP+10 ヘイスト+2%","VIT+5 防+18 HP+15 ヘイスト+3%","T4金C",null,"MP+15","MP+15",null,null,null,null,null,"T3","MND+4","MND+4","闇のクリスタルx2"]
["T4","金","D","VIT+3 防+15 HP+10 全状態異常のレジスト効果アップ+10","VIT+5 防+18 HP+15 全状態異常のレジスト効果アップ+15","T4金D",null,"MP+20","MP+20",null,null,null,null,null,"T3","CHR+4","CHR+4","獣人の血x2"]
["T4","金","E","VIT+4 防+15 HP+10 ペット: DA+4 CR率+4","VIT+5 防+18 HP+15 ペット: DA+6 CR率+6","T4金E",null,"Occ. inc. resist. to stat. ailments +10","全状態異常のレジスト効果アップ+10",null,null,null,null,null,"T3","System: 1 ID: 1488 Val: 2","忍術ダメージ+3","ユタンガの硫黄"]
["T2","虹","C","CHR+2 STR/DEX/VIT/AGI/INT/MND+1 ペット: 魔命+4 魔攻+4 DA+4 CR率+4","CHR+3 STR/DEX/VIT/AGI/INT/MND+1 ペット: 魔命+5 魔攻+5 DA+5 CR率+5","T2虹C",null,"Occ. inc. resist. to stat. ailments +15","全状態異常のレジスト効果アップ+15",null,null,null,null,null,"T3","System: 1 ID: 131 Val: 5","魔命/魔攻+6","水の塊x12、ルフェ湖の塩x12"]
[null,null,null,null,null,null,null,"Pet: Acc.+20 Pet: R.Acc.+20 Pet: Atk.+20 Pet: R.Atk.+20","命中/飛命/攻/飛攻+20",null,null,null,null,null,"T3","Accuracy+4","命中+4","アーリマンのレンズx3"]
[null,null,null,null,null,null,null,"Pet: Damage taken -4%","被ダメ-4%",null,null,null,null,null,"T3","Rng.Acc.+4","飛命+4","ボヤーダ苔x3"]
[null,null,null,null,null,null,null,"Pet: Damage taken -5%","被ダメ-5%",null,null,null,null,null,"T3","Fire resistance+2","耐火+2","王城の設計図"]
[null,null,null,null,null,null,null,"Pet: Dbl.Atk.+4 Pet: Crit.hit rate +4","DA+4 CR率+4",null,null,null,null,null,"T2","Attack+10","攻+10","炎の塊"]
[null,null,null,null,null,null,null,"Pet: Dbl.Atk.+5 Pet: Crit.hit rate +5","DA+5 CR率+5",null,null,null,null,null,"T2","Fast Cast+2","FC+2","氷の塊"]
[null,null,null,null,null,null,null,"Pet: Dbl.Atk.+6 Pet: Crit.hit rate +6","DA+6 CR率+6",null,null,null,null,null,"T2","Dbl.Atk.+1","ダブルアタック+1","風の塊"]
[null,null,null,null,null,null,null,"Pet: Enmity+20","敵対心+20",null,null,null,null,null,"T2","System: 1 ID: 131 Val: 1","魔命+2　魔攻+2","水の塊"]
[null,null,null,null,null,null,null,"Pet: Enmity+30","敵対心+30",null,null,null,null,null,"T2","Haste+2","ヘイスト+2%","雷の塊"]
[null,null,null,null,null,null,null,"Pet: Mag. Acc.+10 Pet: Mag.Atk.Bns.+10","魔命+10 魔攻+10",null,null,null,null,null,"T2","Pet: Mag. Acc.+4 Pet: Mag.Atk.Bns.+4","魔命+4 魔攻+4","光の塊"]
[null,null,null,null,null,null,null,"Pet: Mag. Acc.+20 Pet: Mag.Atk.Bns.+20","魔命+20 魔攻+20",null,null,null,null,null,"T2","Pet: Dbl.Atk.+4 Pet: Crit.hit rate +4","ダブルアタック+4 クリティカル+4%","闇の塊"]
[null,null,null,null,null,null,null,"Pet: Mag. Acc.+4 Pet: Mag.Atk.Bns.+4","魔命+4 魔攻+4",null,null,null,null,null,"T2","Enmity+2","敵対心+2","アイアンインゴット"]
[null,null,null,null,null,null,null,"Pet: Mag. Acc.+6 Pet: Mag.Atk.Bns.+6","魔命+6 魔攻+6",null,null,null,null,null,"T2","Enmity-2","敵対心-2","羊毛"]
[null,null,null,null,null,null,null,"Pet: Mag. Acc.+7 Pet: Mag.Atk.Bns.+7","魔命+7 魔攻+7",null,null,null,null,null,"T2","Blood Pact ability delay -1","契約の履行使用間隔-1","クラウディオーブ"]
[null,null,null,null,null,null,null,"Pet: Mag. Acc.+8 Pet: Mag.Atk.Bns.+8","魔命+8 魔攻+8",null,null,null,null,null,"T2","Cure Potency+1","ケアル回復量+1%","スカイオーブ"]
[null,null,null,null,null,null,null,"Pet: Regen+10","リジェネ+10",null,null,null,null,null,"T2","Rng.Atk.+10","飛攻+10","ミスリルインゴット"]
[null,null,null,null,null,null,null,"Pet: Regen+4","リジェネ+4",null,null,null,null,null,"T2","DEF+10","防+10","陸ガニの甲殻"]
[null,null,null,null,null,null,null,"Pet: Regen+5","リジェネ+5",null,null,null,null,null,"T2","Accuracy+2","命中+2","モルボルのつる"]
[null,null,null,null,null,null,null,"Pet: STR+10 Pet: DEX+10 Pet: VIT+10","STR/DEX/VIT+10",null,null,null,null,null,"T2","Rng.Acc.+2","飛命+2","エルム材"]
[null,null,null,null,null,null,null,"Pet: STR+5 Pet: DEX+5 Pet: VIT+5","STR/DEX/VIT+5",null,null,null,null,null,"T2",null,"スナップショット+1%","スターオーブ"]
[null,null,null,null,null,null,null,"Pet: TP Bonus+60","TPボーナス+60",null,null,null,null,null,"T1","HP+5","HP+5","炎のクリスタル"]
[null,null,null,null,null,null,null,"Pet: TP Bonus+80","TPボーナス+80",null,null,null,null,null,"T1","MP+5","MP+5","氷のクリスタル"]
[null,null,null,null,null,null,null,"Quadruple Attack +1","QA+1",null,null,null,null,null,"T1","STR+2","STR+2","風のクリスタル"]
[null,null,null,null,null,null,null,"Quadruple Attack +2","QA+2",null,null,null,null,null,"T1","DEX+2","DEX+2","土のクリスタル"]
[null,null,null,null,null,null,null,"Refresh+1","リフレシュ+1",null,null,null,null,null,"T1","VIT+2","VIT+2","雷のクリスタル"]
[null,null,null,null,null,null,null,"Refresh+2","リフレシュ+2",null,null,null,null,null,"T1","AGI+2","AGI+2","水のクリスタル"]
[null,null,null,null,null,null,null,"Rng.Atk.+15","飛攻+15",null,null,null,null,null,"T1","INT+2","INT+2","光のクリスタル"]
[null,null,null,null,null,null,null,"Rng.Atk.+20","飛攻+20",null,null,null,null,null,"T1","MND+2","MND+2","闇のクリスタル"]
[null,null,null,null,null,null,null,"Rng.Atk.+30","飛攻+30",null,null,null,null,null,"T1","CHR+2","CHR+2","獣人の血"]
[null,null,null,null,null,null,null,"Sklchn.dmg.+10%","連携ダメージ+10%",null,null,null,null,null,"T1","Accuracy+1","命中+1","目薬"]
[null,null,null,null,null,null,null,"Sklchn.dmg.+5%","連携ダメージ+5%",null,null,null,null,null,"T1","Rng.Acc.+1","飛命+1","野兎の毛皮"]
[null,null,null,null,null,null,null,"Spell interruption rate down +1%","魔法詠唱中断率+1%",null,null,null,null,null,"T1","Attack+5","攻+5","甲虫の甲殻"]
[null,null,null,null,null,null,null,"Spell interruption rate down +3%","魔法詠唱中断率+3%",null,null,null,null,null,"T1","Rng.Atk.+5","飛攻+5","蜂蜜"]
[null,null,null,null,null,null,null,"Spell interruption rate down -10%","魔法詠唱中断率-10%",null,null,null,null,null,"T1","Evasion+1","回避+1","鳥の羽根x2"]
[null,null,null,null,null,null,null,"Spell interruption rate down -15%","魔法詠唱中断率-15%",null,null,null,null,null,"T1","DEF+5","防+5","クゥダフの背甲"]
[null,null,null,null,null,null,null,"Store TP+3","STP+3"]
[null,null,null,null,null,null,null,"STR+3 AGI+3","AGI/STR+3"]
[null,null,null,null,null,null,null,"STR+4","STR+4"]
[null,null,null,null,null,null,null,"STR+4 DEX+4","STR/DEX+4"]
[null,null,null,null,null,null,null,"STR+5","STR+5"]
[null,null,null,null,null,null,null,"STR+5 AGI+5","AGI/STR+5"]
[null,null,null,null,null,null,null,"STR+5 DEX+5","DEX/STR+5"]
[null,null,null,null,null,null,null,"STR+6","STR+6"]
[null,null,null,null,null,null,null,"STR+7 AGI+7","AGI/STR+7"]
[null,null,null,null,null,null,null,"STR+7 DEX+7","DEX/STR+7"]
[null,null,null,null,null,null,null,"STR+7 MND+7","MND/STR+7"]
[null,null,null,null,null,null,null,"STR+8","STR+8"]
[null,null,null,null,null,null,null,"System: 1 ID: 131 Val: 5","魔命+6 魔攻+6"]
[null,null,null,null,null,null,null,"System: 1 ID: 131 Val: 6","魔命+7 魔攻+7"]
[null,null,null,null,null,null,null,"System: 1 ID: 131 Val: 7","魔命+8 魔攻+8"]
[null,null,null,null,null,null,null,"System: 1 ID: 132 Val: 1","DA+2 CR率+2"]
[null,null,null,null,null,null,null,"System: 1 ID: 132 Val: 2","CR率+3 DA+3"]
[null,null,null,null,null,null,null,"System: 1 ID: 132 Val: 3","DA+4 CR率+4"]
[null,null,null,null,null,null,null,"Triple Atk.+4","TA+4"]
[null,null,null,null,null,null,null,"VIT+3","VIT+3"]
[null,null,null,null,null,null,null,"VIT+4","VIT+4"]
[null,null,null,null,null,null,null,"VIT+5","VIT+5"]
[null,null,null,null,null,null,null,"VIT+6","VIT+6"]
[null,null,null,null,null,null,null,"VIT+8","VIT+8"]
[null,null,null,null,null,null,null,"Weapon skill damage +3%","WSダメージ+3%"]
[null,null,null,null,null,null,null,"Weapon skill damage +4%","WSダメージ+4%"]
[null,null,null,null,null,null,null,"Wind resistance+5","履行ダメージ+5%"]
[null,null,null,null,null,null,null,"Wind resistance+8","履行ダメージ+8%"]

{"sheet":"アイテム検索(findAll)","index":1,"n_rows":11,"n_cols":8,"rows_kept":11,"cut":false,"hidden":false,"merged":[]}
["アイテム検索(findAll)"]
[null,null,null,null,null,null,"CTRL+SHIFT+G","アイテム検索(GearSwap) シートを表示"]
[null,null,null,null,null,null,"CTRL+SHIFT+F","アイテム検索(findAll) シートを表示"]
[null,null,null,null,null,null,"CTRL+SHIFT+S","キャラ名が記載されているセルを選択して、CTRL+SHIFT+Sでそのシートに移動"]
["finaAll CSV:",null,"C:\\Program Files (x86)\\Windower4\\addons\\findAll\\data\\result.CSV",null,null,null,"CTRL+SHIFT+B","CTRL+SHIFT+Sでシート移動するときに表示していたシートに戻る"]
[null,null,null,null,null,null,"CTRL+SHIFT+O","ハイライトしたセルに書かれたluaファイルを開く"]
["検索キーワード："]
[]
[]
[]
[null,null,"キャラ","アイテム","ストレージ","個数"]

{"sheet":"アイテム検索(GearSwap)","index":2,"n_rows":24,"n_cols":7,"rows_kept":24,"cut":false,"hidden":false,"merged":[]}
["アイテム検索(GearSwap)"]
[null,null,null,null,null,"CTRL+SHIFT+G","アイテム検索(GearSwap) シートを表示"]
[null,null,null,null,null,"CTRL+SHIFT+F","アイテム検索(findAll) シートを表示"]
[null,null,null,null,null,"CTRL+SHIFT+S","キャラ名が記載されているセルを選択して、CTRL+SHIFT+Sでそのシートに移動"]
["GearSwap export:","C:\\Program Files (x86)\\Windower4\\addons\\GearSwap\\data\\export",null,null,null,"CTRL+SHIFT+B","CTRL+SHIFT+Sでシート移動するときに表示していたシートに戻る"]
["Windower4 res:","C:\\Program Files (x86)\\Windower4\\res",null,null,null,"CTRL+SHIFT+O","ハイライトしたセルに書かれたluaファイルを開く"]
[null,null,null,null,null,"CTRL+SHIFT+C","G列↓のセルをハイライトして実行すると、Gオーグメントの元になったアイテムを表示"]
["アイテム名："]
["オーグメント：1"]
[2]
[3]
[4,null,null,"キャラ","アイテム","モグチケット","オーグメント"]
[]
["モグチケット：1"]
[2]
[3]
[4]
[]
["キャラ：1"]
[2]
[3]
[4]
[]
["And/OR："]

{"sheet":"進捗メモ","index":3,"n_rows":106,"n_cols":9,"rows_kept":106,"cut":false,"hidden":false,"merged":[]}
[]
[]
[]
[]
[null,null,"Char1","Char2","Char3","Char4","Char5","Char6"]
[]
[]
["テンプレート：AF2防具"]
[null,"サマナーホーン",{"$f":"IF( ISNA(MATCH(C$5&$B9, CSV!$E:$E, 0)), \"\", \"〇\")","v":""},{"$f":"IF( ISNA(MATCH(D$5&$B9, CSV!$E:$E, 0)), \"\", \"〇\")","v":""},{"$f":"IF( ISNA(MATCH(E$5&$B9, CSV!$E:$E, 0)), \"\", \"〇\")","v":""},{"$f":"IF( ISNA(MATCH(F$5&$B9, CSV!$E:$E, 0)), \"\", \"〇\")","v":""},{"$f":"IF( ISNA(MATCH(G$5&$B9, CSV!$E:$E, 0)), \"\", \"〇\")","v":""},{"$f":"IF( ISNA(MATCH(H$5&$B9, CSV!$E:$E, 0)), \"\", \"〇\")","v":""},"ザルカ、タブナジア"]
[null,"サマナーダブレット",{"$f":"IF( ISNA(MATCH(C$5&$B10, CSV!$E:$E, 0)), \"\", \"〇\")","v":""},{"$f":"IF( ISNA(MATCH(D$5&$B10, CSV!$E:$E, 0)), \"\", \"〇\")","v":""},{"$f":"IF( ISNA(MATCH(E$5&$B10, CSV!$E:$E, 0)), \"\", \"〇\")","v":""},{"$f":"IF( ISNA(MATCH(F$5&$B10, CSV!$E:$E, 0)), \"\", \"〇\")","v":""},{"$f":"IF( ISNA(MATCH(G$5&$B10, CSV!$E:$E, 0)), \"\", \"〇\")","v":""},{"$f":"IF( ISNA(MATCH(H$5&$B10, CSV!$E:$E, 0)), \"\", \"〇\")","v":""},"ボスディン、タブナジア"]
[null,"サマナーブレーサー",{"$f":"IF( ISNA(MATCH(C$5&$B11, CSV!$E:$E, 0)), \"\", \"〇\")","v":""},{"$f":"IF( ISNA(MATCH(D$5&$B11, CSV!$E:$E, 0)), \"\", \"〇\")","v":""},{"$f":"IF( ISNA(MATCH(E$5&$B11, CSV!$E:$E, 0)), \"\", \"〇\")","v":""},{"$f":"IF( ISNA(MATCH(F$5&$B11, CSV!$E:$E, 0)), \"\", \"〇\")","v":""},{"$f":"IF( ISNA(MATCH(G$5&$B11, CSV!$E:$E, 0)), \"\", \"〇\")","v":""},{"$f":"IF( ISNA(MATCH(H$5&$B11, CSV!$E:$E, 0)), \"\", \"〇\")","v":""},"バス、ブブリム"]
[null,"サマナースパッツ",{"$f":"IF( ISNA(MATCH(C$5&$B12, CSV!$E:$E, 0)), \"\", \"〇\")","v":""},{"$f":"IF( ISNA(MATCH(D$5&$B12, CSV!$E:$E, 0)), \"\", \"〇\")","v":""},{"$f":"IF( ISNA(MATCH(E$5&$B12, CSV!$E:$E, 0)), \"\", \"〇\")","v":""},{"$f":"IF( ISNA(MATCH(F$5&$B12, CSV!$E:$E, 0)), \"\", \"〇\")","v":""},{"$f":"IF( ISNA(MATCH(G$5&$B12, CSV!$E:$E, 0)), \"\", \"〇\")","v":""},{"$f":"IF( ISNA(MATCH(H$5&$B12, CSV!$E:$E, 0)), \"\", \"〇\")","v":""},"ウィン、バルクルム"]
[null,"サマナーピガッシュ",{"$f":"IF( ISNA(MATCH(C$5&$B13, CSV!$E:$E, 0)), \"\", \"〇\")","v":""},{"$f":"IF( ISNA(MATCH(D$5&$B13, CSV!$E:$E, 0)), \"\", \"〇\")","v":""},{"$f":"IF( ISNA(MATCH(E$5&$B13, CSV!$E:$E, 0)), \"\", \"〇\")","v":""},{"$f":"IF( ISNA(MATCH(F$5&$B13, CSV!$E:$E, 0)), \"\", \"〇\")","v":""},{"$f":"IF( ISNA(MATCH(G$5&$B13, CSV!$E:$E, 0)), \"\", \"〇\")","v":""},{"$f":"IF( ISNA(MATCH(H$5&$B13, CSV!$E:$E, 0)), \"\", \"〇\")","v":""},"サンド、クフィム"]
[null,null,{"$f":"IF( ISNA(MATCH(C$5&$B14, CSV!$E:$E, 0)), \"\", \"〇\")","v":""},{"$f":"IF( ISNA(MATCH(D$5&$B14, CSV!$E:$E, 0)), \"\", \"〇\")","v":""},{"$f":"IF( ISNA(MATCH(E$5&$B14, CSV!$E:$E, 0)), \"\", \"〇\")","v":""},{"$f":"IF( ISNA(MATCH(F$5&$B14, CSV!$E:$E, 0)), \"\", \"〇\")","v":""},{"$f":"IF( ISNA(MATCH(G$5&$B14, CSV!$E:$E, 0)), \"\", \"〇\")","v":""},{"$f":"IF( ISNA(MATCH(H$5&$B14, CSV!$E:$E, 0)), \"\", \"〇\")","v":""}]
[null,"ＳＭホーン-1",{"$f":"IF( ISNA(MATCH(C$5&$B15, CSV!$E:$E, 0)), \"\", \"〇\")","v":""},{"$f":"IF( ISNA(MATCH(D$5&$B15, CSV!$E:$E, 0)), \"\", \"〇\")","v":""},{"$f":"IF( ISNA(MATCH(E$5&$B15, CSV!$E:$E, 0)), \"\", \"〇\")","v":""},{"$f":"IF( ISNA(MATCH(F$5&$B15, CSV!$E:$E, 0)), \"\", \"〇\")","v":""},{"$f":"IF( ISNA(MATCH(G$5&$B15, CSV!$E:$E, 0)), \"\", \"〇\")","v":""},{"$f":"IF( ISNA(MATCH(H$5&$B15, CSV!$E:$E, 0)), \"\", \"〇\")","v":""},"バルクルム"]
[null,"ＳＭダブレット-1",{"$f":"IF( ISNA(MATCH(C$5&$B16, CSV!$E:$E, 0)), \"\", \"〇\")","v":""},{"$f":"IF( ISNA(MATCH(D$5&$B16, CSV!$E:$E, 0)), \"\", \"〇\")","v":""},{"$f":"IF( ISNA(MATCH(E$5&$B16, CSV!$E:$E, 0)), \"\", \"〇\")","v":""},{"$f":"IF( ISNA(MATCH(F$5&$B16, CSV!$E:$E, 0)), \"\", \"〇\")","v":""},{"$f":"IF( ISNA(MATCH(G$5&$B16, CSV!$E:$E, 0)), \"\", \"〇\")","v":""},{"$f":"IF( ISNA(MATCH(H$5&$B16, CSV!$E:$E, 0)), \"\", \"〇\")","v":""},"タブナジア"]
[null,"ＳＭブレーサー-1",{"$f":"IF( ISNA(MATCH(C$5&$B17, CSV!$E:$E, 0)), \"\", \"〇\")","v":""},{"$f":"IF( ISNA(MATCH(D$5&$B17, CSV!$E:$E, 0)), \"\", \"〇\")","v":""},{"$f":"IF( ISNA(MATCH(E$5&$B17, CSV!$E:$E, 0)), \"\", \"〇\")","v":""},{"$f":"IF( ISNA(MATCH(F$5&$B17, CSV!$E:$E, 0)), \"\", \"〇\")","v":""},{"$f":"IF( ISNA(MATCH(G$5&$B17, CSV!$E:$E, 0)), \"\", \"〇\")","v":""},{"$f":"IF( ISNA(MATCH(H$5&$B17, CSV!$E:$E, 0)), \"\", \"〇\")","v":""},"ブブリム"]
[null,"ＳＭスパッツ-1",{"$f":"IF( ISNA(MATCH(C$5&$B18, CSV!$E:$E, 0)), \"\", \"〇\")","v":""},{"$f":"IF( ISNA(MATCH(D$5&$B18, CSV!$E:$E, 0)), \"\", \"〇\")","v":""},{"$f":"IF( ISNA(MATCH(E$5&$B18, CSV!$E:$E, 0)), \"\", \"〇\")","v":""},{"$f":"IF( ISNA(MATCH(F$5&$B18, CSV!$E:$E, 0)), \"\", \"〇\")","v":""},{"$f":"IF( ISNA(MATCH(G$5&$B18, CSV!$E:$E, 0)), \"\", \"〇\")","v":""},{"$f":"IF( ISNA(MATCH(H$5&$B18, CSV!$E:$E, 0)), \"\", \"〇\")","v":""},"タブナジア"]
[null,"ＳＭピガッシュ-1",{"$f":"IF( ISNA(MATCH(C$5&$B19, CSV!$E:$E, 0)), \"\", \"〇\")","v":""},{"$f":"IF( ISNA(MATCH(D$5&$B19, CSV!$E:$E, 0)), \"\", \"〇\")","v":""},{"$f":"IF( ISNA(MATCH(E$5&$B19, CSV!$E:$E, 0)), \"\", \"〇\")","v":""},{"$f":"IF( ISNA(MATCH(F$5&$B19, CSV!$E:$E, 0)), \"\", \"〇\")","v":""},{"$f":"IF( ISNA(MATCH(G$5&$B19, CSV!$E:$E, 0)), \"\", \"〇\")","v":""},{"$f":"IF( ISNA(MATCH(H$5&$B19, CSV!$E:$E, 0)), \"\", \"〇\")","v":""},"クフィム"]
[null,null,{"$f":"IF( ISNA(MATCH(C$5&$B20, CSV!$E:$E, 0)), \"\", \"〇\")","v":""},{"$f":"IF( ISNA(MATCH(D$5&$B20, CSV!$E:$E, 0)), \"\", \"〇\")","v":""},{"$f":"IF( ISNA(MATCH(E$5&$B20, CSV!$E:$E, 0)), \"\", \"〇\")","v":""},{"$f":"IF( ISNA(MATCH(F$5&$B20, CSV!$E:$E, 0)), \"\", \"〇\")","v":""},{"$f":"IF( ISNA(MATCH(G$5&$B20, CSV!$E:$E, 0)), \"\", \"〇\")","v":""},{"$f":"IF( ISNA(MATCH(H$5&$B20, CSV!$E:$E, 0)), \"\", \"〇\")","v":""}]
[null,"ＳＭホーン+1",{"$f":"IF( ISNA(MATCH(C$5&$B21, CSV!$E:$E, 0)), \"\", \"〇\")","v":""},{"$f":"IF( ISNA(MATCH(D$5&$B21, CSV!$E:$E, 0)), \"\", \"〇\")","v":""},{"$f":"IF( ISNA(MATCH(E$5&$B21, CSV!$E:$E, 0)), \"\", \"〇\")","v":""},{"$f":"IF( ISNA(MATCH(F$5&$B21, CSV!$E:$E, 0)), \"\", \"〇\")","v":""},{"$f":"IF( ISNA(MATCH(G$5&$B21, CSV!$E:$E, 0)), \"\", \"〇\")","v":""},{"$f":"IF( ISNA(MATCH(H$5&$B21, CSV!$E:$E, 0)), \"\", \"〇\")","v":""}]
[null,"ＳＭダブレット+1",{"$f":"IF( ISNA(MATCH(C$5&$B22, CSV!$E:$E, 0)), \"\", \"〇\")","v":""},{"$f":"IF( ISNA(MATCH(D$5&$B22, CSV!$E:$E, 0)), \"\", \"〇\")","v":""},{"$f":"IF( ISNA(MATCH(E$5&$B22, CSV!$E:$E, 0)), \"\", \"〇\")","v":""},{"$f":"IF( ISNA(MATCH(F$5&$B22, CSV!$E:$E, 0)), \"\", \"〇\")","v":""},{"$f":"IF( ISNA(MATCH(G$5&$B22, CSV!$E:$E, 0)), \"\", \"〇\")","v":""},{"$f":"IF( ISNA(MATCH(H$5&$B22, CSV!$E:$E, 0)), \"\", \"〇\")","v":""}]
[null,"ＳＭブレーサー+1",{"$f":"IF( ISNA(MATCH(C$5&$B23, CSV!$E:$E, 0)), \"\", \"〇\")","v":""},{"$f":"IF( ISNA(MATCH(D$5&$B23, CSV!$E:$E, 0)), \"\", \"〇\")","v":""},{"$f":"IF( ISNA(MATCH(E$5&$B23, CSV!$E:$E, 0)), \"\", \"〇\")","v":""},{"$f":"IF( ISNA(MATCH(F$5&$B23, CSV!$E:$E, 0)), \"\", \"〇\")","v":""},{"$f":"IF( ISNA(MATCH(G$5&$B23, CSV!$E:$E, 0)), \"\", \"〇\")","v":""},{"$f":"IF( ISNA(MATCH(H$5&$B23, CSV!$E:$E, 0)), \"\", \"〇\")","v":""}]
[null,"ＳＭスパッツ+1",{"$f":"IF( ISNA(MATCH(C$5&$B24, CSV!$E:$E, 0)), \"\", \"〇\")","v":""},{"$f":"IF( ISNA(MATCH(D$5&$B24, CSV!$E:$E, 0)), \"\", \"〇\")","v":""},{"$f":"IF( ISNA(MATCH(E$5&$B24, CSV!$E:$E, 0)), \"\", \"〇\")","v":""},{"$f":"IF( ISNA(MATCH(F$5&$B24, CSV!$E:$E, 0)), \"\", \"〇\")","v":""},{"$f":"IF( ISNA(MATCH(G$5&$B24, CSV!$E:$E, 0)), \"\", \"〇\")","v":""},{"$f":"IF( ISNA(MATCH(H$5&$B24, CSV!$E:$E, 0)), \"\", \"〇\")","v":""}]
[null,"ＳＭピガッシュ+1",{"$f":"IF( ISNA(MATCH(C$5&$B25, CSV!$E:$E, 0)), \"\", \"〇\")","v":""},{"$f":"IF( ISNA(MATCH(D$5&$B25, CSV!$E:$E, 0)), \"\", \"〇\")","v":""},{"$f":"IF( ISNA(MATCH(E$5&$B25, CSV!$E:$E, 0)), \"\", \"〇\")","v":""},{"$f":"IF( ISNA(MATCH(F$5&$B25, CSV!$E:$E, 0)), \"\", \"〇\")","v":""},{"$f":"IF( ISNA(MATCH(G$5&$B25, CSV!$E:$E, 0)), \"\", \"〇\")","v":""},{"$f":"IF( ISNA(MATCH(H$5&$B25, CSV!$E:$E, 0)), \"\", \"〇\")","v":""}]
[]
["x1","サマナーホーン",{"$f":"SUMIF(CSV!$E:$E, C$5&$B27, CSV!$D:$D)","v":0},{"$f":"SUMIF(CSV!$E:$E, D$5&$B27, CSV!$D:$D)","v":0},{"$f":"SUMIF(CSV!$E:$E, E$5&$B27, CSV!$D:$D)","v":0},{"$f":"SUMIF(CSV!$E:$E, F$5&$B27, CSV!$D:$D)","v":0},{"$f":"SUMIF(CSV!$E:$E, G$5&$B27, CSV!$D:$D)","v":0},{"$f":"SUMIF(CSV!$E:$E, H$5&$B27, CSV!$D:$D)","v":0}]
["x3","ウルフフェルト",{"$f":"SUMIF(CSV!$E:$E, C$5&$B28, CSV!$D:$D)","v":0},{"$f":"SUMIF(CSV!$E:$E, D$5&$B28, CSV!$D:$D)","v":0},{"$f":"SUMIF(CSV!$E:$E, E$5&$B28, CSV!$D:$D)","v":0},{"$f":"SUMIF(CSV!$E:$E, F$5&$B28, CSV!$D:$D)","v":0},{"$f":"SUMIF(CSV!$E:$E, G$5&$B28, CSV!$D:$D)","v":0},{"$f":"SUMIF(CSV!$E:$E, H$5&$B28, CSV!$D:$D)","v":0}]
["x1","神代木",{"$f":"SUMIF(CSV!$E:$E, C$5&$B29, CSV!$D:$D)","v":0},{"$f":"SUMIF(CSV!$E:$E, D$5&$B29, CSV!$D:$D)","v":0},{"$f":"SUMIF(CSV!$E:$E, E$5&$B29, CSV!$D:$D)","v":0},{"$f":"SUMIF(CSV!$E:$E, F$5&$B29, CSV!$D:$D)","v":0},{"$f":"SUMIF(CSV!$E:$E, G$5&$B29, CSV!$D:$D)","v":0},{"$f":"SUMIF(CSV!$E:$E, H$5&$B29, CSV!$D:$D)","v":0}]
["x148","トゥクク白貝貨",{"$f":"SUMIF(CSV!$E:$E, C$5&$B30, CSV!$D:$D)","v":0},{"$f":"SUMIF(CSV!$E:$E, D$5&$B30, CSV!$D:$D)","v":0},{"$f":"SUMIF(CSV!$E:$E, E$5&$B30, CSV!$D:$D)","v":0},{"$f":"SUMIF(CSV!$E:$E, F$5&$B30, CSV!$D:$D)","v":0},{"$f":"SUMIF(CSV!$E:$E, G$5&$B30, CSV!$D:$D)","v":0},{"$f":"SUMIF(CSV!$E:$E, H$5&$B30, CSV!$D:$D)","v":0}]
["x25","忘れ去られた願い",{"$f":"SUMIF(CSV!$E:$E, C$5&$B31, CSV!$D:$D)","v":0},{"$f":"SUMIF(CSV!$E:$E, D$5&$B31, CSV!$D:$D)","v":0},{"$f":"SUMIF(CSV!$E:$E, E$5&$B31, CSV!$D:$D)","v":0},{"$f":"SUMIF(CSV!$E:$E, F$5&$B31, CSV!$D:$D)","v":0},{"$f":"SUMIF(CSV!$E:$E, G$5&$B31, CSV!$D:$D)","v":0},{"$f":"SUMIF(CSV!$E:$E, H$5&$B31, CSV!$D:$D)","v":0},"Cluster, Leech, Bugard, Worm, Hornet, Makara, Kindred Xxxxx, Hydra Xxxxx"]
["x25","忘れ去られた面影",{"$f":"SUMIF(CSV!$E:$E, C$5&$B32, CSV!$D:$D)","v":0},{"$f":"SUMIF(CSV!$E:$E, D$5&$B32, CSV!$D:$D)","v":0},{"$f":"SUMIF(CSV!$E:$E, E$5&$B32, CSV!$D:$D)","v":0},{"$f":"SUMIF(CSV!$E:$E, F$5&$B32, CSV!$D:$D)","v":0},{"$f":"SUMIF(CSV!$E:$E, G$5&$B32, CSV!$D:$D)","v":0},{"$f":"SUMIF(CSV!$E:$E, H$5&$B32, CSV!$D:$D)","v":0},"Cluster, Leech, Bugard, Worm, Hornet, Makara, Kindred Xxxxx, Hydra Xxxxx"]
["x25","忘れ去られた感触",{"$f":"SUMIF(CSV!$E:$E, C$5&$B33, CSV!$D:$D)","v":0},{"$f":"SUMIF(CSV!$E:$E, D$5&$B33, CSV!$D:$D)","v":0},{"$f":"SUMIF(CSV!$E:$E, E$5&$B33, CSV!$D:$D)","v":0},{"$f":"SUMIF(CSV!$E:$E, F$5&$B33, CSV!$D:$D)","v":0},{"$f":"SUMIF(CSV!$E:$E, G$5&$B33, CSV!$D:$D)","v":0},{"$f":"SUMIF(CSV!$E:$E, H$5&$B33, CSV!$D:$D)","v":0},"Sabotender, Treant, Sheep, Funguar, Flytrap, Hippogryph, Manticore, Goobbue"]
["x25","忘れ去られた道程",{"$f":"SUMIF(CSV!$E:$E, C$5&$B34, CSV!$D:$D)","v":0},{"$f":"SUMIF(CSV!$E:$E, D$5&$B34, CSV!$D:$D)","v":0},{"$f":"SUMIF(CSV!$E:$E, E$5&$B34, CSV!$D:$D)","v":0},{"$f":"SUMIF(CSV!$E:$E, F$5&$B34, CSV!$D:$D)","v":0},{"$f":"SUMIF(CSV!$E:$E, G$5&$B34, CSV!$D:$D)","v":0},{"$f":"SUMIF(CSV!$E:$E, H$5&$B34, CSV!$D:$D)","v":0},"Stirge"]
["x25","忘れ去られた足跡",{"$f":"SUMIF(CSV!$E:$E, C$5&$B35, CSV!$D:$D)","v":0},{"$f":"SUMIF(CSV!$E:$E, D$5&$B35, CSV!$D:$D)","v":0},{"$f":"SUMIF(CSV!$E:$E, E$5&$B35, CSV!$D:$D)","v":0},{"$f":"SUMIF(CSV!$E:$E, F$5&$B35, CSV!$D:$D)","v":0},{"$f":"SUMIF(CSV!$E:$E, G$5&$B35, CSV!$D:$D)","v":0},{"$f":"SUMIF(CSV!$E:$E, H$5&$B35, CSV!$D:$D)","v":0},"Crab, Dhalmel, Uragnite, Scorpion, Bunny, Mandragora, Crawler"]
[]
[null,"ＳＭホーン+2",{"$f":"IF( ISNA(MATCH(C$5&$B37, CSV!$E:$E, 0)), \"\", \"〇\")","v":""},{"$f":"IF( ISNA(MATCH(D$5&$B37, CSV!$E:$E, 0)), \"\", \"〇\")","v":""},{"$f":"IF( ISNA(MATCH(E$5&$B37, CSV!$E:$E, 0)), \"\", \"〇\")","v":""},{"$f":"IF( ISNA(MATCH(F$5&$B37, CSV!$E:$E, 0)), \"\", \"〇\")","v":""},{"$f":"IF( ISNA(MATCH(G$5&$B37, CSV!$E:$E, 0)), \"\", \"〇\")","v":""},{"$f":"IF( ISNA(MATCH(H$5&$B37, CSV!$E:$E, 0)), \"\", \"〇\")","v":""}]
[null,"ＳＭダブレット+2",{"$f":"IF( ISNA(MATCH(C$5&$B38, CSV!$E:$E, 0)), \"\", \"〇\")","v":""},{"$f":"IF( ISNA(MATCH(D$5&$B38, CSV!$E:$E, 0)), \"\", \"〇\")","v":""},{"$f":"IF( ISNA(MATCH(E$5&$B38, CSV!$E:$E, 0)), \"\", \"〇\")","v":""},{"$f":"IF( ISNA(MATCH(F$5&$B38, CSV!$E:$E, 0)), \"\", \"〇\")","v":""},{"$f":"IF( ISNA(MATCH(G$5&$B38, CSV!$E:$E, 0)), \"\", \"〇\")","v":""},{"$f":"IF( ISNA(MATCH(H$5&$B38, CSV!$E:$E, 0)), \"\", \"〇\")","v":""}]
[null,"ＳＭブレーサー+2",{"$f":"IF( ISNA(MATCH(C$5&$B39, CSV!$E:$E, 0)), \"\", \"〇\")","v":""},{"$f":"IF( ISNA(MATCH(D$5&$B39, CSV!$E:$E, 0)), \"\", \"〇\")","v":""},{"$f":"IF( ISNA(MATCH(E$5&$B39, CSV!$E:$E, 0)), \"\", \"〇\")","v":""},{"$f":"IF( ISNA(MATCH(F$5&$B39, CSV!$E:$E, 0)), \"\", \"〇\")","v":""},{"$f":"IF( ISNA(MATCH(G$5&$B39, CSV!$E:$E, 0)), \"\", \"〇\")","v":""},{"$f":"IF( ISNA(MATCH(H$5&$B39, CSV!$E:$E, 0)), \"\", \"〇\")","v":""}]
[null,"ＳＭスパッツ+2",{"$f":"IF( ISNA(MATCH(C$5&$B40, CSV!$E:$E, 0)), \"\", \"〇\")","v":""},{"$f":"IF( ISNA(MATCH(D$5&$B40, CSV!$E:$E, 0)), \"\", \"〇\")","v":""},{"$f":"IF( ISNA(MATCH(E$5&$B40, CSV!$E:$E, 0)), \"\", \"〇\")","v":""},{"$f":"IF( ISNA(MATCH(F$5&$B40, CSV!$E:$E, 0)), \"\", \"〇\")","v":""},{"$f":"IF( ISNA(MATCH(G$5&$B40, CSV!$E:$E, 0)), \"\", \"〇\")","v":""},{"$f":"IF( ISNA(MATCH(H$5&$B40, CSV!$E:$E, 0)), \"\", \"〇\")","v":""}]
[null,"ＳＭピガッシュ+2",{"$f":"IF( ISNA(MATCH(C$5&$B41, CSV!$E:$E, 0)), \"\", \"〇\")","v":""},{"$f":"IF( ISNA(MATCH(D$5&$B41, CSV!$E:$E, 0)), \"\", \"〇\")","v":""},{"$f":"IF( ISNA(MATCH(E$5&$B41, CSV!$E:$E, 0)), \"\", \"〇\")","v":""},{"$f":"IF( ISNA(MATCH(F$5&$B41, CSV!$E:$E, 0)), \"\", \"〇\")","v":""},{"$f":"IF( ISNA(MATCH(G$5&$B41, CSV!$E:$E, 0)), \"\", \"〇\")","v":""},{"$f":"IF( ISNA(MATCH(H$5&$B41, CSV!$E:$E, 0)), \"\", \"〇\")","v":""}]
[]
[]
[]
["テンプレート：エンピ防具"]
["x8","コーラー型紙：頭",{"$f":"SUMIF(CSV!$E:$E, C$5&$B46, CSV!$D:$D)","v":0},{"$f":"SUMIF(CSV!$E:$E, D$5&$B46, CSV!$D:$D)","v":0},{"$f":"SUMIF(CSV!$E:$E, E$5&$B46, CSV!$D:$D)","v":0},{"$f":"SUMIF(CSV!$E:$E, F$5&$B46, CSV!$D:$D)","v":0},{"$f":"SUMIF(CSV!$E:$E, G$5&$B46, CSV!$D:$D)","v":0},{"$f":"SUMIF(CSV!$E:$E, H$5&$B46, CSV!$D:$D)","v":0},"Kharon"]
["x10","コーラー型紙：胴",{"$f":"SUMIF(CSV!$E:$E, C$5&$B47, CSV!$D:$D)","v":0},{"$f":"SUMIF(CSV!$E:$E, D$5&$B47, CSV!$D:$D)","v":0},{"$f":"SUMIF(CSV!$E:$E, E$5&$B47, CSV!$D:$D)","v":0},{"$f":"SUMIF(CSV!$E:$E, F$5&$B47, CSV!$D:$D)","v":0},{"$f":"SUMIF(CSV!$E:$E, G$5&$B47, CSV!$D:$D)","v":0},{"$f":"SUMIF(CSV!$E:$E, H$5&$B47, CSV!$D:$D)","v":0},"Koios"]
["x8","コーラー型紙：手",{"$f":"SUMIF(CSV!$E:$E, C$5&$B48, CSV!$D:$D)","v":0},{"$f":"SUMIF(CSV!$E:$E, D$5&$B48, CSV!$D:$D)","v":0},{"$f":"SUMIF(CSV!$E:$E, E$5&$B48, CSV!$D:$D)","v":0},{"$f":"SUMIF(CSV!$E:$E, F$5&$B48, CSV!$D:$D)","v":0},{"$f":"SUMIF(CSV!$E:$E, G$5&$B48, CSV!$D:$D)","v":0},{"$f":"SUMIF(CSV!$E:$E, H$5&$B48, CSV!$D:$D)","v":0},"Bugul Noz"]
["x8","コーラー型紙：脚",{"$f":"SUMIF(CSV!$E:$E, C$5&$B49, CSV!$D:$D)","v":0},{"$f":"SUMIF(CSV!$E:$E, D$5&$B49, CSV!$D:$D)","v":0},{"$f":"SUMIF(CSV!$E:$E, E$5&$B49, CSV!$D:$D)","v":0},{"$f":"SUMIF(CSV!$E:$E, F$5&$B49, CSV!$D:$D)","v":0},{"$f":"SUMIF(CSV!$E:$E, G$5&$B49, CSV!$D:$D)","v":0},{"$f":"SUMIF(CSV!$E:$E, H$5&$B49, CSV!$D:$D)","v":0},"Funereal Apkallu"]
["x8","コーラー型紙：足",{"$f":"SUMIF(CSV!$E:$E, C$5&$B50, CSV!$D:$D)","v":0},{"$f":"SUMIF(CSV!$E:$E, D$5&$B50, CSV!$D:$D)","v":0},{"$f":"SUMIF(CSV!$E:$E, E$5&$B50, CSV!$D:$D)","v":0},{"$f":"SUMIF(CSV!$E:$E, F$5&$B50, CSV!$D:$D)","v":0},{"$f":"SUMIF(CSV!$E:$E, G$5&$B50, CSV!$D:$D)","v":0},{"$f":"SUMIF(CSV!$E:$E, H$5&$B50, CSV!$D:$D)","v":0},"ガーゴイル硬石"]
["x6","木行の小片",{"$f":"SUMIF(CSV!$E:$E, C$5&$B51, CSV!$D:$D)","v":0},{"$f":"SUMIF(CSV!$E:$E, D$5&$B51, CSV!$D:$D)","v":0},{"$f":"SUMIF(CSV!$E:$E, E$5&$B51, CSV!$D:$D)","v":0},{"$f":"SUMIF(CSV!$E:$E, F$5&$B51, CSV!$D:$D)","v":0},{"$f":"SUMIF(CSV!$E:$E, G$5&$B51, CSV!$D:$D)","v":0},{"$f":"SUMIF(CSV!$E:$E, H$5&$B51, CSV!$D:$D)","v":0},"Ulhuadshi"]
["x9","火行の小片",{"$f":"SUMIF(CSV!$E:$E, C$5&$B52, CSV!$D:$D)","v":0},{"$f":"SUMIF(CSV!$E:$E, D$5&$B52, CSV!$D:$D)","v":0},{"$f":"SUMIF(CSV!$E:$E, E$5&$B52, CSV!$D:$D)","v":0},{"$f":"SUMIF(CSV!$E:$E, F$5&$B52, CSV!$D:$D)","v":0},{"$f":"SUMIF(CSV!$E:$E, G$5&$B52, CSV!$D:$D)","v":0},{"$f":"SUMIF(CSV!$E:$E, H$5&$B52, CSV!$D:$D)","v":0},"Bennu"]
["x6","土行の宝石",{"$f":"SUMIF(CSV!$E:$E, C$5&$B53, CSV!$D:$D)","v":0},{"$f":"SUMIF(CSV!$E:$E, D$5&$B53, CSV!$D:$D)","v":0},{"$f":"SUMIF(CSV!$E:$E, E$5&$B53, CSV!$D:$D)","v":0},{"$f":"SUMIF(CSV!$E:$E, F$5&$B53, CSV!$D:$D)","v":0},{"$f":"SUMIF(CSV!$E:$E, G$5&$B53, CSV!$D:$D)","v":0},{"$f":"SUMIF(CSV!$E:$E, H$5&$B53, CSV!$D:$D)","v":0},"Amphitrite"]
["x6","金行の絵札",{"$f":"SUMIF(CSV!$E:$E, C$5&$B54, CSV!$D:$D)","v":0},{"$f":"SUMIF(CSV!$E:$E, D$5&$B54, CSV!$D:$D)","v":0},{"$f":"SUMIF(CSV!$E:$E, E$5&$B54, CSV!$D:$D)","v":0},{"$f":"SUMIF(CSV!$E:$E, F$5&$B54, CSV!$D:$D)","v":0},{"$f":"SUMIF(CSV!$E:$E, G$5&$B54, CSV!$D:$D)","v":0},{"$f":"SUMIF(CSV!$E:$E, H$5&$B54, CSV!$D:$D)","v":0},"Sobek"]
["x6","水行の原石",{"$f":"SUMIF(CSV!$E:$E, C$5&$B55, CSV!$D:$D)","v":0},{"$f":"SUMIF(CSV!$E:$E, D$5&$B55, CSV!$D:$D)","v":0},{"$f":"SUMIF(CSV!$E:$E, E$5&$B55, CSV!$D:$D)","v":0},{"$f":"SUMIF(CSV!$E:$E, F$5&$B55, CSV!$D:$D)","v":0},{"$f":"SUMIF(CSV!$E:$E, G$5&$B55, CSV!$D:$D)","v":0},{"$f":"SUMIF(CSV!$E:$E, H$5&$B55, CSV!$D:$D)","v":0},"Briareus"]
[null,"ＣＬホーン+1",{"$f":"IF( ISNA(MATCH(C$5&$B56, CSV!$E:$E, 0)), \"\", \"〇\")","v":""},{"$f":"IF( ISNA(MATCH(D$5&$B56, CSV!$E:$E, 0)), \"\", \"〇\")","v":""},{"$f":"IF( ISNA(MATCH(E$5&$B56, CSV!$E:$E, 0)), \"\", \"〇\")","v":""},{"$f":"IF( ISNA(MATCH(F$5&$B56, CSV!$E:$E, 0)), \"\", \"〇\")","v":""},{"$f":"IF( ISNA(MATCH(G$5&$B56, CSV!$E:$E, 0)), \"\", \"〇\")","v":""},{"$f":"IF( ISNA(MATCH(H$5&$B56, CSV!$E:$E, 0)), \"\", \"〇\")","v":""}]
[null,"ＣＬダブレット+1",{"$f":"IF( ISNA(MATCH(C$5&$B57, CSV!$E:$E, 0)), \"\", \"〇\")","v":""},{"$f":"IF( ISNA(MATCH(D$5&$B57, CSV!$E:$E, 0)), \"\", \"〇\")","v":""},{"$f":"IF( ISNA(MATCH(E$5&$B57, CSV!$E:$E, 0)), \"\", \"〇\")","v":""},{"$f":"IF( ISNA(MATCH(F$5&$B57, CSV!$E:$E, 0)), \"\", \"〇\")","v":""},{"$f":"IF( ISNA(MATCH(G$5&$B57, CSV!$E:$E, 0)), \"\", \"〇\")","v":""},{"$f":"IF( ISNA(MATCH(H$5&$B57, CSV!$E:$E, 0)), \"\", \"〇\")","v":""}]
[null,"ＣＬブレーサー+1",{"$f":"IF( ISNA(MATCH(C$5&$B58, CSV!$E:$E, 0)), \"\", \"〇\")","v":""},{"$f":"IF( ISNA(MATCH(D$5&$B58, CSV!$E:$E, 0)), \"\", \"〇\")","v":""},{"$f":"IF( ISNA(MATCH(E$5&$B58, CSV!$E:$E, 0)), \"\", \"〇\")","v":""},{"$f":"IF( ISNA(MATCH(F$5&$B58, CSV!$E:$E, 0)), \"\", \"〇\")","v":""},{"$f":"IF( ISNA(MATCH(G$5&$B58, CSV!$E:$E, 0)), \"\", \"〇\")","v":""},{"$f":"IF( ISNA(MATCH(H$5&$B58, CSV!$E:$E, 0)), \"\", \"〇\")","v":""}]
[null,"ＣＬスパッツ+1",{"$f":"IF( ISNA(MATCH(C$5&$B59, CSV!$E:$E, 0)), \"\", \"〇\")","v":""},{"$f":"IF( ISNA(MATCH(D$5&$B59, CSV!$E:$E, 0)), \"\", \"〇\")","v":""},{"$f":"IF( ISNA(MATCH(E$5&$B59, CSV!$E:$E, 0)), \"\", \"〇\")","v":""},{"$f":"IF( ISNA(MATCH(F$5&$B59, CSV!$E:$E, 0)), \"\", \"〇\")","v":""},{"$f":"IF( ISNA(MATCH(G$5&$B59, CSV!$E:$E, 0)), \"\", \"〇\")","v":""},{"$f":"IF( ISNA(MATCH(H$5&$B59, CSV!$E:$E, 0)), \"\", \"〇\")","v":""}]
[null,"ＣＬピガッシュ+1",{"$f":"IF( ISNA(MATCH(C$5&$B60, CSV!$E:$E, 0)), \"\", \"〇\")","v":""},{"$f":"IF( ISNA(MATCH(D$5&$B60, CSV!$E:$E, 0)), \"\", \"〇\")","v":""},{"$f":"IF( ISNA(MATCH(E$5&$B60, CSV!$E:$E, 0)), \"\", \"〇\")","v":""},{"$f":"IF( ISNA(MATCH(F$5&$B60, CSV!$E:$E, 0)), \"\", \"〇\")","v":""},{"$f":"IF( ISNA(MATCH(G$5&$B60, CSV!$E:$E, 0)), \"\", \"〇\")","v":""},{"$f":"IF( ISNA(MATCH(H$5&$B60, CSV!$E:$E, 0)), \"\", \"〇\")","v":""}]
[null,"ＣＬホーン+2",{"$f":"IF( ISNA(MATCH(C$5&$B61, CSV!$E:$E, 0)), \"\", \"〇\")","v":""},{"$f":"IF( ISNA(MATCH(D$5&$B61, CSV!$E:$E, 0)), \"\", \"〇\")","v":""},{"$f":"IF( ISNA(MATCH(E$5&$B61, CSV!$E:$E, 0)), \"\", \"〇\")","v":""},{"$f":"IF( ISNA(MATCH(F$5&$B61, CSV!$E:$E, 0)), \"\", \"〇\")","v":""},{"$f":"IF( ISNA(MATCH(G$5&$B61, CSV!$E:$E, 0)), \"\", \"〇\")","v":""},{"$f":"IF( ISNA(MATCH(H$5&$B61, CSV!$E:$E, 0)), \"\", \"〇\")","v":""}]
[null,"ＣＬダブレット+2",{"$f":"IF( ISNA(MATCH(C$5&$B62, CSV!$E:$E, 0)), \"\", \"〇\")","v":""},{"$f":"IF( ISNA(MATCH(D$5&$B62, CSV!$E:$E, 0)), \"\", \"〇\")","v":""},{"$f":"IF( ISNA(MATCH(E$5&$B62, CSV!$E:$E, 0)), \"\", \"〇\")","v":""},{"$f":"IF( ISNA(MATCH(F$5&$B62, CSV!$E:$E, 0)), \"\", \"〇\")","v":""},{"$f":"IF( ISNA(MATCH(G$5&$B62, CSV!$E:$E, 0)), \"\", \"〇\")","v":""},{"$f":"IF( ISNA(MATCH(H$5&$B62, CSV!$E:$E, 0)), \"\", \"〇\")","v":""}]
[null,"ＣＬブレーサー+2",{"$f":"IF( ISNA(MATCH(C$5&$B63, CSV!$E:$E, 0)), \"\", \"〇\")","v":""},{"$f":"IF( ISNA(MATCH(D$5&$B63, CSV!$E:$E, 0)), \"\", \"〇\")","v":""},{"$f":"IF( ISNA(MATCH(E$5&$B63, CSV!$E:$E, 0)), \"\", \"〇\")","v":""},{"$f":"IF( ISNA(MATCH(F$5&$B63, CSV!$E:$E, 0)), \"\", \"〇\")","v":""},{"$f":"IF( ISNA(MATCH(G$5&$B63, CSV!$E:$E, 0)), \"\", \"〇\")","v":""},{"$f":"IF( ISNA(MATCH(H$5&$B63, CSV!$E:$E, 0)), \"\", \"〇\")","v":""}]
[null,"ＣＬスパッツ+2",{"$f":"IF( ISNA(MATCH(C$5&$B64, CSV!$E:$E, 0)), \"\", \"〇\")","v":""},{"$f":"IF( ISNA(MATCH(D$5&$B64, CSV!$E:$E, 0)), \"\", \"〇\")","v":""},{"$f":"IF( ISNA(MATCH(E$5&$B64, CSV!$E:$E, 0)), \"\", \"〇\")","v":""},{"$f":"IF( ISNA(MATCH(F$5&$B64, CSV!$E:$E, 0)), \"\", \"〇\")","v":""},{"$f":"IF( ISNA(MATCH(G$5&$B64, CSV!$E:$E, 0)), \"\", \"〇\")","v":""},{"$f":"IF( ISNA(MATCH(H$5&$B64, CSV!$E:$E, 0)), \"\", \"〇\")","v":""}]
[null,"ＣＬピガッシュ+2",{"$f":"IF( ISNA(MATCH(C$5&$B65, CSV!$E:$E, 0)), \"\", \"〇\")","v":""},{"$f":"IF( ISNA(MATCH(D$5&$B65, CSV!$E:$E, 0)), \"\", \"〇\")","v":""},{"$f":"IF( ISNA(MATCH(E$5&$B65, CSV!$E:$E, 0)), \"\", \"〇\")","v":""},{"$f":"IF( ISNA(MATCH(F$5&$B65, CSV!$E:$E, 0)), \"\", \"〇\")","v":""},{"$f":"IF( ISNA(MATCH(G$5&$B65, CSV!$E:$E, 0)), \"\", \"〇\")","v":""},{"$f":"IF( ISNA(MATCH(H$5&$B65, CSV!$E:$E, 0)), \"\", \"〇\")","v":""}]
[]
[]
[]
[]
[]
[]
[]
[]
[]
[null,"ＭＶカヴク+1",{"$f":"IF( ISNA(MATCH(C$5&$B75, CSV!$E:$E, 0)), \"\", \"〇\")","v":""},{"$f":"IF( ISNA(MATCH(D$5&$B75, CSV!$E:$E, 0)), \"\", \"〇\")","v":""},{"$f":"IF( ISNA(MATCH(E$5&$B75, CSV!$E:$E, 0)), \"\", \"〇\")","v":""},{"$f":"IF( ISNA(MATCH(F$5&$B75, CSV!$E:$E, 0)), \"\", \"〇\")","v":""},{"$f":"IF( ISNA(MATCH(G$5&$B75, CSV!$E:$E, 0)), \"\", \"〇\")","v":""},{"$f":"IF( ISNA(MATCH(H$5&$B75, CSV!$E:$E, 0)), \"\", \"〇\")","v":""}]
[null,"ＭＶミンタン+1",{"$f":"IF( ISNA(MATCH(C$5&$B76, CSV!$E:$E, 0)), \"\", \"〇\")","v":""},{"$f":"IF( ISNA(MATCH(D$5&$B76, CSV!$E:$E, 0)), \"\", \"〇\")","v":""},{"$f":"IF( ISNA(MATCH(E$5&$B76, CSV!$E:$E, 0)), \"\", \"〇\")","v":""},{"$f":"IF( ISNA(MATCH(F$5&$B76, CSV!$E:$E, 0)), \"\", \"〇\")","v":""},{"$f":"IF( ISNA(MATCH(G$5&$B76, CSV!$E:$E, 0)), \"\", \"〇\")","v":""},{"$f":"IF( ISNA(MATCH(H$5&$B76, CSV!$E:$E, 0)), \"\", \"〇\")","v":""}]
[null,"ＭＶバズバンド+1",{"$f":"IF( ISNA(MATCH(C$5&$B77, CSV!$E:$E, 0)), \"\", \"〇\")","v":""},{"$f":"IF( ISNA(MATCH(D$5&$B77, CSV!$E:$E, 0)), \"\", \"〇\")","v":""},{"$f":"IF( ISNA(MATCH(E$5&$B77, CSV!$E:$E, 0)), \"\", \"〇\")","v":""},{"$f":"IF( ISNA(MATCH(F$5&$B77, CSV!$E:$E, 0)), \"\", \"〇\")","v":""},{"$f":"IF( ISNA(MATCH(G$5&$B77, CSV!$E:$E, 0)), \"\", \"〇\")","v":""},{"$f":"IF( ISNA(MATCH(H$5&$B77, CSV!$E:$E, 0)), \"\", \"〇\")","v":""}]
[null,"ＭＶタイト+1",{"$f":"IF( ISNA(MATCH(C$5&$B78, CSV!$E:$E, 0)), \"\", \"〇\")","v":""},{"$f":"IF( ISNA(MATCH(D$5&$B78, CSV!$E:$E, 0)), \"\", \"〇\")","v":""},{"$f":"IF( ISNA(MATCH(E$5&$B78, CSV!$E:$E, 0)), \"\", \"〇\")","v":""},{"$f":"IF( ISNA(MATCH(F$5&$B78, CSV!$E:$E, 0)), \"\", \"〇\")","v":""},{"$f":"IF( ISNA(MATCH(G$5&$B78, CSV!$E:$E, 0)), \"\", \"〇\")","v":""},{"$f":"IF( ISNA(MATCH(H$5&$B78, CSV!$E:$E, 0)), \"\", \"〇\")","v":""}]
[null,"ＭＶバシュマク+1",{"$f":"IF( ISNA(MATCH(C$5&$B79, CSV!$E:$E, 0)), \"\", \"〇\")","v":""},{"$f":"IF( ISNA(MATCH(D$5&$B79, CSV!$E:$E, 0)), \"\", \"〇\")","v":""},{"$f":"IF( ISNA(MATCH(E$5&$B79, CSV!$E:$E, 0)), \"\", \"〇\")","v":""},{"$f":"IF( ISNA(MATCH(F$5&$B79, CSV!$E:$E, 0)), \"\", \"〇\")","v":""},{"$f":"IF( ISNA(MATCH(G$5&$B79, CSV!$E:$E, 0)), \"\", \"〇\")","v":""},{"$f":"IF( ISNA(MATCH(H$5&$B79, CSV!$E:$E, 0)), \"\", \"〇\")","v":""}]
[]
[null,"ＭＶカヴク+2",{"$f":"IF( ISNA(MATCH(C$5&$B81, CSV!$E:$E, 0)), \"\", \"〇\")","v":""},{"$f":"IF( ISNA(MATCH(D$5&$B81, CSV!$E:$E, 0)), \"\", \"〇\")","v":""},{"$f":"IF( ISNA(MATCH(E$5&$B81, CSV!$E:$E, 0)), \"\", \"〇\")","v":""},{"$f":"IF( ISNA(MATCH(F$5&$B81, CSV!$E:$E, 0)), \"\", \"〇\")","v":""},{"$f":"IF( ISNA(MATCH(G$5&$B81, CSV!$E:$E, 0)), \"\", \"〇\")","v":""},{"$f":"IF( ISNA(MATCH(H$5&$B81, CSV!$E:$E, 0)), \"\", \"〇\")","v":""}]
[null,"ＭＶミンタン+2",{"$f":"IF( ISNA(MATCH(C$5&$B82, CSV!$E:$E, 0)), \"\", \"〇\")","v":""},{"$f":"IF( ISNA(MATCH(D$5&$B82, CSV!$E:$E, 0)), \"\", \"〇\")","v":""},{"$f":"IF( ISNA(MATCH(E$5&$B82, CSV!$E:$E, 0)), \"\", \"〇\")","v":""},{"$f":"IF( ISNA(MATCH(F$5&$B82, CSV!$E:$E, 0)), \"\", \"〇\")","v":""},{"$f":"IF( ISNA(MATCH(G$5&$B82, CSV!$E:$E, 0)), \"\", \"〇\")","v":""},{"$f":"IF( ISNA(MATCH(H$5&$B82, CSV!$E:$E, 0)), \"\", \"〇\")","v":""}]
[null,"ＭＶバズバンド+2",{"$f":"IF( ISNA(MATCH(C$5&$B83, CSV!$E:$E, 0)), \"\", \"〇\")","v":""},{"$f":"IF( ISNA(MATCH(D$5&$B83, CSV!$E:$E, 0)), \"\", \"〇\")","v":""},{"$f":"IF( ISNA(MATCH(E$5&$B83, CSV!$E:$E, 0)), \"\", \"〇\")","v":""},{"$f":"IF( ISNA(MATCH(F$5&$B83, CSV!$E:$E, 0)), \"\", \"〇\")","v":""},{"$f":"IF( ISNA(MATCH(G$5&$B83, CSV!$E:$E, 0)), \"\", \"〇\")","v":""},{"$f":"IF( ISNA(MATCH(H$5&$B83, CSV!$E:$E, 0)), \"\", \"〇\")","v":""}]
[null,"ＭＶタイト+2",{"$f":"IF( ISNA(MATCH(C$5&$B84, CSV!$E:$E, 0)), \"\", \"〇\")","v":""},{"$f":"IF( ISNA(MATCH(D$5&$B84, CSV!$E:$E, 0)), \"\", \"〇\")","v":""},{"$f":"IF( ISNA(MATCH(E$5&$B84, CSV!$E:$E, 0)), \"\", \"〇\")","v":""},{"$f":"IF( ISNA(MATCH(F$5&$B84, CSV!$E:$E, 0)), \"\", \"〇\")","v":""},{"$f":"IF( ISNA(MATCH(G$5&$B84, CSV!$E:$E, 0)), \"\", \"〇\")","v":""},{"$f":"IF( ISNA(MATCH(H$5&$B84, CSV!$E:$E, 0)), \"\", \"〇\")","v":""}]
[null,"ＭＶバシュマク+2",{"$f":"IF( ISNA(MATCH(C$5&$B85, CSV!$E:$E, 0)), \"\", \"〇\")","v":""},{"$f":"IF( ISNA(MATCH(D$5&$B85, CSV!$E:$E, 0)), \"\", \"〇\")","v":""},{"$f":"IF( ISNA(MATCH(E$5&$B85, CSV!$E:$E, 0)), \"\", \"〇\")","v":""},{"$f":"IF( ISNA(MATCH(F$5&$B85, CSV!$E:$E, 0)), \"\", \"〇\")","v":""},{"$f":"IF( ISNA(MATCH(G$5&$B85, CSV!$E:$E, 0)), \"\", \"〇\")","v":""},{"$f":"IF( ISNA(MATCH(H$5&$B85, CSV!$E:$E, 0)), \"\", \"〇\")","v":""}]
[]
[]
["テンプレート：エンピ武器"]
["x25","クーポンAW-Kup",{"$f":"SUMIF(CSV!$E:$E, C$5&$B89, CSV!$D:$D)","v":0},{"$f":"SUMIF(CSV!$E:$E, D$5&$B89, CSV!$D:$D)","v":0},{"$f":"SUMIF(CSV!$E:$E, E$5&$B89, CSV!$D:$D)","v":0},{"$f":"SUMIF(CSV!$E:$E, F$5&$B89, CSV!$D:$D)","v":0},{"$f":"SUMIF(CSV!$E:$E, G$5&$B89, CSV!$D:$D)","v":0},{"$f":"SUMIF(CSV!$E:$E, H$5&$B89, CSV!$D:$D)","v":0}]
["x12","*精霊石",{"$f":"SUMIF(CSV!$E:$E, C$5&$B90, CSV!$D:$D)","v":0},{"$f":"SUMIF(CSV!$E:$E, D$5&$B90, CSV!$D:$D)","v":0},{"$f":"SUMIF(CSV!$E:$E, E$5&$B90, CSV!$D:$D)","v":0},{"$f":"SUMIF(CSV!$E:$E, F$5&$B90, CSV!$D:$D)","v":0},{"$f":"SUMIF(CSV!$E:$E, G$5&$B90, CSV!$D:$D)","v":0},{"$f":"SUMIF(CSV!$E:$E, H$5&$B90, CSV!$D:$D)","v":0}]
["x25","クーポンW-E85",{"$f":"SUMIF(CSV!$E:$E, C$5&$B91, CSV!$D:$D)","v":0},{"$f":"SUMIF(CSV!$E:$E, D$5&$B91, CSV!$D:$D)","v":0},{"$f":"SUMIF(CSV!$E:$E, E$5&$B91, CSV!$D:$D)","v":0},{"$f":"SUMIF(CSV!$E:$E, F$5&$B91, CSV!$D:$D)","v":0},{"$f":"SUMIF(CSV!$E:$E, G$5&$B91, CSV!$D:$D)","v":0},{"$f":"SUMIF(CSV!$E:$E, H$5&$B91, CSV!$D:$D)","v":0}]
["x12","鋼鉄の鎧板",{"$f":"SUMIF(CSV!$E:$E, C$5&$B92, CSV!$D:$D)","v":0},{"$f":"SUMIF(CSV!$E:$E, D$5&$B92, CSV!$D:$D)","v":0},{"$f":"SUMIF(CSV!$E:$E, E$5&$B92, CSV!$D:$D)","v":0},{"$f":"SUMIF(CSV!$E:$E, F$5&$B92, CSV!$D:$D)","v":0},{"$f":"SUMIF(CSV!$E:$E, G$5&$B92, CSV!$D:$D)","v":0},{"$f":"SUMIF(CSV!$E:$E, H$5&$B92, CSV!$D:$D)","v":0}]
["x12","カシミヤ織物",{"$f":"SUMIF(CSV!$E:$E, C$5&$B93, CSV!$D:$D)","v":0},{"$f":"SUMIF(CSV!$E:$E, D$5&$B93, CSV!$D:$D)","v":0},{"$f":"SUMIF(CSV!$E:$E, E$5&$B93, CSV!$D:$D)","v":0},{"$f":"SUMIF(CSV!$E:$E, F$5&$B93, CSV!$D:$D)","v":0},{"$f":"SUMIF(CSV!$E:$E, G$5&$B93, CSV!$D:$D)","v":0},{"$f":"SUMIF(CSV!$E:$E, H$5&$B93, CSV!$D:$D)","v":0}]
["x25","クーポンW-E90",{"$f":"SUMIF(CSV!$E:$E, C$5&$B94, CSV!$D:$D)","v":0},{"$f":"SUMIF(CSV!$E:$E, D$5&$B94, CSV!$D:$D)","v":0},{"$f":"SUMIF(CSV!$E:$E, E$5&$B94, CSV!$D:$D)","v":0},{"$f":"SUMIF(CSV!$E:$E, F$5&$B94, CSV!$D:$D)","v":0},{"$f":"SUMIF(CSV!$E:$E, G$5&$B94, CSV!$D:$D)","v":0},{"$f":"SUMIF(CSV!$E:$E, H$5&$B94, CSV!$D:$D)","v":0}]
["x99","魔神印章",{"$f":"SUMIF(CSV!$E:$E, C$5&$B95, CSV!$D:$D)","v":0},{"$f":"SUMIF(CSV!$E:$E, D$5&$B95, CSV!$D:$D)","v":0},{"$f":"SUMIF(CSV!$E:$E, E$5&$B95, CSV!$D:$D)","v":0},{"$f":"SUMIF(CSV!$E:$E, F$5&$B95, CSV!$D:$D)","v":0},{"$f":"SUMIF(CSV!$E:$E, G$5&$B95, CSV!$D:$D)","v":0},{"$f":"SUMIF(CSV!$E:$E, H$5&$B95, CSV!$D:$D)","v":0}]
["x1500","ヘヴィメタル",{"$f":"SUMIF(CSV!$E:$E, C$5&$B96, CSV!$D:$D)","v":0},{"$f":"SUMIF(CSV!$E:$E, D$5&$B96, CSV!$D:$D)","v":0},{"$f":"SUMIF(CSV!$E:$E, E$5&$B96, CSV!$D:$D)","v":0},{"$f":"SUMIF(CSV!$E:$E, F$5&$B96, CSV!$D:$D)","v":0},{"$f":"SUMIF(CSV!$E:$E, G$5&$B96, CSV!$D:$D)","v":0},{"$f":"SUMIF(CSV!$E:$E, H$5&$B96, CSV!$D:$D)","v":0}]
[]
[]
[]
[null,"スピードベルト",{"$f":"MogPell( INDEX(Char1!D:D, MATCH(B100, Char1!A:A, 0)) )","v":"所持なし"},{"$f":"MogPell(INDEX(Char2!D:D, MATCH(B100, Char2!A:A, 0)))","v":"所持なし"},{"$f":"MogPell(INDEX(Char3!D:D, MATCH(B100, Char3!A:A, 0)))","v":"所持なし"},{"$f":"MogPell(INDEX(Char4!D:D, MATCH(B100, Char4!A:A, 0)))","v":"所持なし"},{"$f":"MogPell(INDEX(Char5!D:D, MATCH(B100, Char5!A:A, 0)))","v":"所持なし"},{"$f":"MogPell(INDEX(Char6!D:D, MATCH(B100, Char6!A:A, 0)))","v":"所持なし"}]
[null,"スピードベルト",{"$f":"MogPell( INDEX(Char1!D:D, MATCH(B101, Char1!A:A, 0)) )","v":"所持なし"},{"$f":"MogPell(INDEX(Char2!D:D, MATCH(B101, Char2!A:A, 0)))","v":"所持なし"},{"$f":"MogPell(INDEX(Char3!D:D, MATCH(B101, Char3!A:A, 0)))","v":"所持なし"},{"$f":"MogPell(INDEX(Char4!D:D, MATCH(B101, Char4!A:A, 0)))","v":"所持なし"},{"$f":"MogPell(INDEX(Char5!D:D, MATCH(B101, Char5!A:A, 0)))","v":"所持なし"},{"$f":"MogPell(INDEX(Char6!D:D, MATCH(B101, Char6!A:A, 0)))","v":"所持なし"}]
[null,"スピードベルト",{"$f":"MogPell( INDEX(Char1!D:D, MATCH(B102, Char1!A:A, 0)) )","v":"所持なし"},{"$f":"MogPell(INDEX(Char2!D:D, MATCH(B102, Char2!A:A, 0)))","v":"所持なし"},{"$f":"MogPell(INDEX(Char3!D:D, MATCH(B102, Char3!A:A, 0)))","v":"所持なし"},{"$f":"MogPell(INDEX(Char4!D:D, MATCH(B102, Char4!A:A, 0)))","v":"所持なし"},{"$f":"MogPell(INDEX(Char5!D:D, MATCH(B102, Char5!A:A, 0)))","v":"所持なし"},{"$f":"MogPell(INDEX(Char6!D:D, MATCH(B102, Char6!A:A, 0)))","v":"所持なし"}]
[null,"スピードベルト",{"$f":"MogPell( INDEX(Char1!D:D, MATCH(B103, Char1!A:A, 0)) )","v":"所持なし"},{"$f":"MogPell(INDEX(Char2!D:D, MATCH(B103, Char2!A:A, 0)))","v":"所持なし"},{"$f":"MogPell(INDEX(Char3!D:D, MATCH(B103, Char3!A:A, 0)))","v":"所持なし"},{"$f":"MogPell(INDEX(Char4!D:D, MATCH(B103, Char4!A:A, 0)))","v":"所持なし"},{"$f":"MogPell(INDEX(Char5!D:D, MATCH(B103, Char5!A:A, 0)))","v":"所持なし"},{"$f":"MogPell(INDEX(Char6!D:D, MATCH(B103, Char6!A:A, 0)))","v":"所持なし"}]
[null,"スピードベルト",{"$f":"MogPell( INDEX(Char1!D:D, MATCH(B104, Char1!A:A, 0)) )","v":"所持なし"},{"$f":"MogPell(INDEX(Char2!D:D, MATCH(B104, Char2!A:A, 0)))","v":"所持なし"},{"$f":"MogPell(INDEX(Char3!D:D, MATCH(B104, Char3!A:A, 0)))","v":"所持なし"},{"$f":"MogPell(INDEX(Char4!D:D, MATCH(B104, Char4!A:A, 0)))","v":"所持なし"},{"$f":"MogPell(INDEX(Char5!D:D, MATCH(B104, Char5!A:A, 0)))","v":"所持なし"},{"$f":"MogPell(INDEX(Char6!D:D, MATCH(B104, Char6!A:A, 0)))","v":"所持なし"}]
[null,"スピードベルト",{"$f":"MogPell( INDEX(Char1!D:D, MATCH(B105, Char1!A:A, 0)) )","v":"所持なし"},{"$f":"MogPell(INDEX(Char2!D:D, MATCH(B105, Char2!A:A, 0)))","v":"所持なし"},{"$f":"MogPell(INDEX(Char3!D:D, MATCH(B105, Char3!A:A, 0)))","v":"所持なし"},{"$f":"MogPell(INDEX(Char4!D:D, MATCH(B105, Char4!A:A, 0)))","v":"所持なし"},{"$f":"MogPell(INDEX(Char5!D:D, MATCH(B105, Char5!A:A, 0)))","v":"所持なし"},{"$f":"MogPell(INDEX(Char6!D:D, MATCH(B105, Char6!A:A, 0)))","v":"所持なし"}]
[null,"スピードベルト",{"$f":"MogPell( INDEX(Char1!D:D, MATCH(B106, Char1!A:A, 0)) )","v":"所持なし"},{"$f":"MogPell(INDEX(Char2!D:D, MATCH(B106, Char2!A:A, 0)))","v":"所持なし"},{"$f":"MogPell(INDEX(Char3!D:D, MATCH(B106, Char3!A:A, 0)))","v":"所持なし"},{"$f":"MogPell(INDEX(Char4!D:D, MATCH(B106, Char4!A:A, 0)))","v":"所持なし"},{"$f":"MogPell(INDEX(Char5!D:D, MATCH(B106, Char5!A:A, 0)))","v":"所持なし"},{"$f":"MogPell(INDEX(Char6!D:D, MATCH(B106, Char6!A:A, 0)))","v":"所持なし"}]

{"sheet":"花鳥風月","index":4,"n_rows":57,"n_cols":23,"rows_kept":57,"cut":false,"hidden":false,"merged":[]}
[]
[]
[]
[]
[null,null,"トリガー","戦利品","入手割賦","Char1",null,null,"Char2",null,null,"Char3",null,null,"Char4",null,null,"Char5",null,null,"Char6"]
["マムージャT1","ヴルパングエ","地獄蝶々","ヴルパングエの翅","蒸栗の割符",{"$f":"IF( ISNA(MATCH($F$5&C6, CSV!$E:$E, 0)), \"\", \"〇\")","v":""},{"$f":"IF( ISNA(MATCH($F$5&D6, CSV!$E:$E, 0)), \"\", \"〇\")","v":""},{"$f":"IF( ISNA(MATCH($F$5&E6, CSV!$E:$E, 0)), \"\", \"〇\")","v":""},{"$f":"IF( ISNA(MATCH($I$5&C6, CSV!$E:$E, 0)), \"\", \"〇\")","v":""},{"$f":"IF( ISNA(MATCH($I$5&D6, CSV!$E:$E, 0)), \"\", \"〇\")","v":""},{"$f":"IF( ISNA(MATCH($I$5&E6, CSV!$E:$E, 0)), \"\", \"〇\")","v":""},{"$f":"IF( ISNA(MATCH($L$5&C6, CSV!$E:$E, 0)), \"\", \"〇\")","v":""},{"$f":"IF( ISNA(MATCH($L$5&D6, CSV!$E:$E, 0)), \"\", \"〇\")","v":""},{"$f":"IF( ISNA(MATCH($L$5&E6, CSV!$E:$E, 0)), \"\", \"〇\")","v":""},{"$f":"IF( ISNA(MATCH(O$5&C6, CSV!$E:$E, 0)), \"\", \"〇\")","v":""},{"$f":"IF( ISNA(MATCH(O$5&D6, CSV!$E:$E, 0)), \"\", \"〇\")","v":""},{"$f":"IF( ISNA(MATCH(O$5&E6, CSV!$E:$E, 0)), \"\", \"〇\")","v":""},{"$f":"IF( ISNA(MATCH(R$5&C6, CSV!$E:$E, 0)), \"\", \"〇\")","v":""},{"$f":"IF( ISNA(MATCH(R$5&D6, CSV!$E:$E, 0)), \"\", \"〇\")","v":""},{"$f":"IF( ISNA(MATCH(R$5&E6, CSV!$E:$E, 0)), \"\", \"〇\")","v":""},{"$f":"IF( ISNA(MATCH(U$5&$C6, CSV!$E:$E, 0)), \"\", \"〇\")","v":""},{"$f":"IF( ISNA(MATCH(U$5&$D6, CSV!$E:$E, 0)), \"\", \"〇\")","v":""},{"$f":"IF( ISNA(MATCH(U$5&$E6, CSV!$E:$E, 0)), \"\", \"〇\")","v":""}]
[null,"チャムロッシュ","花蜜","チャムロッシュの嘴",null,{"$f":"IF( ISNA(MATCH($F$5&C7, CSV!$E:$E, 0)), \"\", \"〇\")","v":""},{"$f":"IF( ISNA(MATCH($F$5&D7, CSV!$E:$E, 0)), \"\", \"〇\")","v":""},{"$f":"IF( ISNA(MATCH($F$5&E7, CSV!$E:$E, 0)), \"\", \"〇\")","v":""},{"$f":"IF( ISNA(MATCH($I$5&C7, CSV!$E:$E, 0)), \"\", \"〇\")","v":""},{"$f":"IF( ISNA(MATCH($I$5&D7, CSV!$E:$E, 0)), \"\", \"〇\")","v":""},{"$f":"IF( ISNA(MATCH($I$5&E7, CSV!$E:$E, 0)), \"\", \"〇\")","v":""},{"$f":"IF( ISNA(MATCH($L$5&C7, CSV!$E:$E, 0)), \"\", \"〇\")","v":""},{"$f":"IF( ISNA(MATCH($L$5&D7, CSV!$E:$E, 0)), \"\", \"〇\")","v":""},{"$f":"IF( ISNA(MATCH($L$5&E7, CSV!$E:$E, 0)), \"\", \"〇\")","v":""},{"$f":"IF( ISNA(MATCH(O$5&C7, CSV!$E:$E, 0)), \"\", \"〇\")","v":""},{"$f":"IF( ISNA(MATCH(O$5&D7, CSV!$E:$E, 0)), \"\", \"〇\")","v":""},{"$f":"IF( ISNA(MATCH(O$5&E7, CSV!$E:$E, 0)), \"\", \"〇\")","v":""},{"$f":"IF( ISNA(MATCH(R$5&C7, CSV!$E:$E, 0)), \"\", \"〇\")","v":""},{"$f":"IF( ISNA(MATCH(R$5&D7, CSV!$E:$E, 0)), \"\", \"〇\")","v":""},{"$f":"IF( ISNA(MATCH(R$5&E7, CSV!$E:$E, 0)), \"\", \"〇\")","v":""},{"$f":"IF( ISNA(MATCH(U$5&$C7, CSV!$E:$E, 0)), \"\", \"〇\")","v":""},{"$f":"IF( ISNA(MATCH(U$5&$D7, CSV!$E:$E, 0)), \"\", \"〇\")","v":""},{"$f":"IF( ISNA(MATCH(U$5&$E7, CSV!$E:$E, 0)), \"\", \"〇\")","v":""}]
[null,"チーズマニアのギギルン","ラットチーズ","ギギルンのケープ",null,{"$f":"IF( ISNA(MATCH($F$5&C8, CSV!$E:$E, 0)), \"\", \"〇\")","v":""},{"$f":"IF( ISNA(MATCH($F$5&D8, CSV!$E:$E, 0)), \"\", \"〇\")","v":""},{"$f":"IF( ISNA(MATCH($F$5&E8, CSV!$E:$E, 0)), \"\", \"〇\")","v":""},{"$f":"IF( ISNA(MATCH($I$5&C8, CSV!$E:$E, 0)), \"\", \"〇\")","v":""},{"$f":"IF( ISNA(MATCH($I$5&D8, CSV!$E:$E, 0)), \"\", \"〇\")","v":""},{"$f":"IF( ISNA(MATCH($I$5&E8, CSV!$E:$E, 0)), \"\", \"〇\")","v":""},{"$f":"IF( ISNA(MATCH($L$5&C8, CSV!$E:$E, 0)), \"\", \"〇\")","v":""},{"$f":"IF( ISNA(MATCH($L$5&D8, CSV!$E:$E, 0)), \"\", \"〇\")","v":""},{"$f":"IF( ISNA(MATCH($L$5&E8, CSV!$E:$E, 0)), \"\", \"〇\")","v":""},{"$f":"IF( ISNA(MATCH(O$5&C8, CSV!$E:$E, 0)), \"\", \"〇\")","v":""},{"$f":"IF( ISNA(MATCH(O$5&D8, CSV!$E:$E, 0)), \"\", \"〇\")","v":""},{"$f":"IF( ISNA(MATCH(O$5&E8, CSV!$E:$E, 0)), \"\", \"〇\")","v":""},{"$f":"IF( ISNA(MATCH(R$5&C8, CSV!$E:$E, 0)), \"\", \"〇\")","v":""},{"$f":"IF( ISNA(MATCH(R$5&D8, CSV!$E:$E, 0)), \"\", \"〇\")","v":""},{"$f":"IF( ISNA(MATCH(R$5&E8, CSV!$E:$E, 0)), \"\", \"〇\")","v":""},{"$f":"IF( ISNA(MATCH(U$5&$C8, CSV!$E:$E, 0)), \"\", \"〇\")","v":""},{"$f":"IF( ISNA(MATCH(U$5&$D8, CSV!$E:$E, 0)), \"\", \"〇\")","v":""},{"$f":"IF( ISNA(MATCH(U$5&$E8, CSV!$E:$E, 0)), \"\", \"〇\")","v":""}]
[null,null,null,null,null,{"$f":"IF( ISNA(MATCH($F$5&C9, CSV!$E:$E, 0)), \"\", \"〇\")","v":""},{"$f":"IF( ISNA(MATCH($F$5&D9, CSV!$E:$E, 0)), \"\", \"〇\")","v":""},{"$f":"IF( ISNA(MATCH($F$5&E9, CSV!$E:$E, 0)), \"\", \"〇\")","v":""},{"$f":"IF( ISNA(MATCH($I$5&C9, CSV!$E:$E, 0)), \"\", \"〇\")","v":""},{"$f":"IF( ISNA(MATCH($I$5&D9, CSV!$E:$E, 0)), \"\", \"〇\")","v":""},{"$f":"IF( ISNA(MATCH($I$5&E9, CSV!$E:$E, 0)), \"\", \"〇\")","v":""},{"$f":"IF( ISNA(MATCH($L$5&C9, CSV!$E:$E, 0)), \"\", \"〇\")","v":""},{"$f":"IF( ISNA(MATCH($L$5&D9, CSV!$E:$E, 0)), \"\", \"〇\")","v":""},{"$f":"IF( ISNA(MATCH($L$5&E9, CSV!$E:$E, 0)), \"\", \"〇\")","v":""},{"$f":"IF( ISNA(MATCH(O$5&C9, CSV!$E:$E, 0)), \"\", \"〇\")","v":""},{"$f":"IF( ISNA(MATCH(O$5&D9, CSV!$E:$E, 0)), \"\", \"〇\")","v":""},{"$f":"IF( ISNA(MATCH(O$5&E9, CSV!$E:$E, 0)), \"\", \"〇\")","v":""},{"$f":"IF( ISNA(MATCH(R$5&C9, CSV!$E:$E, 0)), \"\", \"〇\")","v":""},{"$f":"IF( ISNA(MATCH(R$5&D9, CSV!$E:$E, 0)), \"\", \"〇\")","v":""},{"$f":"IF( ISNA(MATCH(R$5&E9, CSV!$E:$E, 0)), \"\", \"〇\")","v":""},{"$f":"IF( ISNA(MATCH(U$5&$C9, CSV!$E:$E, 0)), \"\", \"〇\")","v":""},{"$f":"IF( ISNA(MATCH(U$5&$D9, CSV!$E:$E, 0)), \"\", \"〇\")","v":""},{"$f":"IF( ISNA(MATCH(U$5&$E9, CSV!$E:$E, 0)), \"\", \"〇\")","v":""}]
["マムージャT2","イリズイマ","セニョリータパママ","イリズイマの毛皮","萌葱の割符",{"$f":"IF( ISNA(MATCH($F$5&C10, CSV!$E:$E, 0)), \"\", \"〇\")","v":""},{"$f":"IF( ISNA(MATCH($F$5&D10, CSV!$E:$E, 0)), \"\", \"〇\")","v":""},{"$f":"IF( ISNA(MATCH($F$5&E10, CSV!$E:$E, 0)), \"\", \"〇\")","v":""},{"$f":"IF( ISNA(MATCH($I$5&C10, CSV!$E:$E, 0)), \"\", \"〇\")","v":""},{"$f":"IF( ISNA(MATCH($I$5&D10, CSV!$E:$E, 0)), \"\", \"〇\")","v":""},{"$f":"IF( ISNA(MATCH($I$5&E10, CSV!$E:$E, 0)), \"\", \"〇\")","v":""},{"$f":"IF( ISNA(MATCH($L$5&C10, CSV!$E:$E, 0)), \"\", \"〇\")","v":""},{"$f":"IF( ISNA(MATCH($L$5&D10, CSV!$E:$E, 0)), \"\", \"〇\")","v":""},{"$f":"IF( ISNA(MATCH($L$5&E10, CSV!$E:$E, 0)), \"\", \"〇\")","v":""},{"$f":"IF( ISNA(MATCH(O$5&C10, CSV!$E:$E, 0)), \"\", \"〇\")","v":""},{"$f":"IF( ISNA(MATCH(O$5&D10, CSV!$E:$E, 0)), \"\", \"〇\")","v":""},{"$f":"IF( ISNA(MATCH(O$5&E10, CSV!$E:$E, 0)), \"\", \"〇\")","v":""},{"$f":"IF( ISNA(MATCH(R$5&C10, CSV!$E:$E, 0)), \"\", \"〇\")","v":""},{"$f":"IF( ISNA(MATCH(R$5&D10, CSV!$E:$E, 0)), \"\", \"〇\")","v":""},{"$f":"IF( ISNA(MATCH(R$5&E10, CSV!$E:$E, 0)), \"\", \"〇\")","v":""},{"$f":"IF( ISNA(MATCH(U$5&$C10, CSV!$E:$E, 0)), \"\", \"〇\")","v":""},{"$f":"IF( ISNA(MATCH(U$5&$D10, CSV!$E:$E, 0)), \"\", \"〇\")","v":""},{"$f":"IF( ISNA(MATCH(U$5&$E10, CSV!$E:$E, 0)), \"\", \"〇\")","v":""}]
[null,"怒根のアムーシャ","膏血","アムーシャのつる",null,{"$f":"IF( ISNA(MATCH($F$5&C11, CSV!$E:$E, 0)), \"\", \"〇\")","v":""},{"$f":"IF( ISNA(MATCH($F$5&D11, CSV!$E:$E, 0)), \"\", \"〇\")","v":""},{"$f":"IF( ISNA(MATCH($F$5&E11, CSV!$E:$E, 0)), \"\", \"〇\")","v":""},{"$f":"IF( ISNA(MATCH($I$5&C11, CSV!$E:$E, 0)), \"\", \"〇\")","v":""},{"$f":"IF( ISNA(MATCH($I$5&D11, CSV!$E:$E, 0)), \"\", \"〇\")","v":""},{"$f":"IF( ISNA(MATCH($I$5&E11, CSV!$E:$E, 0)), \"\", \"〇\")","v":""},{"$f":"IF( ISNA(MATCH($L$5&C11, CSV!$E:$E, 0)), \"\", \"〇\")","v":""},{"$f":"IF( ISNA(MATCH($L$5&D11, CSV!$E:$E, 0)), \"\", \"〇\")","v":""},{"$f":"IF( ISNA(MATCH($L$5&E11, CSV!$E:$E, 0)), \"\", \"〇\")","v":""},{"$f":"IF( ISNA(MATCH(O$5&C11, CSV!$E:$E, 0)), \"\", \"〇\")","v":""},{"$f":"IF( ISNA(MATCH(O$5&D11, CSV!$E:$E, 0)), \"\", \"〇\")","v":""},{"$f":"IF( ISNA(MATCH(O$5&E11, CSV!$E:$E, 0)), \"\", \"〇\")","v":""},{"$f":"IF( ISNA(MATCH(R$5&C11, CSV!$E:$E, 0)), \"\", \"〇\")","v":""},{"$f":"IF( ISNA(MATCH(R$5&D11, CSV!$E:$E, 0)), \"\", \"〇\")","v":""},{"$f":"IF( ISNA(MATCH(R$5&E11, CSV!$E:$E, 0)), \"\", \"〇\")","v":""},{"$f":"IF( ISNA(MATCH(U$5&$C11, CSV!$E:$E, 0)), \"\", \"〇\")","v":""},{"$f":"IF( ISNA(MATCH(U$5&$D11, CSV!$E:$E, 0)), \"\", \"〇\")","v":""},{"$f":"IF( ISNA(MATCH(U$5&$E11, CSV!$E:$E, 0)), \"\", \"〇\")","v":""}]
[null,"イリリサマリリ","サマリリの遺髪","イリリハット",null,{"$f":"IF( ISNA(MATCH($F$5&C12, CSV!$E:$E, 0)), \"\", \"〇\")","v":""},{"$f":"IF( ISNA(MATCH($F$5&D12, CSV!$E:$E, 0)), \"\", \"〇\")","v":""},{"$f":"IF( ISNA(MATCH($F$5&E12, CSV!$E:$E, 0)), \"\", \"〇\")","v":""},{"$f":"IF( ISNA(MATCH($I$5&C12, CSV!$E:$E, 0)), \"\", \"〇\")","v":""},{"$f":"IF( ISNA(MATCH($I$5&D12, CSV!$E:$E, 0)), \"\", \"〇\")","v":""},{"$f":"IF( ISNA(MATCH($I$5&E12, CSV!$E:$E, 0)), \"\", \"〇\")","v":""},{"$f":"IF( ISNA(MATCH($L$5&C12, CSV!$E:$E, 0)), \"\", \"〇\")","v":""},{"$f":"IF( ISNA(MATCH($L$5&D12, CSV!$E:$E, 0)), \"\", \"〇\")","v":""},{"$f":"IF( ISNA(MATCH($L$5&E12, CSV!$E:$E, 0)), \"\", \"〇\")","v":""},{"$f":"IF( ISNA(MATCH(O$5&C12, CSV!$E:$E, 0)), \"\", \"〇\")","v":""},{"$f":"IF( ISNA(MATCH(O$5&D12, CSV!$E:$E, 0)), \"\", \"〇\")","v":""},{"$f":"IF( ISNA(MATCH(O$5&E12, CSV!$E:$E, 0)), \"\", \"〇\")","v":""},{"$f":"IF( ISNA(MATCH(R$5&C12, CSV!$E:$E, 0)), \"\", \"〇\")","v":""},{"$f":"IF( ISNA(MATCH(R$5&D12, CSV!$E:$E, 0)), \"\", \"〇\")","v":""},{"$f":"IF( ISNA(MATCH(R$5&E12, CSV!$E:$E, 0)), \"\", \"〇\")","v":""},{"$f":"IF( ISNA(MATCH(U$5&$C12, CSV!$E:$E, 0)), \"\", \"〇\")","v":""},{"$f":"IF( ISNA(MATCH(U$5&$D12, CSV!$E:$E, 0)), \"\", \"〇\")","v":""},{"$f":"IF( ISNA(MATCH(U$5&$E12, CSV!$E:$E, 0)), \"\", \"〇\")","v":""}]
[null,null,null,null,null,{"$f":"IF( ISNA(MATCH($F$5&C13, CSV!$E:$E, 0)), \"\", \"〇\")","v":""},{"$f":"IF( ISNA(MATCH($F$5&D13, CSV!$E:$E, 0)), \"\", \"〇\")","v":""},{"$f":"IF( ISNA(MATCH($F$5&E13, CSV!$E:$E, 0)), \"\", \"〇\")","v":""},{"$f":"IF( ISNA(MATCH($I$5&C13, CSV!$E:$E, 0)), \"\", \"〇\")","v":""},{"$f":"IF( ISNA(MATCH($I$5&D13, CSV!$E:$E, 0)), \"\", \"〇\")","v":""},{"$f":"IF( ISNA(MATCH($I$5&E13, CSV!$E:$E, 0)), \"\", \"〇\")","v":""},{"$f":"IF( ISNA(MATCH($L$5&C13, CSV!$E:$E, 0)), \"\", \"〇\")","v":""},{"$f":"IF( ISNA(MATCH($L$5&D13, CSV!$E:$E, 0)), \"\", \"〇\")","v":""},{"$f":"IF( ISNA(MATCH($L$5&E13, CSV!$E:$E, 0)), \"\", \"〇\")","v":""},{"$f":"IF( ISNA(MATCH(O$5&C13, CSV!$E:$E, 0)), \"\", \"〇\")","v":""},{"$f":"IF( ISNA(MATCH(O$5&D13, CSV!$E:$E, 0)), \"\", \"〇\")","v":""},{"$f":"IF( ISNA(MATCH(O$5&E13, CSV!$E:$E, 0)), \"\", \"〇\")","v":""},{"$f":"IF( ISNA(MATCH(R$5&C13, CSV!$E:$E, 0)), \"\", \"〇\")","v":""},{"$f":"IF( ISNA(MATCH(R$5&D13, CSV!$E:$E, 0)), \"\", \"〇\")","v":""},{"$f":"IF( ISNA(MATCH(R$5&E13, CSV!$E:$E, 0)), \"\", \"〇\")","v":""},{"$f":"IF( ISNA(MATCH(U$5&$C13, CSV!$E:$E, 0)), \"\", \"〇\")","v":""},{"$f":"IF( ISNA(MATCH(U$5&$D13, CSV!$E:$E, 0)), \"\", \"〇\")","v":""},{"$f":"IF( ISNA(MATCH(U$5&$E13, CSV!$E:$E, 0)), \"\", \"〇\")","v":""}]
["マムージャT3","アームドギア","フェライト","アームドギアの破片","薄墨の割符",{"$f":"IF( ISNA(MATCH($F$5&C14, CSV!$E:$E, 0)), \"\", \"〇\")","v":""},{"$f":"IF( ISNA(MATCH($F$5&D14, CSV!$E:$E, 0)), \"\", \"〇\")","v":""},{"$f":"IF( ISNA(MATCH($F$5&E14, CSV!$E:$E, 0)), \"\", \"〇\")","v":""},{"$f":"IF( ISNA(MATCH($I$5&C14, CSV!$E:$E, 0)), \"\", \"〇\")","v":""},{"$f":"IF( ISNA(MATCH($I$5&D14, CSV!$E:$E, 0)), \"\", \"〇\")","v":""},{"$f":"IF( ISNA(MATCH($I$5&E14, CSV!$E:$E, 0)), \"\", \"〇\")","v":""},{"$f":"IF( ISNA(MATCH($L$5&C14, CSV!$E:$E, 0)), \"\", \"〇\")","v":""},{"$f":"IF( ISNA(MATCH($L$5&D14, CSV!$E:$E, 0)), \"\", \"〇\")","v":""},{"$f":"IF( ISNA(MATCH($L$5&E14, CSV!$E:$E, 0)), \"\", \"〇\")","v":""},{"$f":"IF( ISNA(MATCH(O$5&C14, CSV!$E:$E, 0)), \"\", \"〇\")","v":""},{"$f":"IF( ISNA(MATCH(O$5&D14, CSV!$E:$E, 0)), \"\", \"〇\")","v":""},{"$f":"IF( ISNA(MATCH(O$5&E14, CSV!$E:$E, 0)), \"\", \"〇\")","v":""},{"$f":"IF( ISNA(MATCH(R$5&C14, CSV!$E:$E, 0)), \"\", \"〇\")","v":""},{"$f":"IF( ISNA(MATCH(R$5&D14, CSV!$E:$E, 0)), \"\", \"〇\")","v":""},{"$f":"IF( ISNA(MATCH(R$5&E14, CSV!$E:$E, 0)), \"\", \"〇\")","v":""},{"$f":"IF( ISNA(MATCH(U$5&$C14, CSV!$E:$E, 0)), \"\", \"〇\")","v":""},{"$f":"IF( ISNA(MATCH(U$5&$D14, CSV!$E:$E, 0)), \"\", \"〇\")","v":""},{"$f":"IF( ISNA(MATCH(U$5&$E14, CSV!$E:$E, 0)), \"\", \"〇\")","v":""}]
[null,"芳香のゴトージャ","シープボトフライ","ゴトージャの襟巻","烏羽の割符",{"$f":"IF( ISNA(MATCH($F$5&C15, CSV!$E:$E, 0)), \"\", \"〇\")","v":""},{"$f":"IF( ISNA(MATCH($F$5&D15, CSV!$E:$E, 0)), \"\", \"〇\")","v":""},{"$f":"IF( ISNA(MATCH($F$5&E15, CSV!$E:$E, 0)), \"\", \"〇\")","v":""},{"$f":"IF( ISNA(MATCH($I$5&C15, CSV!$E:$E, 0)), \"\", \"〇\")","v":""},{"$f":"IF( ISNA(MATCH($I$5&D15, CSV!$E:$E, 0)), \"\", \"〇\")","v":""},{"$f":"IF( ISNA(MATCH($I$5&E15, CSV!$E:$E, 0)), \"\", \"〇\")","v":""},{"$f":"IF( ISNA(MATCH($L$5&C15, CSV!$E:$E, 0)), \"\", \"〇\")","v":""},{"$f":"IF( ISNA(MATCH($L$5&D15, CSV!$E:$E, 0)), \"\", \"〇\")","v":""},{"$f":"IF( ISNA(MATCH($L$5&E15, CSV!$E:$E, 0)), \"\", \"〇\")","v":""},{"$f":"IF( ISNA(MATCH(O$5&C15, CSV!$E:$E, 0)), \"\", \"〇\")","v":""},{"$f":"IF( ISNA(MATCH(O$5&D15, CSV!$E:$E, 0)), \"\", \"〇\")","v":""},{"$f":"IF( ISNA(MATCH(O$5&E15, CSV!$E:$E, 0)), \"\", \"〇\")","v":""},{"$f":"IF( ISNA(MATCH(R$5&C15, CSV!$E:$E, 0)), \"\", \"〇\")","v":""},{"$f":"IF( ISNA(MATCH(R$5&D15, CSV!$E:$E, 0)), \"\", \"〇\")","v":""},{"$f":"IF( ISNA(MATCH(R$5&E15, CSV!$E:$E, 0)), \"\", \"〇\")","v":""},{"$f":"IF( ISNA(MATCH(U$5&$C15, CSV!$E:$E, 0)), \"\", \"〇\")","v":""},{"$f":"IF( ISNA(MATCH(U$5&$D15, CSV!$E:$E, 0)), \"\", \"〇\")","v":""},{"$f":"IF( ISNA(MATCH(U$5&$E15, CSV!$E:$E, 0)), \"\", \"〇\")","v":""}]
[null,"ディー","オルジリアカクタス","ディーの角","小豆の割符",{"$f":"IF( ISNA(MATCH($F$5&C16, CSV!$E:$E, 0)), \"\", \"〇\")","v":""},{"$f":"IF( ISNA(MATCH($F$5&D16, CSV!$E:$E, 0)), \"\", \"〇\")","v":""},{"$f":"IF( ISNA(MATCH($F$5&E16, CSV!$E:$E, 0)), \"\", \"〇\")","v":""},{"$f":"IF( ISNA(MATCH($I$5&C16, CSV!$E:$E, 0)), \"\", \"〇\")","v":""},{"$f":"IF( ISNA(MATCH($I$5&D16, CSV!$E:$E, 0)), \"\", \"〇\")","v":""},{"$f":"IF( ISNA(MATCH($I$5&E16, CSV!$E:$E, 0)), \"\", \"〇\")","v":""},{"$f":"IF( ISNA(MATCH($L$5&C16, CSV!$E:$E, 0)), \"\", \"〇\")","v":""},{"$f":"IF( ISNA(MATCH($L$5&D16, CSV!$E:$E, 0)), \"\", \"〇\")","v":""},{"$f":"IF( ISNA(MATCH($L$5&E16, CSV!$E:$E, 0)), \"\", \"〇\")","v":""},{"$f":"IF( ISNA(MATCH(O$5&C16, CSV!$E:$E, 0)), \"\", \"〇\")","v":""},{"$f":"IF( ISNA(MATCH(O$5&D16, CSV!$E:$E, 0)), \"\", \"〇\")","v":""},{"$f":"IF( ISNA(MATCH(O$5&E16, CSV!$E:$E, 0)), \"\", \"〇\")","v":""},{"$f":"IF( ISNA(MATCH(R$5&C16, CSV!$E:$E, 0)), \"\", \"〇\")","v":""},{"$f":"IF( ISNA(MATCH(R$5&D16, CSV!$E:$E, 0)), \"\", \"〇\")","v":""},{"$f":"IF( ISNA(MATCH(R$5&E16, CSV!$E:$E, 0)), \"\", \"〇\")","v":""},{"$f":"IF( ISNA(MATCH(U$5&$C16, CSV!$E:$E, 0)), \"\", \"〇\")","v":""},{"$f":"IF( ISNA(MATCH(U$5&$D16, CSV!$E:$E, 0)), \"\", \"〇\")","v":""},{"$f":"IF( ISNA(MATCH(U$5&$E16, CSV!$E:$E, 0)), \"\", \"〇\")","v":""}]
[null,null,null,null,null,{"$f":"IF( ISNA(MATCH($F$5&C17, CSV!$E:$E, 0)), \"\", \"〇\")","v":""},{"$f":"IF( ISNA(MATCH($F$5&D17, CSV!$E:$E, 0)), \"\", \"〇\")","v":""},{"$f":"IF( ISNA(MATCH($F$5&E17, CSV!$E:$E, 0)), \"\", \"〇\")","v":""},{"$f":"IF( ISNA(MATCH($I$5&C17, CSV!$E:$E, 0)), \"\", \"〇\")","v":""},{"$f":"IF( ISNA(MATCH($I$5&D17, CSV!$E:$E, 0)), \"\", \"〇\")","v":""},{"$f":"IF( ISNA(MATCH($I$5&E17, CSV!$E:$E, 0)), \"\", \"〇\")","v":""},{"$f":"IF( ISNA(MATCH($L$5&C17, CSV!$E:$E, 0)), \"\", \"〇\")","v":""},{"$f":"IF( ISNA(MATCH($L$5&D17, CSV!$E:$E, 0)), \"\", \"〇\")","v":""},{"$f":"IF( ISNA(MATCH($L$5&E17, CSV!$E:$E, 0)), \"\", \"〇\")","v":""},{"$f":"IF( ISNA(MATCH(O$5&C17, CSV!$E:$E, 0)), \"\", \"〇\")","v":""},{"$f":"IF( ISNA(MATCH(O$5&D17, CSV!$E:$E, 0)), \"\", \"〇\")","v":""},{"$f":"IF( ISNA(MATCH(O$5&E17, CSV!$E:$E, 0)), \"\", \"〇\")","v":""},{"$f":"IF( ISNA(MATCH(R$5&C17, CSV!$E:$E, 0)), \"\", \"〇\")","v":""},{"$f":"IF( ISNA(MATCH(R$5&D17, CSV!$E:$E, 0)), \"\", \"〇\")","v":""},{"$f":"IF( ISNA(MATCH(R$5&E17, CSV!$E:$E, 0)), \"\", \"〇\")","v":""},{"$f":"IF( ISNA(MATCH(U$5&$C17, CSV!$E:$E, 0)), \"\", \"〇\")","v":""},{"$f":"IF( ISNA(MATCH(U$5&$D17, CSV!$E:$E, 0)), \"\", \"〇\")","v":""},{"$f":"IF( ISNA(MATCH(U$5&$E17, CSV!$E:$E, 0)), \"\", \"〇\")","v":""}]
["マムージャT4","ティンニン","猿酒","ティンニンの牙","竜胆の割符",{"$f":"IF( ISNA(MATCH($F$5&C18, CSV!$E:$E, 0)), \"\", \"〇\")","v":""},{"$f":"IF( ISNA(MATCH($F$5&D18, CSV!$E:$E, 0)), \"\", \"〇\")","v":""},{"$f":"IF( ISNA(MATCH($F$5&E18, CSV!$E:$E, 0)), \"\", \"〇\")","v":""},{"$f":"IF( ISNA(MATCH($I$5&C18, CSV!$E:$E, 0)), \"\", \"〇\")","v":""},{"$f":"IF( ISNA(MATCH($I$5&D18, CSV!$E:$E, 0)), \"\", \"〇\")","v":""},{"$f":"IF( ISNA(MATCH($I$5&E18, CSV!$E:$E, 0)), \"\", \"〇\")","v":""},{"$f":"IF( ISNA(MATCH($L$5&C18, CSV!$E:$E, 0)), \"\", \"〇\")","v":""},{"$f":"IF( ISNA(MATCH($L$5&D18, CSV!$E:$E, 0)), \"\", \"〇\")","v":""},{"$f":"IF( ISNA(MATCH($L$5&E18, CSV!$E:$E, 0)), \"\", \"〇\")","v":""},{"$f":"IF( ISNA(MATCH(O$5&C18, CSV!$E:$E, 0)), \"\", \"〇\")","v":""},{"$f":"IF( ISNA(MATCH(O$5&D18, CSV!$E:$E, 0)), \"\", \"〇\")","v":""},{"$f":"IF( ISNA(MATCH(O$5&E18, CSV!$E:$E, 0)), \"\", \"〇\")","v":""},{"$f":"IF( ISNA(MATCH(R$5&C18, CSV!$E:$E, 0)), \"\", \"〇\")","v":""},{"$f":"IF( ISNA(MATCH(R$5&D18, CSV!$E:$E, 0)), \"\", \"〇\")","v":""},{"$f":"IF( ISNA(MATCH(R$5&E18, CSV!$E:$E, 0)), \"\", \"〇\")","v":""},{"$f":"IF( ISNA(MATCH(U$5&$C18, CSV!$E:$E, 0)), \"\", \"〇\")","v":""},{"$f":"IF( ISNA(MATCH(U$5&$D18, CSV!$E:$E, 0)), \"\", \"〇\")","v":""},{"$f":"IF( ISNA(MATCH(U$5&$E18, CSV!$E:$E, 0)), \"\", \"〇\")","v":""}]
[null,null,null,null,"偃月の塩",{"$f":"IF( ISNA(MATCH($F$5&C19, CSV!$E:$E, 0)), \"\", \"〇\")","v":""},{"$f":"IF( ISNA(MATCH($F$5&D19, CSV!$E:$E, 0)), \"\", \"〇\")","v":""},{"$f":"IF( ISNA(MATCH($F$5&E19, CSV!$E:$E, 0)), \"\", \"〇\")","v":""},{"$f":"IF( ISNA(MATCH($I$5&C19, CSV!$E:$E, 0)), \"\", \"〇\")","v":""},{"$f":"IF( ISNA(MATCH($I$5&D19, CSV!$E:$E, 0)), \"\", \"〇\")","v":""},{"$f":"IF( ISNA(MATCH($I$5&E19, CSV!$E:$E, 0)), \"\", \"〇\")","v":""},{"$f":"IF( ISNA(MATCH($L$5&C19, CSV!$E:$E, 0)), \"\", \"〇\")","v":""},{"$f":"IF( ISNA(MATCH($L$5&D19, CSV!$E:$E, 0)), \"\", \"〇\")","v":""},{"$f":"IF( ISNA(MATCH($L$5&E19, CSV!$E:$E, 0)), \"\", \"〇\")","v":""},{"$f":"IF( ISNA(MATCH(O$5&C19, CSV!$E:$E, 0)), \"\", \"〇\")","v":""},{"$f":"IF( ISNA(MATCH(O$5&D19, CSV!$E:$E, 0)), \"\", \"〇\")","v":""},{"$f":"IF( ISNA(MATCH(O$5&E19, CSV!$E:$E, 0)), \"\", \"〇\")","v":""},{"$f":"IF( ISNA(MATCH(R$5&C19, CSV!$E:$E, 0)), \"\", \"〇\")","v":""},{"$f":"IF( ISNA(MATCH(R$5&D19, CSV!$E:$E, 0)), \"\", \"〇\")","v":""},{"$f":"IF( ISNA(MATCH(R$5&E19, CSV!$E:$E, 0)), \"\", \"〇\")","v":""},{"$f":"IF( ISNA(MATCH(U$5&$C19, CSV!$E:$E, 0)), \"\", \"〇\")","v":""},{"$f":"IF( ISNA(MATCH(U$5&$D19, CSV!$E:$E, 0)), \"\", \"〇\")","v":""},{"$f":"IF( ISNA(MATCH(U$5&$E19, CSV!$E:$E, 0)), \"\", \"〇\")","v":""}]
[null,null,null,null,null,{"$f":"IF( ISNA(MATCH($F$5&C20, CSV!$E:$E, 0)), \"\", \"〇\")","v":""},{"$f":"IF( ISNA(MATCH($F$5&D20, CSV!$E:$E, 0)), \"\", \"〇\")","v":""},{"$f":"IF( ISNA(MATCH($F$5&E20, CSV!$E:$E, 0)), \"\", \"〇\")","v":""},{"$f":"IF( ISNA(MATCH($I$5&C20, CSV!$E:$E, 0)), \"\", \"〇\")","v":""},{"$f":"IF( ISNA(MATCH($I$5&D20, CSV!$E:$E, 0)), \"\", \"〇\")","v":""},{"$f":"IF( ISNA(MATCH($I$5&E20, CSV!$E:$E, 0)), \"\", \"〇\")","v":""},{"$f":"IF( ISNA(MATCH($L$5&C20, CSV!$E:$E, 0)), \"\", \"〇\")","v":""},{"$f":"IF( ISNA(MATCH($L$5&D20, CSV!$E:$E, 0)), \"\", \"〇\")","v":""},{"$f":"IF( ISNA(MATCH($L$5&E20, CSV!$E:$E, 0)), \"\", \"〇\")","v":""},{"$f":"IF( ISNA(MATCH(O$5&C20, CSV!$E:$E, 0)), \"\", \"〇\")","v":""},{"$f":"IF( ISNA(MATCH(O$5&D20, CSV!$E:$E, 0)), \"\", \"〇\")","v":""},{"$f":"IF( ISNA(MATCH(O$5&E20, CSV!$E:$E, 0)), \"\", \"〇\")","v":""},{"$f":"IF( ISNA(MATCH(R$5&C20, CSV!$E:$E, 0)), \"\", \"〇\")","v":""},{"$f":"IF( ISNA(MATCH(R$5&D20, CSV!$E:$E, 0)), \"\", \"〇\")","v":""},{"$f":"IF( ISNA(MATCH(R$5&E20, CSV!$E:$E, 0)), \"\", \"〇\")","v":""},{"$f":"IF( ISNA(MATCH(U$5&$C20, CSV!$E:$E, 0)), \"\", \"〇\")","v":""},{"$f":"IF( ISNA(MATCH(U$5&$D20, CSV!$E:$E, 0)), \"\", \"〇\")","v":""},{"$f":"IF( ISNA(MATCH(U$5&$E20, CSV!$E:$E, 0)), \"\", \"〇\")","v":""}]
[null,null,null,null,null,{"$f":"IF( ISNA(MATCH($F$5&C21, CSV!$E:$E, 0)), \"\", \"〇\")","v":""},{"$f":"IF( ISNA(MATCH($F$5&D21, CSV!$E:$E, 0)), \"\", \"〇\")","v":""},{"$f":"IF( ISNA(MATCH($F$5&E21, CSV!$E:$E, 0)), \"\", \"〇\")","v":""},{"$f":"IF( ISNA(MATCH($I$5&C21, CSV!$E:$E, 0)), \"\", \"〇\")","v":""},{"$f":"IF( ISNA(MATCH($I$5&D21, CSV!$E:$E, 0)), \"\", \"〇\")","v":""},{"$f":"IF( ISNA(MATCH($I$5&E21, CSV!$E:$E, 0)), \"\", \"〇\")","v":""},{"$f":"IF( ISNA(MATCH($L$5&C21, CSV!$E:$E, 0)), \"\", \"〇\")","v":""},{"$f":"IF( ISNA(MATCH($L$5&D21, CSV!$E:$E, 0)), \"\", \"〇\")","v":""},{"$f":"IF( ISNA(MATCH($L$5&E21, CSV!$E:$E, 0)), \"\", \"〇\")","v":""},{"$f":"IF( ISNA(MATCH(O$5&C21, CSV!$E:$E, 0)), \"\", \"〇\")","v":""},{"$f":"IF( ISNA(MATCH(O$5&D21, CSV!$E:$E, 0)), \"\", \"〇\")","v":""},{"$f":"IF( ISNA(MATCH(O$5&E21, CSV!$E:$E, 0)), \"\", \"〇\")","v":""},{"$f":"IF( ISNA(MATCH(R$5&C21, CSV!$E:$E, 0)), \"\", \"〇\")","v":""},{"$f":"IF( ISNA(MATCH(R$5&D21, CSV!$E:$E, 0)), \"\", \"〇\")","v":""},{"$f":"IF( ISNA(MATCH(R$5&E21, CSV!$E:$E, 0)), \"\", \"〇\")","v":""},{"$f":"IF( ISNA(MATCH(U$5&$C21, CSV!$E:$E, 0)), \"\", \"〇\")","v":""},{"$f":"IF( ISNA(MATCH(U$5&$D21, CSV!$E:$E, 0)), \"\", \"〇\")","v":""},{"$f":"IF( ISNA(MATCH(U$5&$E21, CSV!$E:$E, 0)), \"\", \"〇\")","v":""}]
[null,null,null,null,null,{"$f":"IF( ISNA(MATCH($F$5&C22, CSV!$E:$E, 0)), \"\", \"〇\")","v":""},{"$f":"IF( ISNA(MATCH($F$5&D22, CSV!$E:$E, 0)), \"\", \"〇\")","v":""},{"$f":"IF( ISNA(MATCH($F$5&E22, CSV!$E:$E, 0)), \"\", \"〇\")","v":""},{"$f":"IF( ISNA(MATCH($I$5&C22, CSV!$E:$E, 0)), \"\", \"〇\")","v":""},{"$f":"IF( ISNA(MATCH($I$5&D22, CSV!$E:$E, 0)), \"\", \"〇\")","v":""},{"$f":"IF( ISNA(MATCH($I$5&E22, CSV!$E:$E, 0)), \"\", \"〇\")","v":""},{"$f":"IF( ISNA(MATCH($L$5&C22, CSV!$E:$E, 0)), \"\", \"〇\")","v":""},{"$f":"IF( ISNA(MATCH($L$5&D22, CSV!$E:$E, 0)), \"\", \"〇\")","v":""},{"$f":"IF( ISNA(MATCH($L$5&E22, CSV!$E:$E, 0)), \"\", \"〇\")","v":""},{"$f":"IF( ISNA(MATCH(O$5&C22, CSV!$E:$E, 0)), \"\", \"〇\")","v":""},{"$f":"IF( ISNA(MATCH(O$5&D22, CSV!$E:$E, 0)), \"\", \"〇\")","v":""},{"$f":"IF( ISNA(MATCH(O$5&E22, CSV!$E:$E, 0)), \"\", \"〇\")","v":""},{"$f":"IF( ISNA(MATCH(R$5&C22, CSV!$E:$E, 0)), \"\", \"〇\")","v":""},{"$f":"IF( ISNA(MATCH(R$5&D22, CSV!$E:$E, 0)), \"\", \"〇\")","v":""},{"$f":"IF( ISNA(MATCH(R$5&E22, CSV!$E:$E, 0)), \"\", \"〇\")","v":""},{"$f":"IF( ISNA(MATCH(U$5&$C22, CSV!$E:$E, 0)), \"\", \"〇\")","v":""},{"$f":"IF( ISNA(MATCH(U$5&$D22, CSV!$E:$E, 0)), \"\", \"〇\")","v":""},{"$f":"IF( ISNA(MATCH(U$5&$E22, CSV!$E:$E, 0)), \"\", \"〇\")","v":""}]
["ハルブーンT1","ブラスボーラー","陰葉","ブラスボーラーの繭","臙脂の割符",{"$f":"IF( ISNA(MATCH($F$5&C23, CSV!$E:$E, 0)), \"\", \"〇\")","v":""},{"$f":"IF( ISNA(MATCH($F$5&D23, CSV!$E:$E, 0)), \"\", \"〇\")","v":""},{"$f":"IF( ISNA(MATCH($F$5&E23, CSV!$E:$E, 0)), \"\", \"〇\")","v":""},{"$f":"IF( ISNA(MATCH($I$5&C23, CSV!$E:$E, 0)), \"\", \"〇\")","v":""},{"$f":"IF( ISNA(MATCH($I$5&D23, CSV!$E:$E, 0)), \"\", \"〇\")","v":""},{"$f":"IF( ISNA(MATCH($I$5&E23, CSV!$E:$E, 0)), \"\", \"〇\")","v":""},{"$f":"IF( ISNA(MATCH($L$5&C23, CSV!$E:$E, 0)), \"\", \"〇\")","v":""},{"$f":"IF( ISNA(MATCH($L$5&D23, CSV!$E:$E, 0)), \"\", \"〇\")","v":""},{"$f":"IF( ISNA(MATCH($L$5&E23, CSV!$E:$E, 0)), \"\", \"〇\")","v":""},{"$f":"IF( ISNA(MATCH(O$5&C23, CSV!$E:$E, 0)), \"\", \"〇\")","v":""},{"$f":"IF( ISNA(MATCH(O$5&D23, CSV!$E:$E, 0)), \"\", \"〇\")","v":""},{"$f":"IF( ISNA(MATCH(O$5&E23, CSV!$E:$E, 0)), \"\", \"〇\")","v":""},{"$f":"IF( ISNA(MATCH(R$5&C23, CSV!$E:$E, 0)), \"\", \"〇\")","v":""},{"$f":"IF( ISNA(MATCH(R$5&D23, CSV!$E:$E, 0)), \"\", \"〇\")","v":""},{"$f":"IF( ISNA(MATCH(R$5&E23, CSV!$E:$E, 0)), \"\", \"〇\")","v":""},{"$f":"IF( ISNA(MATCH(U$5&$C23, CSV!$E:$E, 0)), \"\", \"〇\")","v":""},{"$f":"IF( ISNA(MATCH(U$5&$D23, CSV!$E:$E, 0)), \"\", \"〇\")","v":""},{"$f":"IF( ISNA(MATCH(U$5&$E23, CSV!$E:$E, 0)), \"\", \"〇\")","v":""}]
[null,"クラレット","ペクチン","ミニクラレット",null,{"$f":"IF( ISNA(MATCH($F$5&C24, CSV!$E:$E, 0)), \"\", \"〇\")","v":""},{"$f":"IF( ISNA(MATCH($F$5&D24, CSV!$E:$E, 0)), \"\", \"〇\")","v":""},{"$f":"IF( ISNA(MATCH($F$5&E24, CSV!$E:$E, 0)), \"\", \"〇\")","v":""},{"$f":"IF( ISNA(MATCH($I$5&C24, CSV!$E:$E, 0)), \"\", \"〇\")","v":""},{"$f":"IF( ISNA(MATCH($I$5&D24, CSV!$E:$E, 0)), \"\", \"〇\")","v":""},{"$f":"IF( ISNA(MATCH($I$5&E24, CSV!$E:$E, 0)), \"\", \"〇\")","v":""},{"$f":"IF( ISNA(MATCH($L$5&C24, CSV!$E:$E, 0)), \"\", \"〇\")","v":""},{"$f":"IF( ISNA(MATCH($L$5&D24, CSV!$E:$E, 0)), \"\", \"〇\")","v":""},{"$f":"IF( ISNA(MATCH($L$5&E24, CSV!$E:$E, 0)), \"\", \"〇\")","v":""},{"$f":"IF( ISNA(MATCH(O$5&C24, CSV!$E:$E, 0)), \"\", \"〇\")","v":""},{"$f":"IF( ISNA(MATCH(O$5&D24, CSV!$E:$E, 0)), \"\", \"〇\")","v":""},{"$f":"IF( ISNA(MATCH(O$5&E24, CSV!$E:$E, 0)), \"\", \"〇\")","v":""},{"$f":"IF( ISNA(MATCH(R$5&C24, CSV!$E:$E, 0)), \"\", \"〇\")","v":""},{"$f":"IF( ISNA(MATCH(R$5&D24, CSV!$E:$E, 0)), \"\", \"〇\")","v":""},{"$f":"IF( ISNA(MATCH(R$5&E24, CSV!$E:$E, 0)), \"\", \"〇\")","v":""},{"$f":"IF( ISNA(MATCH(U$5&$C24, CSV!$E:$E, 0)), \"\", \"〇\")","v":""},{"$f":"IF( ISNA(MATCH(U$5&$D24, CSV!$E:$E, 0)), \"\", \"〇\")","v":""},{"$f":"IF( ISNA(MATCH(U$5&$E24, CSV!$E:$E, 0)), \"\", \"〇\")","v":""}]
[null,"オブ","減摩油","オブの手",null,{"$f":"IF( ISNA(MATCH($F$5&C25, CSV!$E:$E, 0)), \"\", \"〇\")","v":""},{"$f":"IF( ISNA(MATCH($F$5&D25, CSV!$E:$E, 0)), \"\", \"〇\")","v":""},{"$f":"IF( ISNA(MATCH($F$5&E25, CSV!$E:$E, 0)), \"\", \"〇\")","v":""},{"$f":"IF( ISNA(MATCH($I$5&C25, CSV!$E:$E, 0)), \"\", \"〇\")","v":""},{"$f":"IF( ISNA(MATCH($I$5&D25, CSV!$E:$E, 0)), \"\", \"〇\")","v":""},{"$f":"IF( ISNA(MATCH($I$5&E25, CSV!$E:$E, 0)), \"\", \"〇\")","v":""},{"$f":"IF( ISNA(MATCH($L$5&C25, CSV!$E:$E, 0)), \"\", \"〇\")","v":""},{"$f":"IF( ISNA(MATCH($L$5&D25, CSV!$E:$E, 0)), \"\", \"〇\")","v":""},{"$f":"IF( ISNA(MATCH($L$5&E25, CSV!$E:$E, 0)), \"\", \"〇\")","v":""},{"$f":"IF( ISNA(MATCH(O$5&C25, CSV!$E:$E, 0)), \"\", \"〇\")","v":""},{"$f":"IF( ISNA(MATCH(O$5&D25, CSV!$E:$E, 0)), \"\", \"〇\")","v":""},{"$f":"IF( ISNA(MATCH(O$5&E25, CSV!$E:$E, 0)), \"\", \"〇\")","v":""},{"$f":"IF( ISNA(MATCH(R$5&C25, CSV!$E:$E, 0)), \"\", \"〇\")","v":""},{"$f":"IF( ISNA(MATCH(R$5&D25, CSV!$E:$E, 0)), \"\", \"〇\")","v":""},{"$f":"IF( ISNA(MATCH(R$5&E25, CSV!$E:$E, 0)), \"\", \"〇\")","v":""},{"$f":"IF( ISNA(MATCH(U$5&$C25, CSV!$E:$E, 0)), \"\", \"〇\")","v":""},{"$f":"IF( ISNA(MATCH(U$5&$D25, CSV!$E:$E, 0)), \"\", \"〇\")","v":""},{"$f":"IF( ISNA(MATCH(U$5&$E25, CSV!$E:$E, 0)), \"\", \"〇\")","v":""}]
[null,null,null,null,null,{"$f":"IF( ISNA(MATCH($F$5&C26, CSV!$E:$E, 0)), \"\", \"〇\")","v":""},{"$f":"IF( ISNA(MATCH($F$5&D26, CSV!$E:$E, 0)), \"\", \"〇\")","v":""},{"$f":"IF( ISNA(MATCH($F$5&E26, CSV!$E:$E, 0)), \"\", \"〇\")","v":""},{"$f":"IF( ISNA(MATCH($I$5&C26, CSV!$E:$E, 0)), \"\", \"〇\")","v":""},{"$f":"IF( ISNA(MATCH($I$5&D26, CSV!$E:$E, 0)), \"\", \"〇\")","v":""},{"$f":"IF( ISNA(MATCH($I$5&E26, CSV!$E:$E, 0)), \"\", \"〇\")","v":""},{"$f":"IF( ISNA(MATCH($L$5&C26, CSV!$E:$E, 0)), \"\", \"〇\")","v":""},{"$f":"IF( ISNA(MATCH($L$5&D26, CSV!$E:$E, 0)), \"\", \"〇\")","v":""},{"$f":"IF( ISNA(MATCH($L$5&E26, CSV!$E:$E, 0)), \"\", \"〇\")","v":""},{"$f":"IF( ISNA(MATCH(O$5&C26, CSV!$E:$E, 0)), \"\", \"〇\")","v":""},{"$f":"IF( ISNA(MATCH(O$5&D26, CSV!$E:$E, 0)), \"\", \"〇\")","v":""},{"$f":"IF( ISNA(MATCH(O$5&E26, CSV!$E:$E, 0)), \"\", \"〇\")","v":""},{"$f":"IF( ISNA(MATCH(R$5&C26, CSV!$E:$E, 0)), \"\", \"〇\")","v":""},{"$f":"IF( ISNA(MATCH(R$5&D26, CSV!$E:$E, 0)), \"\", \"〇\")","v":""},{"$f":"IF( ISNA(MATCH(R$5&E26, CSV!$E:$E, 0)), \"\", \"〇\")","v":""},{"$f":"IF( ISNA(MATCH(U$5&$C26, CSV!$E:$E, 0)), \"\", \"〇\")","v":""},{"$f":"IF( ISNA(MATCH(U$5&$D26, CSV!$E:$E, 0)), \"\", \"〇\")","v":""},{"$f":"IF( ISNA(MATCH(U$5&$E26, CSV!$E:$E, 0)), \"\", \"〇\")","v":""}]
["ハルブーンT2","アナンタボガ","野牛の鮮肉","アナンタボガの心臓","東雲の割符",{"$f":"IF( ISNA(MATCH($F$5&C27, CSV!$E:$E, 0)), \"\", \"〇\")","v":""},{"$f":"IF( ISNA(MATCH($F$5&D27, CSV!$E:$E, 0)), \"\", \"〇\")","v":""},{"$f":"IF( ISNA(MATCH($F$5&E27, CSV!$E:$E, 0)), \"\", \"〇\")","v":""},{"$f":"IF( ISNA(MATCH($I$5&C27, CSV!$E:$E, 0)), \"\", \"〇\")","v":""},{"$f":"IF( ISNA(MATCH($I$5&D27, CSV!$E:$E, 0)), \"\", \"〇\")","v":""},{"$f":"IF( ISNA(MATCH($I$5&E27, CSV!$E:$E, 0)), \"\", \"〇\")","v":""},{"$f":"IF( ISNA(MATCH($L$5&C27, CSV!$E:$E, 0)), \"\", \"〇\")","v":""},{"$f":"IF( ISNA(MATCH($L$5&D27, CSV!$E:$E, 0)), \"\", \"〇\")","v":""},{"$f":"IF( ISNA(MATCH($L$5&E27, CSV!$E:$E, 0)), \"\", \"〇\")","v":""},{"$f":"IF( ISNA(MATCH(O$5&C27, CSV!$E:$E, 0)), \"\", \"〇\")","v":""},{"$f":"IF( ISNA(MATCH(O$5&D27, CSV!$E:$E, 0)), \"\", \"〇\")","v":""},{"$f":"IF( ISNA(MATCH(O$5&E27, CSV!$E:$E, 0)), \"\", \"〇\")","v":""},{"$f":"IF( ISNA(MATCH(R$5&C27, CSV!$E:$E, 0)), \"\", \"〇\")","v":""},{"$f":"IF( ISNA(MATCH(R$5&D27, CSV!$E:$E, 0)), \"\", \"〇\")","v":""},{"$f":"IF( ISNA(MATCH(R$5&E27, CSV!$E:$E, 0)), \"\", \"〇\")","v":""},{"$f":"IF( ISNA(MATCH(U$5&$C27, CSV!$E:$E, 0)), \"\", \"〇\")","v":""},{"$f":"IF( ISNA(MATCH(U$5&$D27, CSV!$E:$E, 0)), \"\", \"〇\")","v":""},{"$f":"IF( ISNA(MATCH(U$5&$E27, CSV!$E:$E, 0)), \"\", \"〇\")","v":""}]
[null,"リアクトン","骸炭","リアクトンの灰",null,{"$f":"IF( ISNA(MATCH($F$5&C28, CSV!$E:$E, 0)), \"\", \"〇\")","v":""},{"$f":"IF( ISNA(MATCH($F$5&D28, CSV!$E:$E, 0)), \"\", \"〇\")","v":""},{"$f":"IF( ISNA(MATCH($F$5&E28, CSV!$E:$E, 0)), \"\", \"〇\")","v":""},{"$f":"IF( ISNA(MATCH($I$5&C28, CSV!$E:$E, 0)), \"\", \"〇\")","v":""},{"$f":"IF( ISNA(MATCH($I$5&D28, CSV!$E:$E, 0)), \"\", \"〇\")","v":""},{"$f":"IF( ISNA(MATCH($I$5&E28, CSV!$E:$E, 0)), \"\", \"〇\")","v":""},{"$f":"IF( ISNA(MATCH($L$5&C28, CSV!$E:$E, 0)), \"\", \"〇\")","v":""},{"$f":"IF( ISNA(MATCH($L$5&D28, CSV!$E:$E, 0)), \"\", \"〇\")","v":""},{"$f":"IF( ISNA(MATCH($L$5&E28, CSV!$E:$E, 0)), \"\", \"〇\")","v":""},{"$f":"IF( ISNA(MATCH(O$5&C28, CSV!$E:$E, 0)), \"\", \"〇\")","v":""},{"$f":"IF( ISNA(MATCH(O$5&D28, CSV!$E:$E, 0)), \"\", \"〇\")","v":""},{"$f":"IF( ISNA(MATCH(O$5&E28, CSV!$E:$E, 0)), \"\", \"〇\")","v":""},{"$f":"IF( ISNA(MATCH(R$5&C28, CSV!$E:$E, 0)), \"\", \"〇\")","v":""},{"$f":"IF( ISNA(MATCH(R$5&D28, CSV!$E:$E, 0)), \"\", \"〇\")","v":""},{"$f":"IF( ISNA(MATCH(R$5&E28, CSV!$E:$E, 0)), \"\", \"〇\")","v":""},{"$f":"IF( ISNA(MATCH(U$5&$C28, CSV!$E:$E, 0)), \"\", \"〇\")","v":""},{"$f":"IF( ISNA(MATCH(U$5&$D28, CSV!$E:$E, 0)), \"\", \"〇\")","v":""},{"$f":"IF( ISNA(MATCH(U$5&$E28, CSV!$E:$E, 0)), \"\", \"〇\")","v":""}]
[null,"デクストロース","粗目糖","デクストロースの肉",null,{"$f":"IF( ISNA(MATCH($F$5&C29, CSV!$E:$E, 0)), \"\", \"〇\")","v":""},{"$f":"IF( ISNA(MATCH($F$5&D29, CSV!$E:$E, 0)), \"\", \"〇\")","v":""},{"$f":"IF( ISNA(MATCH($F$5&E29, CSV!$E:$E, 0)), \"\", \"〇\")","v":""},{"$f":"IF( ISNA(MATCH($I$5&C29, CSV!$E:$E, 0)), \"\", \"〇\")","v":""},{"$f":"IF( ISNA(MATCH($I$5&D29, CSV!$E:$E, 0)), \"\", \"〇\")","v":""},{"$f":"IF( ISNA(MATCH($I$5&E29, CSV!$E:$E, 0)), \"\", \"〇\")","v":""},{"$f":"IF( ISNA(MATCH($L$5&C29, CSV!$E:$E, 0)), \"\", \"〇\")","v":""},{"$f":"IF( ISNA(MATCH($L$5&D29, CSV!$E:$E, 0)), \"\", \"〇\")","v":""},{"$f":"IF( ISNA(MATCH($L$5&E29, CSV!$E:$E, 0)), \"\", \"〇\")","v":""},{"$f":"IF( ISNA(MATCH(O$5&C29, CSV!$E:$E, 0)), \"\", \"〇\")","v":""},{"$f":"IF( ISNA(MATCH(O$5&D29, CSV!$E:$E, 0)), \"\", \"〇\")","v":""},{"$f":"IF( ISNA(MATCH(O$5&E29, CSV!$E:$E, 0)), \"\", \"〇\")","v":""},{"$f":"IF( ISNA(MATCH(R$5&C29, CSV!$E:$E, 0)), \"\", \"〇\")","v":""},{"$f":"IF( ISNA(MATCH(R$5&D29, CSV!$E:$E, 0)), \"\", \"〇\")","v":""},{"$f":"IF( ISNA(MATCH(R$5&E29, CSV!$E:$E, 0)), \"\", \"〇\")","v":""},{"$f":"IF( ISNA(MATCH(U$5&$C29, CSV!$E:$E, 0)), \"\", \"〇\")","v":""},{"$f":"IF( ISNA(MATCH(U$5&$D29, CSV!$E:$E, 0)), \"\", \"〇\")","v":""},{"$f":"IF( ISNA(MATCH(U$5&$E29, CSV!$E:$E, 0)), \"\", \"〇\")","v":""}]
[null,null,null,null,null,{"$f":"IF( ISNA(MATCH($F$5&C30, CSV!$E:$E, 0)), \"\", \"〇\")","v":""},{"$f":"IF( ISNA(MATCH($F$5&D30, CSV!$E:$E, 0)), \"\", \"〇\")","v":""},{"$f":"IF( ISNA(MATCH($F$5&E30, CSV!$E:$E, 0)), \"\", \"〇\")","v":""},{"$f":"IF( ISNA(MATCH($I$5&C30, CSV!$E:$E, 0)), \"\", \"〇\")","v":""},{"$f":"IF( ISNA(MATCH($I$5&D30, CSV!$E:$E, 0)), \"\", \"〇\")","v":""},{"$f":"IF( ISNA(MATCH($I$5&E30, CSV!$E:$E, 0)), \"\", \"〇\")","v":""},{"$f":"IF( ISNA(MATCH($L$5&C30, CSV!$E:$E, 0)), \"\", \"〇\")","v":""},{"$f":"IF( ISNA(MATCH($L$5&D30, CSV!$E:$E, 0)), \"\", \"〇\")","v":""},{"$f":"IF( ISNA(MATCH($L$5&E30, CSV!$E:$E, 0)), \"\", \"〇\")","v":""},{"$f":"IF( ISNA(MATCH(O$5&C30, CSV!$E:$E, 0)), \"\", \"〇\")","v":""},{"$f":"IF( ISNA(MATCH(O$5&D30, CSV!$E:$E, 0)), \"\", \"〇\")","v":""},{"$f":"IF( ISNA(MATCH(O$5&E30, CSV!$E:$E, 0)), \"\", \"〇\")","v":""},{"$f":"IF( ISNA(MATCH(R$5&C30, CSV!$E:$E, 0)), \"\", \"〇\")","v":""},{"$f":"IF( ISNA(MATCH(R$5&D30, CSV!$E:$E, 0)), \"\", \"〇\")","v":""},{"$f":"IF( ISNA(MATCH(R$5&E30, CSV!$E:$E, 0)), \"\", \"〇\")","v":""},{"$f":"IF( ISNA(MATCH(U$5&$C30, CSV!$E:$E, 0)), \"\", \"〇\")","v":""},{"$f":"IF( ISNA(MATCH(U$5&$D30, CSV!$E:$E, 0)), \"\", \"〇\")","v":""},{"$f":"IF( ISNA(MATCH(U$5&$E30, CSV!$E:$E, 0)), \"\", \"〇\")","v":""}]
["ハルブーンT3","ノスフェラトゥ","紅血","ノスフェラトゥの爪","滅紫の割符",{"$f":"IF( ISNA(MATCH($F$5&C31, CSV!$E:$E, 0)), \"\", \"〇\")","v":""},{"$f":"IF( ISNA(MATCH($F$5&D31, CSV!$E:$E, 0)), \"\", \"〇\")","v":""},{"$f":"IF( ISNA(MATCH($F$5&E31, CSV!$E:$E, 0)), \"\", \"〇\")","v":""},{"$f":"IF( ISNA(MATCH($I$5&C31, CSV!$E:$E, 0)), \"\", \"〇\")","v":""},{"$f":"IF( ISNA(MATCH($I$5&D31, CSV!$E:$E, 0)), \"\", \"〇\")","v":""},{"$f":"IF( ISNA(MATCH($I$5&E31, CSV!$E:$E, 0)), \"\", \"〇\")","v":""},{"$f":"IF( ISNA(MATCH($L$5&C31, CSV!$E:$E, 0)), \"\", \"〇\")","v":""},{"$f":"IF( ISNA(MATCH($L$5&D31, CSV!$E:$E, 0)), \"\", \"〇\")","v":""},{"$f":"IF( ISNA(MATCH($L$5&E31, CSV!$E:$E, 0)), \"\", \"〇\")","v":""},{"$f":"IF( ISNA(MATCH(O$5&C31, CSV!$E:$E, 0)), \"\", \"〇\")","v":""},{"$f":"IF( ISNA(MATCH(O$5&D31, CSV!$E:$E, 0)), \"\", \"〇\")","v":""},{"$f":"IF( ISNA(MATCH(O$5&E31, CSV!$E:$E, 0)), \"\", \"〇\")","v":""},{"$f":"IF( ISNA(MATCH(R$5&C31, CSV!$E:$E, 0)), \"\", \"〇\")","v":""},{"$f":"IF( ISNA(MATCH(R$5&D31, CSV!$E:$E, 0)), \"\", \"〇\")","v":""},{"$f":"IF( ISNA(MATCH(R$5&E31, CSV!$E:$E, 0)), \"\", \"〇\")","v":""},{"$f":"IF( ISNA(MATCH(U$5&$C31, CSV!$E:$E, 0)), \"\", \"〇\")","v":""},{"$f":"IF( ISNA(MATCH(U$5&$D31, CSV!$E:$E, 0)), \"\", \"〇\")","v":""},{"$f":"IF( ISNA(MATCH(U$5&$E31, CSV!$E:$E, 0)), \"\", \"〇\")","v":""}]
[null,"金敷のブーボーロー","ビネガーパイ","ブーボーローの腕甲","黄金の割符",{"$f":"IF( ISNA(MATCH($F$5&C32, CSV!$E:$E, 0)), \"\", \"〇\")","v":""},{"$f":"IF( ISNA(MATCH($F$5&D32, CSV!$E:$E, 0)), \"\", \"〇\")","v":""},{"$f":"IF( ISNA(MATCH($F$5&E32, CSV!$E:$E, 0)), \"\", \"〇\")","v":""},{"$f":"IF( ISNA(MATCH($I$5&C32, CSV!$E:$E, 0)), \"\", \"〇\")","v":""},{"$f":"IF( ISNA(MATCH($I$5&D32, CSV!$E:$E, 0)), \"\", \"〇\")","v":""},{"$f":"IF( ISNA(MATCH($I$5&E32, CSV!$E:$E, 0)), \"\", \"〇\")","v":""},{"$f":"IF( ISNA(MATCH($L$5&C32, CSV!$E:$E, 0)), \"\", \"〇\")","v":""},{"$f":"IF( ISNA(MATCH($L$5&D32, CSV!$E:$E, 0)), \"\", \"〇\")","v":""},{"$f":"IF( ISNA(MATCH($L$5&E32, CSV!$E:$E, 0)), \"\", \"〇\")","v":""},{"$f":"IF( ISNA(MATCH(O$5&C32, CSV!$E:$E, 0)), \"\", \"〇\")","v":""},{"$f":"IF( ISNA(MATCH(O$5&D32, CSV!$E:$E, 0)), \"\", \"〇\")","v":""},{"$f":"IF( ISNA(MATCH(O$5&E32, CSV!$E:$E, 0)), \"\", \"〇\")","v":""},{"$f":"IF( ISNA(MATCH(R$5&C32, CSV!$E:$E, 0)), \"\", \"〇\")","v":""},{"$f":"IF( ISNA(MATCH(R$5&D32, CSV!$E:$E, 0)), \"\", \"〇\")","v":""},{"$f":"IF( ISNA(MATCH(R$5&E32, CSV!$E:$E, 0)), \"\", \"〇\")","v":""},{"$f":"IF( ISNA(MATCH(U$5&$C32, CSV!$E:$E, 0)), \"\", \"〇\")","v":""},{"$f":"IF( ISNA(MATCH(U$5&$D32, CSV!$E:$E, 0)), \"\", \"〇\")","v":""},{"$f":"IF( ISNA(MATCH(U$5&$E32, CSV!$E:$E, 0)), \"\", \"〇\")","v":""}]
[null,"アカモート","石蜜","アカモートの触角","柿渋の割符",{"$f":"IF( ISNA(MATCH($F$5&C33, CSV!$E:$E, 0)), \"\", \"〇\")","v":""},{"$f":"IF( ISNA(MATCH($F$5&D33, CSV!$E:$E, 0)), \"\", \"〇\")","v":""},{"$f":"IF( ISNA(MATCH($F$5&E33, CSV!$E:$E, 0)), \"\", \"〇\")","v":""},{"$f":"IF( ISNA(MATCH($I$5&C33, CSV!$E:$E, 0)), \"\", \"〇\")","v":""},{"$f":"IF( ISNA(MATCH($I$5&D33, CSV!$E:$E, 0)), \"\", \"〇\")","v":""},{"$f":"IF( ISNA(MATCH($I$5&E33, CSV!$E:$E, 0)), \"\", \"〇\")","v":""},{"$f":"IF( ISNA(MATCH($L$5&C33, CSV!$E:$E, 0)), \"\", \"〇\")","v":""},{"$f":"IF( ISNA(MATCH($L$5&D33, CSV!$E:$E, 0)), \"\", \"〇\")","v":""},{"$f":"IF( ISNA(MATCH($L$5&E33, CSV!$E:$E, 0)), \"\", \"〇\")","v":""},{"$f":"IF( ISNA(MATCH(O$5&C33, CSV!$E:$E, 0)), \"\", \"〇\")","v":""},{"$f":"IF( ISNA(MATCH(O$5&D33, CSV!$E:$E, 0)), \"\", \"〇\")","v":""},{"$f":"IF( ISNA(MATCH(O$5&E33, CSV!$E:$E, 0)), \"\", \"〇\")","v":""},{"$f":"IF( ISNA(MATCH(R$5&C33, CSV!$E:$E, 0)), \"\", \"〇\")","v":""},{"$f":"IF( ISNA(MATCH(R$5&D33, CSV!$E:$E, 0)), \"\", \"〇\")","v":""},{"$f":"IF( ISNA(MATCH(R$5&E33, CSV!$E:$E, 0)), \"\", \"〇\")","v":""},{"$f":"IF( ISNA(MATCH(U$5&$C33, CSV!$E:$E, 0)), \"\", \"〇\")","v":""},{"$f":"IF( ISNA(MATCH(U$5&$D33, CSV!$E:$E, 0)), \"\", \"〇\")","v":""},{"$f":"IF( ISNA(MATCH(U$5&$E33, CSV!$E:$E, 0)), \"\", \"〇\")","v":""}]
[null,null,null,null,null,{"$f":"IF( ISNA(MATCH($F$5&C34, CSV!$E:$E, 0)), \"\", \"〇\")","v":""},{"$f":"IF( ISNA(MATCH($F$5&D34, CSV!$E:$E, 0)), \"\", \"〇\")","v":""},{"$f":"IF( ISNA(MATCH($F$5&E34, CSV!$E:$E, 0)), \"\", \"〇\")","v":""},{"$f":"IF( ISNA(MATCH($I$5&C34, CSV!$E:$E, 0)), \"\", \"〇\")","v":""},{"$f":"IF( ISNA(MATCH($I$5&D34, CSV!$E:$E, 0)), \"\", \"〇\")","v":""},{"$f":"IF( ISNA(MATCH($I$5&E34, CSV!$E:$E, 0)), \"\", \"〇\")","v":""},{"$f":"IF( ISNA(MATCH($L$5&C34, CSV!$E:$E, 0)), \"\", \"〇\")","v":""},{"$f":"IF( ISNA(MATCH($L$5&D34, CSV!$E:$E, 0)), \"\", \"〇\")","v":""},{"$f":"IF( ISNA(MATCH($L$5&E34, CSV!$E:$E, 0)), \"\", \"〇\")","v":""},{"$f":"IF( ISNA(MATCH(O$5&C34, CSV!$E:$E, 0)), \"\", \"〇\")","v":""},{"$f":"IF( ISNA(MATCH(O$5&D34, CSV!$E:$E, 0)), \"\", \"〇\")","v":""},{"$f":"IF( ISNA(MATCH(O$5&E34, CSV!$E:$E, 0)), \"\", \"〇\")","v":""},{"$f":"IF( ISNA(MATCH(R$5&C34, CSV!$E:$E, 0)), \"\", \"〇\")","v":""},{"$f":"IF( ISNA(MATCH(R$5&D34, CSV!$E:$E, 0)), \"\", \"〇\")","v":""},{"$f":"IF( ISNA(MATCH(R$5&E34, CSV!$E:$E, 0)), \"\", \"〇\")","v":""},{"$f":"IF( ISNA(MATCH(U$5&$C34, CSV!$E:$E, 0)), \"\", \"〇\")","v":""},{"$f":"IF( ISNA(MATCH(U$5&$D34, CSV!$E:$E, 0)), \"\", \"〇\")","v":""},{"$f":"IF( ISNA(MATCH(U$5&$E34, CSV!$E:$E, 0)), \"\", \"〇\")","v":""}]
["ハルブーンT4","サーラメーヤ","野牛の屍肉","サーラメーヤの皮","瑠璃の割符",{"$f":"IF( ISNA(MATCH($F$5&C35, CSV!$E:$E, 0)), \"\", \"〇\")","v":""},{"$f":"IF( ISNA(MATCH($F$5&D35, CSV!$E:$E, 0)), \"\", \"〇\")","v":""},{"$f":"IF( ISNA(MATCH($F$5&E35, CSV!$E:$E, 0)), \"\", \"〇\")","v":""},{"$f":"IF( ISNA(MATCH($I$5&C35, CSV!$E:$E, 0)), \"\", \"〇\")","v":""},{"$f":"IF( ISNA(MATCH($I$5&D35, CSV!$E:$E, 0)), \"\", \"〇\")","v":""},{"$f":"IF( ISNA(MATCH($I$5&E35, CSV!$E:$E, 0)), \"\", \"〇\")","v":""},{"$f":"IF( ISNA(MATCH($L$5&C35, CSV!$E:$E, 0)), \"\", \"〇\")","v":""},{"$f":"IF( ISNA(MATCH($L$5&D35, CSV!$E:$E, 0)), \"\", \"〇\")","v":""},{"$f":"IF( ISNA(MATCH($L$5&E35, CSV!$E:$E, 0)), \"\", \"〇\")","v":""},{"$f":"IF( ISNA(MATCH(O$5&C35, CSV!$E:$E, 0)), \"\", \"〇\")","v":""},{"$f":"IF( ISNA(MATCH(O$5&D35, CSV!$E:$E, 0)), \"\", \"〇\")","v":""},{"$f":"IF( ISNA(MATCH(O$5&E35, CSV!$E:$E, 0)), \"\", \"〇\")","v":""},{"$f":"IF( ISNA(MATCH(R$5&C35, CSV!$E:$E, 0)), \"\", \"〇\")","v":""},{"$f":"IF( ISNA(MATCH(R$5&D35, CSV!$E:$E, 0)), \"\", \"〇\")","v":""},{"$f":"IF( ISNA(MATCH(R$5&E35, CSV!$E:$E, 0)), \"\", \"〇\")","v":""},{"$f":"IF( ISNA(MATCH(U$5&$C35, CSV!$E:$E, 0)), \"\", \"〇\")","v":""},{"$f":"IF( ISNA(MATCH(U$5&$D35, CSV!$E:$E, 0)), \"\", \"〇\")","v":""},{"$f":"IF( ISNA(MATCH(U$5&$E35, CSV!$E:$E, 0)), \"\", \"〇\")","v":""}]
[null,null,null,null,"銀海の塩",{"$f":"IF( ISNA(MATCH($F$5&C36, CSV!$E:$E, 0)), \"\", \"〇\")","v":""},{"$f":"IF( ISNA(MATCH($F$5&D36, CSV!$E:$E, 0)), \"\", \"〇\")","v":""},{"$f":"IF( ISNA(MATCH($F$5&E36, CSV!$E:$E, 0)), \"\", \"〇\")","v":""},{"$f":"IF( ISNA(MATCH($I$5&C36, CSV!$E:$E, 0)), \"\", \"〇\")","v":""},{"$f":"IF( ISNA(MATCH($I$5&D36, CSV!$E:$E, 0)), \"\", \"〇\")","v":""},{"$f":"IF( ISNA(MATCH($I$5&E36, CSV!$E:$E, 0)), \"\", \"〇\")","v":""},{"$f":"IF( ISNA(MATCH($L$5&C36, CSV!$E:$E, 0)), \"\", \"〇\")","v":""},{"$f":"IF( ISNA(MATCH($L$5&D36, CSV!$E:$E, 0)), \"\", \"〇\")","v":""},{"$f":"IF( ISNA(MATCH($L$5&E36, CSV!$E:$E, 0)), \"\", \"〇\")","v":""},{"$f":"IF( ISNA(MATCH(O$5&C36, CSV!$E:$E, 0)), \"\", \"〇\")","v":""},{"$f":"IF( ISNA(MATCH(O$5&D36, CSV!$E:$E, 0)), \"\", \"〇\")","v":""},{"$f":"IF( ISNA(MATCH(O$5&E36, CSV!$E:$E, 0)), \"\", \"〇\")","v":""},{"$f":"IF( ISNA(MATCH(R$5&C36, CSV!$E:$E, 0)), \"\", \"〇\")","v":""},{"$f":"IF( ISNA(MATCH(R$5&D36, CSV!$E:$E, 0)), \"\", \"〇\")","v":""},{"$f":"IF( ISNA(MATCH(R$5&E36, CSV!$E:$E, 0)), \"\", \"〇\")","v":""},{"$f":"IF( ISNA(MATCH(U$5&$C36, CSV!$E:$E, 0)), \"\", \"〇\")","v":""},{"$f":"IF( ISNA(MATCH(U$5&$D36, CSV!$E:$E, 0)), \"\", \"〇\")","v":""},{"$f":"IF( ISNA(MATCH(U$5&$E36, CSV!$E:$E, 0)), \"\", \"〇\")","v":""}]
[null,null,null,null,null,{"$f":"IF( ISNA(MATCH($F$5&C37, CSV!$E:$E, 0)), \"\", \"〇\")","v":""},{"$f":"IF( ISNA(MATCH($F$5&D37, CSV!$E:$E, 0)), \"\", \"〇\")","v":""},{"$f":"IF( ISNA(MATCH($F$5&E37, CSV!$E:$E, 0)), \"\", \"〇\")","v":""},{"$f":"IF( ISNA(MATCH($I$5&C37, CSV!$E:$E, 0)), \"\", \"〇\")","v":""},{"$f":"IF( ISNA(MATCH($I$5&D37, CSV!$E:$E, 0)), \"\", \"〇\")","v":""},{"$f":"IF( ISNA(MATCH($I$5&E37, CSV!$E:$E, 0)), \"\", \"〇\")","v":""},{"$f":"IF( ISNA(MATCH($L$5&C37, CSV!$E:$E, 0)), \"\", \"〇\")","v":""},{"$f":"IF( ISNA(MATCH($L$5&D37, CSV!$E:$E, 0)), \"\", \"〇\")","v":""},{"$f":"IF( ISNA(MATCH($L$5&E37, CSV!$E:$E, 0)), \"\", \"〇\")","v":""},{"$f":"IF( ISNA(MATCH(O$5&C37, CSV!$E:$E, 0)), \"\", \"〇\")","v":""},{"$f":"IF( ISNA(MATCH(O$5&D37, CSV!$E:$E, 0)), \"\", \"〇\")","v":""},{"$f":"IF( ISNA(MATCH(O$5&E37, CSV!$E:$E, 0)), \"\", \"〇\")","v":""},{"$f":"IF( ISNA(MATCH(R$5&C37, CSV!$E:$E, 0)), \"\", \"〇\")","v":""},{"$f":"IF( ISNA(MATCH(R$5&D37, CSV!$E:$E, 0)), \"\", \"〇\")","v":""},{"$f":"IF( ISNA(MATCH(R$5&E37, CSV!$E:$E, 0)), \"\", \"〇\")","v":""},{"$f":"IF( ISNA(MATCH(U$5&$C37, CSV!$E:$E, 0)), \"\", \"〇\")","v":""},{"$f":"IF( ISNA(MATCH(U$5&$D37, CSV!$E:$E, 0)), \"\", \"〇\")","v":""},{"$f":"IF( ISNA(MATCH(U$5&$E37, CSV!$E:$E, 0)), \"\", \"〇\")","v":""}]
[null,null,null,null,null,{"$f":"IF( ISNA(MATCH($F$5&C38, CSV!$E:$E, 0)), \"\", \"〇\")","v":""},{"$f":"IF( ISNA(MATCH($F$5&D38, CSV!$E:$E, 0)), \"\", \"〇\")","v":""},{"$f":"IF( ISNA(MATCH($F$5&E38, CSV!$E:$E, 0)), \"\", \"〇\")","v":""},{"$f":"IF( ISNA(MATCH($I$5&C38, CSV!$E:$E, 0)), \"\", \"〇\")","v":""},{"$f":"IF( ISNA(MATCH($I$5&D38, CSV!$E:$E, 0)), \"\", \"〇\")","v":""},{"$f":"IF( ISNA(MATCH($I$5&E38, CSV!$E:$E, 0)), \"\", \"〇\")","v":""},{"$f":"IF( ISNA(MATCH($L$5&C38, CSV!$E:$E, 0)), \"\", \"〇\")","v":""},{"$f":"IF( ISNA(MATCH($L$5&D38, CSV!$E:$E, 0)), \"\", \"〇\")","v":""},{"$f":"IF( ISNA(MATCH($L$5&E38, CSV!$E:$E, 0)), \"\", \"〇\")","v":""},{"$f":"IF( ISNA(MATCH(O$5&C38, CSV!$E:$E, 0)), \"\", \"〇\")","v":""},{"$f":"IF( ISNA(MATCH(O$5&D38, CSV!$E:$E, 0)), \"\", \"〇\")","v":""},{"$f":"IF( ISNA(MATCH(O$5&E38, CSV!$E:$E, 0)), \"\", \"〇\")","v":""},{"$f":"IF( ISNA(MATCH(R$5&C38, CSV!$E:$E, 0)), \"\", \"〇\")","v":""},{"$f":"IF( ISNA(MATCH(R$5&D38, CSV!$E:$E, 0)), \"\", \"〇\")","v":""},{"$f":"IF( ISNA(MATCH(R$5&E38, CSV!$E:$E, 0)), \"\", \"〇\")","v":""},{"$f":"IF( ISNA(MATCH(U$5&$C38, CSV!$E:$E, 0)), \"\", \"〇\")","v":""},{"$f":"IF( ISNA(MATCH(U$5&$D38, CSV!$E:$E, 0)), \"\", \"〇\")","v":""},{"$f":"IF( ISNA(MATCH(U$5&$E38, CSV!$E:$E, 0)), \"\", \"〇\")","v":""}]
[null,null,null,null,null,{"$f":"IF( ISNA(MATCH($F$5&C39, CSV!$E:$E, 0)), \"\", \"〇\")","v":""},{"$f":"IF( ISNA(MATCH($F$5&D39, CSV!$E:$E, 0)), \"\", \"〇\")","v":""},{"$f":"IF( ISNA(MATCH($F$5&E39, CSV!$E:$E, 0)), \"\", \"〇\")","v":""},{"$f":"IF( ISNA(MATCH($I$5&C39, CSV!$E:$E, 0)), \"\", \"〇\")","v":""},{"$f":"IF( ISNA(MATCH($I$5&D39, CSV!$E:$E, 0)), \"\", \"〇\")","v":""},{"$f":"IF( ISNA(MATCH($I$5&E39, CSV!$E:$E, 0)), \"\", \"〇\")","v":""},{"$f":"IF( ISNA(MATCH($L$5&C39, CSV!$E:$E, 0)), \"\", \"〇\")","v":""},{"$f":"IF( ISNA(MATCH($L$5&D39, CSV!$E:$E, 0)), \"\", \"〇\")","v":""},{"$f":"IF( ISNA(MATCH($L$5&E39, CSV!$E:$E, 0)), \"\", \"〇\")","v":""},{"$f":"IF( ISNA(MATCH(O$5&C39, CSV!$E:$E, 0)), \"\", \"〇\")","v":""},{"$f":"IF( ISNA(MATCH(O$5&D39, CSV!$E:$E, 0)), \"\", \"〇\")","v":""},{"$f":"IF( ISNA(MATCH(O$5&E39, CSV!$E:$E, 0)), \"\", \"〇\")","v":""},{"$f":"IF( ISNA(MATCH(R$5&C39, CSV!$E:$E, 0)), \"\", \"〇\")","v":""},{"$f":"IF( ISNA(MATCH(R$5&D39, CSV!$E:$E, 0)), \"\", \"〇\")","v":""},{"$f":"IF( ISNA(MATCH(R$5&E39, CSV!$E:$E, 0)), \"\", \"〇\")","v":""},{"$f":"IF( ISNA(MATCH(U$5&$C39, CSV!$E:$E, 0)), \"\", \"〇\")","v":""},{"$f":"IF( ISNA(MATCH(U$5&$D39, CSV!$E:$E, 0)), \"\", \"〇\")","v":""},{"$f":"IF( ISNA(MATCH(U$5&$E39, CSV!$E:$E, 0)), \"\", \"〇\")","v":""}]
["アラパゴ T1","ヴェリオニス","金歯","ヴェリオニスの骨","木賊の割符",{"$f":"IF( ISNA(MATCH($F$5&C40, CSV!$E:$E, 0)), \"\", \"〇\")","v":""},{"$f":"IF( ISNA(MATCH($F$5&D40, CSV!$E:$E, 0)), \"\", \"〇\")","v":""},{"$f":"IF( ISNA(MATCH($F$5&E40, CSV!$E:$E, 0)), \"\", \"〇\")","v":""},{"$f":"IF( ISNA(MATCH($I$5&C40, CSV!$E:$E, 0)), \"\", \"〇\")","v":""},{"$f":"IF( ISNA(MATCH($I$5&D40, CSV!$E:$E, 0)), \"\", \"〇\")","v":""},{"$f":"IF( ISNA(MATCH($I$5&E40, CSV!$E:$E, 0)), \"\", \"〇\")","v":""},{"$f":"IF( ISNA(MATCH($L$5&C40, CSV!$E:$E, 0)), \"\", \"〇\")","v":""},{"$f":"IF( ISNA(MATCH($L$5&D40, CSV!$E:$E, 0)), \"\", \"〇\")","v":""},{"$f":"IF( ISNA(MATCH($L$5&E40, CSV!$E:$E, 0)), \"\", \"〇\")","v":""},{"$f":"IF( ISNA(MATCH(O$5&C40, CSV!$E:$E, 0)), \"\", \"〇\")","v":""},{"$f":"IF( ISNA(MATCH(O$5&D40, CSV!$E:$E, 0)), \"\", \"〇\")","v":""},{"$f":"IF( ISNA(MATCH(O$5&E40, CSV!$E:$E, 0)), \"\", \"〇\")","v":""},{"$f":"IF( ISNA(MATCH(R$5&C40, CSV!$E:$E, 0)), \"\", \"〇\")","v":""},{"$f":"IF( ISNA(MATCH(R$5&D40, CSV!$E:$E, 0)), \"\", \"〇\")","v":""},{"$f":"IF( ISNA(MATCH(R$5&E40, CSV!$E:$E, 0)), \"\", \"〇\")","v":""},{"$f":"IF( ISNA(MATCH(U$5&$C40, CSV!$E:$E, 0)), \"\", \"〇\")","v":""},{"$f":"IF( ISNA(MATCH(U$5&$D40, CSV!$E:$E, 0)), \"\", \"〇\")","v":""},{"$f":"IF( ISNA(MATCH(U$5&$E40, CSV!$E:$E, 0)), \"\", \"〇\")","v":""}]
[null,"リルアプカル","油魚","リルアプカルの卵",null,{"$f":"IF( ISNA(MATCH($F$5&C41, CSV!$E:$E, 0)), \"\", \"〇\")","v":""},{"$f":"IF( ISNA(MATCH($F$5&D41, CSV!$E:$E, 0)), \"\", \"〇\")","v":""},{"$f":"IF( ISNA(MATCH($F$5&E41, CSV!$E:$E, 0)), \"\", \"〇\")","v":""},{"$f":"IF( ISNA(MATCH($I$5&C41, CSV!$E:$E, 0)), \"\", \"〇\")","v":""},{"$f":"IF( ISNA(MATCH($I$5&D41, CSV!$E:$E, 0)), \"\", \"〇\")","v":""},{"$f":"IF( ISNA(MATCH($I$5&E41, CSV!$E:$E, 0)), \"\", \"〇\")","v":""},{"$f":"IF( ISNA(MATCH($L$5&C41, CSV!$E:$E, 0)), \"\", \"〇\")","v":""},{"$f":"IF( ISNA(MATCH($L$5&D41, CSV!$E:$E, 0)), \"\", \"〇\")","v":""},{"$f":"IF( ISNA(MATCH($L$5&E41, CSV!$E:$E, 0)), \"\", \"〇\")","v":""},{"$f":"IF( ISNA(MATCH(O$5&C41, CSV!$E:$E, 0)), \"\", \"〇\")","v":""},{"$f":"IF( ISNA(MATCH(O$5&D41, CSV!$E:$E, 0)), \"\", \"〇\")","v":""},{"$f":"IF( ISNA(MATCH(O$5&E41, CSV!$E:$E, 0)), \"\", \"〇\")","v":""},{"$f":"IF( ISNA(MATCH(R$5&C41, CSV!$E:$E, 0)), \"\", \"〇\")","v":""},{"$f":"IF( ISNA(MATCH(R$5&D41, CSV!$E:$E, 0)), \"\", \"〇\")","v":""},{"$f":"IF( ISNA(MATCH(R$5&E41, CSV!$E:$E, 0)), \"\", \"〇\")","v":""},{"$f":"IF( ISNA(MATCH(U$5&$C41, CSV!$E:$E, 0)), \"\", \"〇\")","v":""},{"$f":"IF( ISNA(MATCH(U$5&$D41, CSV!$E:$E, 0)), \"\", \"〇\")","v":""},{"$f":"IF( ISNA(MATCH(U$5&$E41, CSV!$E:$E, 0)), \"\", \"〇\")","v":""}]
[null,"チガー","腥血","チガー",null,{"$f":"IF( ISNA(MATCH($F$5&C42, CSV!$E:$E, 0)), \"\", \"〇\")","v":""},{"$f":"IF( ISNA(MATCH($F$5&D42, CSV!$E:$E, 0)), \"\", \"〇\")","v":""},{"$f":"IF( ISNA(MATCH($F$5&E42, CSV!$E:$E, 0)), \"\", \"〇\")","v":""},{"$f":"IF( ISNA(MATCH($I$5&C42, CSV!$E:$E, 0)), \"\", \"〇\")","v":""},{"$f":"IF( ISNA(MATCH($I$5&D42, CSV!$E:$E, 0)), \"\", \"〇\")","v":""},{"$f":"IF( ISNA(MATCH($I$5&E42, CSV!$E:$E, 0)), \"\", \"〇\")","v":""},{"$f":"IF( ISNA(MATCH($L$5&C42, CSV!$E:$E, 0)), \"\", \"〇\")","v":""},{"$f":"IF( ISNA(MATCH($L$5&D42, CSV!$E:$E, 0)), \"\", \"〇\")","v":""},{"$f":"IF( ISNA(MATCH($L$5&E42, CSV!$E:$E, 0)), \"\", \"〇\")","v":""},{"$f":"IF( ISNA(MATCH(O$5&C42, CSV!$E:$E, 0)), \"\", \"〇\")","v":""},{"$f":"IF( ISNA(MATCH(O$5&D42, CSV!$E:$E, 0)), \"\", \"〇\")","v":""},{"$f":"IF( ISNA(MATCH(O$5&E42, CSV!$E:$E, 0)), \"\", \"〇\")","v":""},{"$f":"IF( ISNA(MATCH(R$5&C42, CSV!$E:$E, 0)), \"\", \"〇\")","v":""},{"$f":"IF( ISNA(MATCH(R$5&D42, CSV!$E:$E, 0)), \"\", \"〇\")","v":""},{"$f":"IF( ISNA(MATCH(R$5&E42, CSV!$E:$E, 0)), \"\", \"〇\")","v":""},{"$f":"IF( ISNA(MATCH(U$5&$C42, CSV!$E:$E, 0)), \"\", \"〇\")","v":""},{"$f":"IF( ISNA(MATCH(U$5&$D42, CSV!$E:$E, 0)), \"\", \"〇\")","v":""},{"$f":"IF( ISNA(MATCH(U$5&$E42, CSV!$E:$E, 0)), \"\", \"〇\")","v":""}]
[null,null,null,null,null,{"$f":"IF( ISNA(MATCH($F$5&C43, CSV!$E:$E, 0)), \"\", \"〇\")","v":""},{"$f":"IF( ISNA(MATCH($F$5&D43, CSV!$E:$E, 0)), \"\", \"〇\")","v":""},{"$f":"IF( ISNA(MATCH($F$5&E43, CSV!$E:$E, 0)), \"\", \"〇\")","v":""},{"$f":"IF( ISNA(MATCH($I$5&C43, CSV!$E:$E, 0)), \"\", \"〇\")","v":""},{"$f":"IF( ISNA(MATCH($I$5&D43, CSV!$E:$E, 0)), \"\", \"〇\")","v":""},{"$f":"IF( ISNA(MATCH($I$5&E43, CSV!$E:$E, 0)), \"\", \"〇\")","v":""},{"$f":"IF( ISNA(MATCH($L$5&C43, CSV!$E:$E, 0)), \"\", \"〇\")","v":""},{"$f":"IF( ISNA(MATCH($L$5&D43, CSV!$E:$E, 0)), \"\", \"〇\")","v":""},{"$f":"IF( ISNA(MATCH($L$5&E43, CSV!$E:$E, 0)), \"\", \"〇\")","v":""},{"$f":"IF( ISNA(MATCH(O$5&C43, CSV!$E:$E, 0)), \"\", \"〇\")","v":""},{"$f":"IF( ISNA(MATCH(O$5&D43, CSV!$E:$E, 0)), \"\", \"〇\")","v":""},{"$f":"IF( ISNA(MATCH(O$5&E43, CSV!$E:$E, 0)), \"\", \"〇\")","v":""},{"$f":"IF( ISNA(MATCH(R$5&C43, CSV!$E:$E, 0)), \"\", \"〇\")","v":""},{"$f":"IF( ISNA(MATCH(R$5&D43, CSV!$E:$E, 0)), \"\", \"〇\")","v":""},{"$f":"IF( ISNA(MATCH(R$5&E43, CSV!$E:$E, 0)), \"\", \"〇\")","v":""},{"$f":"IF( ISNA(MATCH(U$5&$C43, CSV!$E:$E, 0)), \"\", \"〇\")","v":""},{"$f":"IF( ISNA(MATCH(U$5&$D43, CSV!$E:$E, 0)), \"\", \"〇\")","v":""},{"$f":"IF( ISNA(MATCH(U$5&$E43, CSV!$E:$E, 0)), \"\", \"〇\")","v":""}]
["アラパゴ T2","ウルガル","オパルス","ウルガルの頭","山吹の割符",{"$f":"IF( ISNA(MATCH($F$5&C44, CSV!$E:$E, 0)), \"\", \"〇\")","v":""},{"$f":"IF( ISNA(MATCH($F$5&D44, CSV!$E:$E, 0)), \"\", \"〇\")","v":""},{"$f":"IF( ISNA(MATCH($F$5&E44, CSV!$E:$E, 0)), \"\", \"〇\")","v":""},{"$f":"IF( ISNA(MATCH($I$5&C44, CSV!$E:$E, 0)), \"\", \"〇\")","v":""},{"$f":"IF( ISNA(MATCH($I$5&D44, CSV!$E:$E, 0)), \"\", \"〇\")","v":""},{"$f":"IF( ISNA(MATCH($I$5&E44, CSV!$E:$E, 0)), \"\", \"〇\")","v":""},{"$f":"IF( ISNA(MATCH($L$5&C44, CSV!$E:$E, 0)), \"\", \"〇\")","v":""},{"$f":"IF( ISNA(MATCH($L$5&D44, CSV!$E:$E, 0)), \"\", \"〇\")","v":""},{"$f":"IF( ISNA(MATCH($L$5&E44, CSV!$E:$E, 0)), \"\", \"〇\")","v":""},{"$f":"IF( ISNA(MATCH(O$5&C44, CSV!$E:$E, 0)), \"\", \"〇\")","v":""},{"$f":"IF( ISNA(MATCH(O$5&D44, CSV!$E:$E, 0)), \"\", \"〇\")","v":""},{"$f":"IF( ISNA(MATCH(O$5&E44, CSV!$E:$E, 0)), \"\", \"〇\")","v":""},{"$f":"IF( ISNA(MATCH(R$5&C44, CSV!$E:$E, 0)), \"\", \"〇\")","v":""},{"$f":"IF( ISNA(MATCH(R$5&D44, CSV!$E:$E, 0)), \"\", \"〇\")","v":""},{"$f":"IF( ISNA(MATCH(R$5&E44, CSV!$E:$E, 0)), \"\", \"〇\")","v":""},{"$f":"IF( ISNA(MATCH(U$5&$C44, CSV!$E:$E, 0)), \"\", \"〇\")","v":""},{"$f":"IF( ISNA(MATCH(U$5&$D44, CSV!$E:$E, 0)), \"\", \"〇\")","v":""},{"$f":"IF( ISNA(MATCH(U$5&$E44, CSV!$E:$E, 0)), \"\", \"〇\")","v":""}]
[null,"法悦のザリクル","メロー11号の抜け殻","ザリクルの首飾り",null,{"$f":"IF( ISNA(MATCH($F$5&C45, CSV!$E:$E, 0)), \"\", \"〇\")","v":""},{"$f":"IF( ISNA(MATCH($F$5&D45, CSV!$E:$E, 0)), \"\", \"〇\")","v":""},{"$f":"IF( ISNA(MATCH($F$5&E45, CSV!$E:$E, 0)), \"\", \"〇\")","v":""},{"$f":"IF( ISNA(MATCH($I$5&C45, CSV!$E:$E, 0)), \"\", \"〇\")","v":""},{"$f":"IF( ISNA(MATCH($I$5&D45, CSV!$E:$E, 0)), \"\", \"〇\")","v":""},{"$f":"IF( ISNA(MATCH($I$5&E45, CSV!$E:$E, 0)), \"\", \"〇\")","v":""},{"$f":"IF( ISNA(MATCH($L$5&C45, CSV!$E:$E, 0)), \"\", \"〇\")","v":""},{"$f":"IF( ISNA(MATCH($L$5&D45, CSV!$E:$E, 0)), \"\", \"〇\")","v":""},{"$f":"IF( ISNA(MATCH($L$5&E45, CSV!$E:$E, 0)), \"\", \"〇\")","v":""},{"$f":"IF( ISNA(MATCH(O$5&C45, CSV!$E:$E, 0)), \"\", \"〇\")","v":""},{"$f":"IF( ISNA(MATCH(O$5&D45, CSV!$E:$E, 0)), \"\", \"〇\")","v":""},{"$f":"IF( ISNA(MATCH(O$5&E45, CSV!$E:$E, 0)), \"\", \"〇\")","v":""},{"$f":"IF( ISNA(MATCH(R$5&C45, CSV!$E:$E, 0)), \"\", \"〇\")","v":""},{"$f":"IF( ISNA(MATCH(R$5&D45, CSV!$E:$E, 0)), \"\", \"〇\")","v":""},{"$f":"IF( ISNA(MATCH(R$5&E45, CSV!$E:$E, 0)), \"\", \"〇\")","v":""},{"$f":"IF( ISNA(MATCH(U$5&$C45, CSV!$E:$E, 0)), \"\", \"〇\")","v":""},{"$f":"IF( ISNA(MATCH(U$5&$D45, CSV!$E:$E, 0)), \"\", \"〇\")","v":""},{"$f":"IF( ISNA(MATCH(U$5&$E45, CSV!$E:$E, 0)), \"\", \"〇\")","v":""}]
[null,"ヴェルデレト","ミントドロップ","ヴェルデレトの翼",null,{"$f":"IF( ISNA(MATCH($F$5&C46, CSV!$E:$E, 0)), \"\", \"〇\")","v":""},{"$f":"IF( ISNA(MATCH($F$5&D46, CSV!$E:$E, 0)), \"\", \"〇\")","v":""},{"$f":"IF( ISNA(MATCH($F$5&E46, CSV!$E:$E, 0)), \"\", \"〇\")","v":""},{"$f":"IF( ISNA(MATCH($I$5&C46, CSV!$E:$E, 0)), \"\", \"〇\")","v":""},{"$f":"IF( ISNA(MATCH($I$5&D46, CSV!$E:$E, 0)), \"\", \"〇\")","v":""},{"$f":"IF( ISNA(MATCH($I$5&E46, CSV!$E:$E, 0)), \"\", \"〇\")","v":""},{"$f":"IF( ISNA(MATCH($L$5&C46, CSV!$E:$E, 0)), \"\", \"〇\")","v":""},{"$f":"IF( ISNA(MATCH($L$5&D46, CSV!$E:$E, 0)), \"\", \"〇\")","v":""},{"$f":"IF( ISNA(MATCH($L$5&E46, CSV!$E:$E, 0)), \"\", \"〇\")","v":""},{"$f":"IF( ISNA(MATCH(O$5&C46, CSV!$E:$E, 0)), \"\", \"〇\")","v":""},{"$f":"IF( ISNA(MATCH(O$5&D46, CSV!$E:$E, 0)), \"\", \"〇\")","v":""},{"$f":"IF( ISNA(MATCH(O$5&E46, CSV!$E:$E, 0)), \"\", \"〇\")","v":""},{"$f":"IF( ISNA(MATCH(R$5&C46, CSV!$E:$E, 0)), \"\", \"〇\")","v":""},{"$f":"IF( ISNA(MATCH(R$5&D46, CSV!$E:$E, 0)), \"\", \"〇\")","v":""},{"$f":"IF( ISNA(MATCH(R$5&E46, CSV!$E:$E, 0)), \"\", \"〇\")","v":""},{"$f":"IF( ISNA(MATCH(U$5&$C46, CSV!$E:$E, 0)), \"\", \"〇\")","v":""},{"$f":"IF( ISNA(MATCH(U$5&$D46, CSV!$E:$E, 0)), \"\", \"〇\")","v":""},{"$f":"IF( ISNA(MATCH(U$5&$E46, CSV!$E:$E, 0)), \"\", \"〇\")","v":""}]
[null,null,null,null,null,{"$f":"IF( ISNA(MATCH($F$5&C47, CSV!$E:$E, 0)), \"\", \"〇\")","v":""},{"$f":"IF( ISNA(MATCH($F$5&D47, CSV!$E:$E, 0)), \"\", \"〇\")","v":""},{"$f":"IF( ISNA(MATCH($F$5&E47, CSV!$E:$E, 0)), \"\", \"〇\")","v":""},{"$f":"IF( ISNA(MATCH($I$5&C47, CSV!$E:$E, 0)), \"\", \"〇\")","v":""},{"$f":"IF( ISNA(MATCH($I$5&D47, CSV!$E:$E, 0)), \"\", \"〇\")","v":""},{"$f":"IF( ISNA(MATCH($I$5&E47, CSV!$E:$E, 0)), \"\", \"〇\")","v":""},{"$f":"IF( ISNA(MATCH($L$5&C47, CSV!$E:$E, 0)), \"\", \"〇\")","v":""},{"$f":"IF( ISNA(MATCH($L$5&D47, CSV!$E:$E, 0)), \"\", \"〇\")","v":""},{"$f":"IF( ISNA(MATCH($L$5&E47, CSV!$E:$E, 0)), \"\", \"〇\")","v":""},{"$f":"IF( ISNA(MATCH(O$5&C47, CSV!$E:$E, 0)), \"\", \"〇\")","v":""},{"$f":"IF( ISNA(MATCH(O$5&D47, CSV!$E:$E, 0)), \"\", \"〇\")","v":""},{"$f":"IF( ISNA(MATCH(O$5&E47, CSV!$E:$E, 0)), \"\", \"〇\")","v":""},{"$f":"IF( ISNA(MATCH(R$5&C47, CSV!$E:$E, 0)), \"\", \"〇\")","v":""},{"$f":"IF( ISNA(MATCH(R$5&D47, CSV!$E:$E, 0)), \"\", \"〇\")","v":""},{"$f":"IF( ISNA(MATCH(R$5&E47, CSV!$E:$E, 0)), \"\", \"〇\")","v":""},{"$f":"IF( ISNA(MATCH(U$5&$C47, CSV!$E:$E, 0)), \"\", \"〇\")","v":""},{"$f":"IF( ISNA(MATCH(U$5&$D47, CSV!$E:$E, 0)), \"\", \"〇\")","v":""},{"$f":"IF( ISNA(MATCH(U$5&$E47, CSV!$E:$E, 0)), \"\", \"〇\")","v":""}]
["アラパゴ T3","惨痛のマジュラエフ","破魔の書","マジュラエフの杖","朽葉の割符",{"$f":"IF( ISNA(MATCH($F$5&C48, CSV!$E:$E, 0)), \"\", \"〇\")","v":""},{"$f":"IF( ISNA(MATCH($F$5&D48, CSV!$E:$E, 0)), \"\", \"〇\")","v":""},{"$f":"IF( ISNA(MATCH($F$5&E48, CSV!$E:$E, 0)), \"\", \"〇\")","v":""},{"$f":"IF( ISNA(MATCH($I$5&C48, CSV!$E:$E, 0)), \"\", \"〇\")","v":""},{"$f":"IF( ISNA(MATCH($I$5&D48, CSV!$E:$E, 0)), \"\", \"〇\")","v":""},{"$f":"IF( ISNA(MATCH($I$5&E48, CSV!$E:$E, 0)), \"\", \"〇\")","v":""},{"$f":"IF( ISNA(MATCH($L$5&C48, CSV!$E:$E, 0)), \"\", \"〇\")","v":""},{"$f":"IF( ISNA(MATCH($L$5&D48, CSV!$E:$E, 0)), \"\", \"〇\")","v":""},{"$f":"IF( ISNA(MATCH($L$5&E48, CSV!$E:$E, 0)), \"\", \"〇\")","v":""},{"$f":"IF( ISNA(MATCH(O$5&C48, CSV!$E:$E, 0)), \"\", \"〇\")","v":""},{"$f":"IF( ISNA(MATCH(O$5&D48, CSV!$E:$E, 0)), \"\", \"〇\")","v":""},{"$f":"IF( ISNA(MATCH(O$5&E48, CSV!$E:$E, 0)), \"\", \"〇\")","v":""},{"$f":"IF( ISNA(MATCH(R$5&C48, CSV!$E:$E, 0)), \"\", \"〇\")","v":""},{"$f":"IF( ISNA(MATCH(R$5&D48, CSV!$E:$E, 0)), \"\", \"〇\")","v":""},{"$f":"IF( ISNA(MATCH(R$5&E48, CSV!$E:$E, 0)), \"\", \"〇\")","v":""},{"$f":"IF( ISNA(MATCH(U$5&$C48, CSV!$E:$E, 0)), \"\", \"〇\")","v":""},{"$f":"IF( ISNA(MATCH(U$5&$D48, CSV!$E:$E, 0)), \"\", \"〇\")","v":""},{"$f":"IF( ISNA(MATCH(U$5&$E48, CSV!$E:$E, 0)), \"\", \"〇\")","v":""}]
[null,"ラミアEX","ミルラ","ラミアEXの腕輪","黒橡の割符",{"$f":"IF( ISNA(MATCH($F$5&C49, CSV!$E:$E, 0)), \"\", \"〇\")","v":""},{"$f":"IF( ISNA(MATCH($F$5&D49, CSV!$E:$E, 0)), \"\", \"〇\")","v":""},{"$f":"IF( ISNA(MATCH($F$5&E49, CSV!$E:$E, 0)), \"\", \"〇\")","v":""},{"$f":"IF( ISNA(MATCH($I$5&C49, CSV!$E:$E, 0)), \"\", \"〇\")","v":""},{"$f":"IF( ISNA(MATCH($I$5&D49, CSV!$E:$E, 0)), \"\", \"〇\")","v":""},{"$f":"IF( ISNA(MATCH($I$5&E49, CSV!$E:$E, 0)), \"\", \"〇\")","v":""},{"$f":"IF( ISNA(MATCH($L$5&C49, CSV!$E:$E, 0)), \"\", \"〇\")","v":""},{"$f":"IF( ISNA(MATCH($L$5&D49, CSV!$E:$E, 0)), \"\", \"〇\")","v":""},{"$f":"IF( ISNA(MATCH($L$5&E49, CSV!$E:$E, 0)), \"\", \"〇\")","v":""},{"$f":"IF( ISNA(MATCH(O$5&C49, CSV!$E:$E, 0)), \"\", \"〇\")","v":""},{"$f":"IF( ISNA(MATCH(O$5&D49, CSV!$E:$E, 0)), \"\", \"〇\")","v":""},{"$f":"IF( ISNA(MATCH(O$5&E49, CSV!$E:$E, 0)), \"\", \"〇\")","v":""},{"$f":"IF( ISNA(MATCH(R$5&C49, CSV!$E:$E, 0)), \"\", \"〇\")","v":""},{"$f":"IF( ISNA(MATCH(R$5&D49, CSV!$E:$E, 0)), \"\", \"〇\")","v":""},{"$f":"IF( ISNA(MATCH(R$5&E49, CSV!$E:$E, 0)), \"\", \"〇\")","v":""},{"$f":"IF( ISNA(MATCH(U$5&$C49, CSV!$E:$E, 0)), \"\", \"〇\")","v":""},{"$f":"IF( ISNA(MATCH(U$5&$D49, CSV!$E:$E, 0)), \"\", \"〇\")","v":""},{"$f":"IF( ISNA(MATCH(U$5&$E49, CSV!$E:$E, 0)), \"\", \"〇\")","v":""}]
[null,"ヌン","ローズスカンピ","ヌンのランプ","胡桃の割符",{"$f":"IF( ISNA(MATCH($F$5&C50, CSV!$E:$E, 0)), \"\", \"〇\")","v":""},{"$f":"IF( ISNA(MATCH($F$5&D50, CSV!$E:$E, 0)), \"\", \"〇\")","v":""},{"$f":"IF( ISNA(MATCH($F$5&E50, CSV!$E:$E, 0)), \"\", \"〇\")","v":""},{"$f":"IF( ISNA(MATCH($I$5&C50, CSV!$E:$E, 0)), \"\", \"〇\")","v":""},{"$f":"IF( ISNA(MATCH($I$5&D50, CSV!$E:$E, 0)), \"\", \"〇\")","v":""},{"$f":"IF( ISNA(MATCH($I$5&E50, CSV!$E:$E, 0)), \"\", \"〇\")","v":""},{"$f":"IF( ISNA(MATCH($L$5&C50, CSV!$E:$E, 0)), \"\", \"〇\")","v":""},{"$f":"IF( ISNA(MATCH($L$5&D50, CSV!$E:$E, 0)), \"\", \"〇\")","v":""},{"$f":"IF( ISNA(MATCH($L$5&E50, CSV!$E:$E, 0)), \"\", \"〇\")","v":""},{"$f":"IF( ISNA(MATCH(O$5&C50, CSV!$E:$E, 0)), \"\", \"〇\")","v":""},{"$f":"IF( ISNA(MATCH(O$5&D50, CSV!$E:$E, 0)), \"\", \"〇\")","v":""},{"$f":"IF( ISNA(MATCH(O$5&E50, CSV!$E:$E, 0)), \"\", \"〇\")","v":""},{"$f":"IF( ISNA(MATCH(R$5&C50, CSV!$E:$E, 0)), \"\", \"〇\")","v":""},{"$f":"IF( ISNA(MATCH(R$5&D50, CSV!$E:$E, 0)), \"\", \"〇\")","v":""},{"$f":"IF( ISNA(MATCH(R$5&E50, CSV!$E:$E, 0)), \"\", \"〇\")","v":""},{"$f":"IF( ISNA(MATCH(U$5&$C50, CSV!$E:$E, 0)), \"\", \"〇\")","v":""},{"$f":"IF( ISNA(MATCH(U$5&$D50, CSV!$E:$E, 0)), \"\", \"〇\")","v":""},{"$f":"IF( ISNA(MATCH(U$5&$E50, CSV!$E:$E, 0)), \"\", \"〇\")","v":""}]
[null,null,null,null,null,{"$f":"IF( ISNA(MATCH($F$5&C51, CSV!$E:$E, 0)), \"\", \"〇\")","v":""},{"$f":"IF( ISNA(MATCH($F$5&D51, CSV!$E:$E, 0)), \"\", \"〇\")","v":""},{"$f":"IF( ISNA(MATCH($F$5&E51, CSV!$E:$E, 0)), \"\", \"〇\")","v":""},{"$f":"IF( ISNA(MATCH($I$5&C51, CSV!$E:$E, 0)), \"\", \"〇\")","v":""},{"$f":"IF( ISNA(MATCH($I$5&D51, CSV!$E:$E, 0)), \"\", \"〇\")","v":""},{"$f":"IF( ISNA(MATCH($I$5&E51, CSV!$E:$E, 0)), \"\", \"〇\")","v":""},{"$f":"IF( ISNA(MATCH($L$5&C51, CSV!$E:$E, 0)), \"\", \"〇\")","v":""},{"$f":"IF( ISNA(MATCH($L$5&D51, CSV!$E:$E, 0)), \"\", \"〇\")","v":""},{"$f":"IF( ISNA(MATCH($L$5&E51, CSV!$E:$E, 0)), \"\", \"〇\")","v":""},{"$f":"IF( ISNA(MATCH(O$5&C51, CSV!$E:$E, 0)), \"\", \"〇\")","v":""},{"$f":"IF( ISNA(MATCH(O$5&D51, CSV!$E:$E, 0)), \"\", \"〇\")","v":""},{"$f":"IF( ISNA(MATCH(O$5&E51, CSV!$E:$E, 0)), \"\", \"〇\")","v":""},{"$f":"IF( ISNA(MATCH(R$5&C51, CSV!$E:$E, 0)), \"\", \"〇\")","v":""},{"$f":"IF( ISNA(MATCH(R$5&D51, CSV!$E:$E, 0)), \"\", \"〇\")","v":""},{"$f":"IF( ISNA(MATCH(R$5&E51, CSV!$E:$E, 0)), \"\", \"〇\")","v":""},{"$f":"IF( ISNA(MATCH(U$5&$C51, CSV!$E:$E, 0)), \"\", \"〇\")","v":""},{"$f":"IF( ISNA(MATCH(U$5&$D51, CSV!$E:$E, 0)), \"\", \"〇\")","v":""},{"$f":"IF( ISNA(MATCH(U$5&$E51, CSV!$E:$E, 0)), \"\", \"〇\")","v":""}]
["アラパゴ T4","ティガー","野牛の燔肉","ティガーの尾","紫苑の割符",{"$f":"IF( ISNA(MATCH($F$5&C52, CSV!$E:$E, 0)), \"\", \"〇\")","v":""},{"$f":"IF( ISNA(MATCH($F$5&D52, CSV!$E:$E, 0)), \"\", \"〇\")","v":""},{"$f":"IF( ISNA(MATCH($F$5&E52, CSV!$E:$E, 0)), \"\", \"〇\")","v":""},{"$f":"IF( ISNA(MATCH($I$5&C52, CSV!$E:$E, 0)), \"\", \"〇\")","v":""},{"$f":"IF( ISNA(MATCH($I$5&D52, CSV!$E:$E, 0)), \"\", \"〇\")","v":""},{"$f":"IF( ISNA(MATCH($I$5&E52, CSV!$E:$E, 0)), \"\", \"〇\")","v":""},{"$f":"IF( ISNA(MATCH($L$5&C52, CSV!$E:$E, 0)), \"\", \"〇\")","v":""},{"$f":"IF( ISNA(MATCH($L$5&D52, CSV!$E:$E, 0)), \"\", \"〇\")","v":""},{"$f":"IF( ISNA(MATCH($L$5&E52, CSV!$E:$E, 0)), \"\", \"〇\")","v":""},{"$f":"IF( ISNA(MATCH(O$5&C52, CSV!$E:$E, 0)), \"\", \"〇\")","v":""},{"$f":"IF( ISNA(MATCH(O$5&D52, CSV!$E:$E, 0)), \"\", \"〇\")","v":""},{"$f":"IF( ISNA(MATCH(O$5&E52, CSV!$E:$E, 0)), \"\", \"〇\")","v":""},{"$f":"IF( ISNA(MATCH(R$5&C52, CSV!$E:$E, 0)), \"\", \"〇\")","v":""},{"$f":"IF( ISNA(MATCH(R$5&D52, CSV!$E:$E, 0)), \"\", \"〇\")","v":""},{"$f":"IF( ISNA(MATCH(R$5&E52, CSV!$E:$E, 0)), \"\", \"〇\")","v":""},{"$f":"IF( ISNA(MATCH(U$5&$C52, CSV!$E:$E, 0)), \"\", \"〇\")","v":""},{"$f":"IF( ISNA(MATCH(U$5&$D52, CSV!$E:$E, 0)), \"\", \"〇\")","v":""},{"$f":"IF( ISNA(MATCH(U$5&$E52, CSV!$E:$E, 0)), \"\", \"〇\")","v":""}]
[null,null,null,null,"暗碧の塩",{"$f":"IF( ISNA(MATCH($F$5&C53, CSV!$E:$E, 0)), \"\", \"〇\")","v":""},{"$f":"IF( ISNA(MATCH($F$5&D53, CSV!$E:$E, 0)), \"\", \"〇\")","v":""},{"$f":"IF( ISNA(MATCH($F$5&E53, CSV!$E:$E, 0)), \"\", \"〇\")","v":""},{"$f":"IF( ISNA(MATCH($I$5&C53, CSV!$E:$E, 0)), \"\", \"〇\")","v":""},{"$f":"IF( ISNA(MATCH($I$5&D53, CSV!$E:$E, 0)), \"\", \"〇\")","v":""},{"$f":"IF( ISNA(MATCH($I$5&E53, CSV!$E:$E, 0)), \"\", \"〇\")","v":""},{"$f":"IF( ISNA(MATCH($L$5&C53, CSV!$E:$E, 0)), \"\", \"〇\")","v":""},{"$f":"IF( ISNA(MATCH($L$5&D53, CSV!$E:$E, 0)), \"\", \"〇\")","v":""},{"$f":"IF( ISNA(MATCH($L$5&E53, CSV!$E:$E, 0)), \"\", \"〇\")","v":""},{"$f":"IF( ISNA(MATCH(O$5&C53, CSV!$E:$E, 0)), \"\", \"〇\")","v":""},{"$f":"IF( ISNA(MATCH(O$5&D53, CSV!$E:$E, 0)), \"\", \"〇\")","v":""},{"$f":"IF( ISNA(MATCH(O$5&E53, CSV!$E:$E, 0)), \"\", \"〇\")","v":""},{"$f":"IF( ISNA(MATCH(R$5&C53, CSV!$E:$E, 0)), \"\", \"〇\")","v":""},{"$f":"IF( ISNA(MATCH(R$5&D53, CSV!$E:$E, 0)), \"\", \"〇\")","v":""},{"$f":"IF( ISNA(MATCH(R$5&E53, CSV!$E:$E, 0)), \"\", \"〇\")","v":""},{"$f":"IF( ISNA(MATCH(U$5&$C53, CSV!$E:$E, 0)), \"\", \"〇\")","v":""},{"$f":"IF( ISNA(MATCH(U$5&$D53, CSV!$E:$E, 0)), \"\", \"〇\")","v":""},{"$f":"IF( ISNA(MATCH(U$5&$E53, CSV!$E:$E, 0)), \"\", \"〇\")","v":""}]
[null,null,null,null,null,{"$f":"IF( ISNA(MATCH($F$5&C54, CSV!$E:$E, 0)), \"\", \"〇\")","v":""},{"$f":"IF( ISNA(MATCH($F$5&D54, CSV!$E:$E, 0)), \"\", \"〇\")","v":""},{"$f":"IF( ISNA(MATCH($F$5&E54, CSV!$E:$E, 0)), \"\", \"〇\")","v":""},{"$f":"IF( ISNA(MATCH($I$5&C54, CSV!$E:$E, 0)), \"\", \"〇\")","v":""},{"$f":"IF( ISNA(MATCH($I$5&D54, CSV!$E:$E, 0)), \"\", \"〇\")","v":""},{"$f":"IF( ISNA(MATCH($I$5&E54, CSV!$E:$E, 0)), \"\", \"〇\")","v":""},{"$f":"IF( ISNA(MATCH($L$5&C54, CSV!$E:$E, 0)), \"\", \"〇\")","v":""},{"$f":"IF( ISNA(MATCH($L$5&D54, CSV!$E:$E, 0)), \"\", \"〇\")","v":""},{"$f":"IF( ISNA(MATCH($L$5&E54, CSV!$E:$E, 0)), \"\", \"〇\")","v":""},{"$f":"IF( ISNA(MATCH(O$5&C54, CSV!$E:$E, 0)), \"\", \"〇\")","v":""},{"$f":"IF( ISNA(MATCH(O$5&D54, CSV!$E:$E, 0)), \"\", \"〇\")","v":""},{"$f":"IF( ISNA(MATCH(O$5&E54, CSV!$E:$E, 0)), \"\", \"〇\")","v":""},{"$f":"IF( ISNA(MATCH(R$5&C54, CSV!$E:$E, 0)), \"\", \"〇\")","v":""},{"$f":"IF( ISNA(MATCH(R$5&D54, CSV!$E:$E, 0)), \"\", \"〇\")","v":""},{"$f":"IF( ISNA(MATCH(R$5&E54, CSV!$E:$E, 0)), \"\", \"〇\")","v":""},{"$f":"IF( ISNA(MATCH(U$5&$C54, CSV!$E:$E, 0)), \"\", \"〇\")","v":""},{"$f":"IF( ISNA(MATCH(U$5&$D54, CSV!$E:$E, 0)), \"\", \"〇\")","v":""},{"$f":"IF( ISNA(MATCH(U$5&$E54, CSV!$E:$E, 0)), \"\", \"〇\")","v":""}]
[null,null,null,null,null,{"$f":"IF( ISNA(MATCH($F$5&C55, CSV!$E:$E, 0)), \"\", \"〇\")","v":""},{"$f":"IF( ISNA(MATCH($F$5&D55, CSV!$E:$E, 0)), \"\", \"〇\")","v":""},{"$f":"IF( ISNA(MATCH($F$5&E55, CSV!$E:$E, 0)), \"\", \"〇\")","v":""},{"$f":"IF( ISNA(MATCH($I$5&C55, CSV!$E:$E, 0)), \"\", \"〇\")","v":""},{"$f":"IF( ISNA(MATCH($I$5&D55, CSV!$E:$E, 0)), \"\", \"〇\")","v":""},{"$f":"IF( ISNA(MATCH($I$5&E55, CSV!$E:$E, 0)), \"\", \"〇\")","v":""},{"$f":"IF( ISNA(MATCH($L$5&C55, CSV!$E:$E, 0)), \"\", \"〇\")","v":""},{"$f":"IF( ISNA(MATCH($L$5&D55, CSV!$E:$E, 0)), \"\", \"〇\")","v":""},{"$f":"IF( ISNA(MATCH($L$5&E55, CSV!$E:$E, 0)), \"\", \"〇\")","v":""},{"$f":"IF( ISNA(MATCH(O$5&C55, CSV!$E:$E, 0)), \"\", \"〇\")","v":""},{"$f":"IF( ISNA(MATCH(O$5&D55, CSV!$E:$E, 0)), \"\", \"〇\")","v":""},{"$f":"IF( ISNA(MATCH(O$5&E55, CSV!$E:$E, 0)), \"\", \"〇\")","v":""},{"$f":"IF( ISNA(MATCH(R$5&C55, CSV!$E:$E, 0)), \"\", \"〇\")","v":""},{"$f":"IF( ISNA(MATCH(R$5&D55, CSV!$E:$E, 0)), \"\", \"〇\")","v":""},{"$f":"IF( ISNA(MATCH(R$5&E55, CSV!$E:$E, 0)), \"\", \"〇\")","v":""},{"$f":"IF( ISNA(MATCH(U$5&$C55, CSV!$E:$E, 0)), \"\", \"〇\")","v":""},{"$f":"IF( ISNA(MATCH(U$5&$D55, CSV!$E:$E, 0)), \"\", \"〇\")","v":""},{"$f":"IF( ISNA(MATCH(U$5&$E55, CSV!$E:$E, 0)), \"\", \"〇\")","v":""}]
[null,null,null,null,null,{"$f":"IF( ISNA(MATCH($F$5&C56, CSV!$E:$E, 0)), \"\", \"〇\")","v":""},{"$f":"IF( ISNA(MATCH($F$5&D56, CSV!$E:$E, 0)), \"\", \"〇\")","v":""},{"$f":"IF( ISNA(MATCH($F$5&E56, CSV!$E:$E, 0)), \"\", \"〇\")","v":""},{"$f":"IF( ISNA(MATCH($I$5&C56, CSV!$E:$E, 0)), \"\", \"〇\")","v":""},{"$f":"IF( ISNA(MATCH($I$5&D56, CSV!$E:$E, 0)), \"\", \"〇\")","v":""},{"$f":"IF( ISNA(MATCH($I$5&E56, CSV!$E:$E, 0)), \"\", \"〇\")","v":""},{"$f":"IF( ISNA(MATCH($L$5&C56, CSV!$E:$E, 0)), \"\", \"〇\")","v":""},{"$f":"IF( ISNA(MATCH($L$5&D56, CSV!$E:$E, 0)), \"\", \"〇\")","v":""},{"$f":"IF( ISNA(MATCH($L$5&E56, CSV!$E:$E, 0)), \"\", \"〇\")","v":""},{"$f":"IF( ISNA(MATCH(O$5&C56, CSV!$E:$E, 0)), \"\", \"〇\")","v":""},{"$f":"IF( ISNA(MATCH(O$5&D56, CSV!$E:$E, 0)), \"\", \"〇\")","v":""},{"$f":"IF( ISNA(MATCH(O$5&E56, CSV!$E:$E, 0)), \"\", \"〇\")","v":""},{"$f":"IF( ISNA(MATCH(R$5&C56, CSV!$E:$E, 0)), \"\", \"〇\")","v":""},{"$f":"IF( ISNA(MATCH(R$5&D56, CSV!$E:$E, 0)), \"\", \"〇\")","v":""},{"$f":"IF( ISNA(MATCH(R$5&E56, CSV!$E:$E, 0)), \"\", \"〇\")","v":""},{"$f":"IF( ISNA(MATCH(U$5&$C56, CSV!$E:$E, 0)), \"\", \"〇\")","v":""},{"$f":"IF( ISNA(MATCH(U$5&$D56, CSV!$E:$E, 0)), \"\", \"〇\")","v":""},{"$f":"IF( ISNA(MATCH(U$5&$E56, CSV!$E:$E, 0)), \"\", \"〇\")","v":""}]
["T5","パンデモニアム","万魔殿の鍵",null,null,{"$f":"IF( ISNA(MATCH($F$5&C57, CSV!$E:$E, 0)), \"\", \"〇\")","v":""},{"$f":"IF( ISNA(MATCH($F$5&D57, CSV!$E:$E, 0)), \"\", \"〇\")","v":""},{"$f":"IF( ISNA(MATCH($F$5&E57, CSV!$E:$E, 0)), \"\", \"〇\")","v":""},{"$f":"IF( ISNA(MATCH($I$5&C57, CSV!$E:$E, 0)), \"\", \"〇\")","v":""},{"$f":"IF( ISNA(MATCH($I$5&D57, CSV!$E:$E, 0)), \"\", \"〇\")","v":""},{"$f":"IF( ISNA(MATCH($I$5&E57, CSV!$E:$E, 0)), \"\", \"〇\")","v":""},{"$f":"IF( ISNA(MATCH($L$5&C57, CSV!$E:$E, 0)), \"\", \"〇\")","v":""},{"$f":"IF( ISNA(MATCH($L$5&D57, CSV!$E:$E, 0)), \"\", \"〇\")","v":""},{"$f":"IF( ISNA(MATCH($L$5&E57, CSV!$E:$E, 0)), \"\", \"〇\")","v":""},{"$f":"IF( ISNA(MATCH(O$5&C57, CSV!$E:$E, 0)), \"\", \"〇\")","v":""},{"$f":"IF( ISNA(MATCH(O$5&D57, CSV!$E:$E, 0)), \"\", \"〇\")","v":""},{"$f":"IF( ISNA(MATCH(O$5&E57, CSV!$E:$E, 0)), \"\", \"〇\")","v":""},{"$f":"IF( ISNA(MATCH(R$5&C57, CSV!$E:$E, 0)), \"\", \"〇\")","v":""},{"$f":"IF( ISNA(MATCH(R$5&D57, CSV!$E:$E, 0)), \"\", \"〇\")","v":""},{"$f":"IF( ISNA(MATCH(R$5&E57, CSV!$E:$E, 0)), \"\", \"〇\")","v":""},{"$f":"IF( ISNA(MATCH(U$5&$C57, CSV!$E:$E, 0)), \"\", \"〇\")","v":""},{"$f":"IF( ISNA(MATCH(U$5&$D57, CSV!$E:$E, 0)), \"\", \"〇\")","v":""},{"$f":"IF( ISNA(MATCH(U$5&$E57, CSV!$E:$E, 0)), \"\", \"〇\")","v":""}]

{"sheet":"アビセア","index":5,"n_rows":175,"n_cols":10,"rows_kept":175,"cut":false,"hidden":false,"merged":[]}
[]
[]
[]
[]
[null,null,null,null,"Char1","Char2","Char3","Char4","Char5","Char6"]
["コンシュタット","Eccentric Eve","Gangly Gean","香り立つトレントの花びら",{"$f":"IF( ISNA(MATCH(E$5&$D6, CSV!$E:$E, 0)), \"\", \"〇\")","v":""},{"$f":"IF( ISNA(MATCH(F$5&$D6, CSV!$E:$E, 0)), \"\", \"〇\")","v":""},{"$f":"IF( ISNA(MATCH(G$5&$D6, CSV!$E:$E, 0)), \"\", \"〇\")","v":""},{"$f":"IF( ISNA(MATCH(H$5&$D6, CSV!$E:$E, 0)), \"\", \"〇\")","v":""},{"$f":"IF( ISNA(MATCH(I$5&$D6, CSV!$E:$E, 0)), \"\", \"〇\")","v":""},{"$f":"IF( ISNA(MATCH(J$5&$D6, CSV!$E:$E, 0)), \"\", \"〇\")","v":""}]
[null,null,"Raskovnik","臭うラフレシアのつる",{"$f":"IF( ISNA(MATCH(E$5&$D7, CSV!$E:$E, 0)), \"\", \"〇\")","v":""},{"$f":"IF( ISNA(MATCH(F$5&$D7, CSV!$E:$E, 0)), \"\", \"〇\")","v":""},{"$f":"IF( ISNA(MATCH(G$5&$D7, CSV!$E:$E, 0)), \"\", \"〇\")","v":""},{"$f":"IF( ISNA(MATCH(H$5&$D7, CSV!$E:$E, 0)), \"\", \"〇\")","v":""},{"$f":"IF( ISNA(MATCH(I$5&$D7, CSV!$E:$E, 0)), \"\", \"〇\")","v":""},{"$f":"IF( ISNA(MATCH(J$5&$D7, CSV!$E:$E, 0)), \"\", \"〇\")","v":""}]
[null,null,"Clingy Clare","穴が開いたモルボルの牙",{"$f":"IF( ISNA(MATCH(E$5&$D8, CSV!$E:$E, 0)), \"\", \"〇\")","v":""},{"$f":"IF( ISNA(MATCH(F$5&$D8, CSV!$E:$E, 0)), \"\", \"〇\")","v":""},{"$f":"IF( ISNA(MATCH(G$5&$D8, CSV!$E:$E, 0)), \"\", \"〇\")","v":""},{"$f":"IF( ISNA(MATCH(H$5&$D8, CSV!$E:$E, 0)), \"\", \"〇\")","v":""},{"$f":"IF( ISNA(MATCH(I$5&$D8, CSV!$E:$E, 0)), \"\", \"〇\")","v":""},{"$f":"IF( ISNA(MATCH(J$5&$D8, CSV!$E:$E, 0)), \"\", \"〇\")","v":""}]
[null,null,null,"ミニモルボルのつる",{"$f":"IF( ISNA(MATCH(E$5&$D9, CSV!$E:$E, 0)), \"\", \"〇\")","v":""},{"$f":"IF( ISNA(MATCH(F$5&$D9, CSV!$E:$E, 0)), \"\", \"〇\")","v":""},{"$f":"IF( ISNA(MATCH(G$5&$D9, CSV!$E:$E, 0)), \"\", \"〇\")","v":""},{"$f":"IF( ISNA(MATCH(H$5&$D9, CSV!$E:$E, 0)), \"\", \"〇\")","v":""},{"$f":"IF( ISNA(MATCH(I$5&$D9, CSV!$E:$E, 0)), \"\", \"〇\")","v":""},{"$f":"IF( ISNA(MATCH(J$5&$D9, CSV!$E:$E, 0)), \"\", \"〇\")","v":""}]
[null,null,"Fistule","濁ったスライムのオイル",{"$f":"IF( ISNA(MATCH(E$5&$D10, CSV!$E:$E, 0)), \"\", \"〇\")","v":""},{"$f":"IF( ISNA(MATCH(F$5&$D10, CSV!$E:$E, 0)), \"\", \"〇\")","v":""},{"$f":"IF( ISNA(MATCH(G$5&$D10, CSV!$E:$E, 0)), \"\", \"〇\")","v":""},{"$f":"IF( ISNA(MATCH(H$5&$D10, CSV!$E:$E, 0)), \"\", \"〇\")","v":""},{"$f":"IF( ISNA(MATCH(I$5&$D10, CSV!$E:$E, 0)), \"\", \"〇\")","v":""},{"$f":"IF( ISNA(MATCH(J$5&$D10, CSV!$E:$E, 0)), \"\", \"〇\")","v":""}]
[null,null,null,"毒が滴るペイストの爪",{"$f":"IF( ISNA(MATCH(E$5&$D11, CSV!$E:$E, 0)), \"\", \"〇\")","v":""},{"$f":"IF( ISNA(MATCH(F$5&$D11, CSV!$E:$E, 0)), \"\", \"〇\")","v":""},{"$f":"IF( ISNA(MATCH(G$5&$D11, CSV!$E:$E, 0)), \"\", \"〇\")","v":""},{"$f":"IF( ISNA(MATCH(H$5&$D11, CSV!$E:$E, 0)), \"\", \"〇\")","v":""},{"$f":"IF( ISNA(MATCH(I$5&$D11, CSV!$E:$E, 0)), \"\", \"〇\")","v":""},{"$f":"IF( ISNA(MATCH(J$5&$D11, CSV!$E:$E, 0)), \"\", \"〇\")","v":""}]
[null,null,"Kukulkan","毒が滴るペイストの爪",{"$f":"IF( ISNA(MATCH(E$5&$D12, CSV!$E:$E, 0)), \"\", \"〇\")","v":""},{"$f":"IF( ISNA(MATCH(F$5&$D12, CSV!$E:$E, 0)), \"\", \"〇\")","v":""},{"$f":"IF( ISNA(MATCH(G$5&$D12, CSV!$E:$E, 0)), \"\", \"〇\")","v":""},{"$f":"IF( ISNA(MATCH(H$5&$D12, CSV!$E:$E, 0)), \"\", \"〇\")","v":""},{"$f":"IF( ISNA(MATCH(I$5&$D12, CSV!$E:$E, 0)), \"\", \"〇\")","v":""},{"$f":"IF( ISNA(MATCH(J$5&$D12, CSV!$E:$E, 0)), \"\", \"〇\")","v":""}]
[null,"Kukulkan","Alkonost","毟ったヒポグリフの羽",{"$f":"IF( ISNA(MATCH(E$5&$D13, CSV!$E:$E, 0)), \"\", \"〇\")","v":""},{"$f":"IF( ISNA(MATCH(F$5&$D13, CSV!$E:$E, 0)), \"\", \"〇\")","v":""},{"$f":"IF( ISNA(MATCH(G$5&$D13, CSV!$E:$E, 0)), \"\", \"〇\")","v":""},{"$f":"IF( ISNA(MATCH(H$5&$D13, CSV!$E:$E, 0)), \"\", \"〇\")","v":""},{"$f":"IF( ISNA(MATCH(I$5&$D13, CSV!$E:$E, 0)), \"\", \"〇\")","v":""},{"$f":"IF( ISNA(MATCH(J$5&$D13, CSV!$E:$E, 0)), \"\", \"〇\")","v":""}]
[null,null,null,"巨大なブガードの牙",{"$f":"IF( ISNA(MATCH(E$5&$D14, CSV!$E:$E, 0)), \"\", \"〇\")","v":""},{"$f":"IF( ISNA(MATCH(F$5&$D14, CSV!$E:$E, 0)), \"\", \"〇\")","v":""},{"$f":"IF( ISNA(MATCH(G$5&$D14, CSV!$E:$E, 0)), \"\", \"〇\")","v":""},{"$f":"IF( ISNA(MATCH(H$5&$D14, CSV!$E:$E, 0)), \"\", \"〇\")","v":""},{"$f":"IF( ISNA(MATCH(I$5&$D14, CSV!$E:$E, 0)), \"\", \"〇\")","v":""},{"$f":"IF( ISNA(MATCH(J$5&$D14, CSV!$E:$E, 0)), \"\", \"〇\")","v":""}]
[null,null,"Keratyrannos","砕けたウィヴルの角",{"$f":"IF( ISNA(MATCH(E$5&$D15, CSV!$E:$E, 0)), \"\", \"〇\")","v":""},{"$f":"IF( ISNA(MATCH(F$5&$D15, CSV!$E:$E, 0)), \"\", \"〇\")","v":""},{"$f":"IF( ISNA(MATCH(G$5&$D15, CSV!$E:$E, 0)), \"\", \"〇\")","v":""},{"$f":"IF( ISNA(MATCH(H$5&$D15, CSV!$E:$E, 0)), \"\", \"〇\")","v":""},{"$f":"IF( ISNA(MATCH(I$5&$D15, CSV!$E:$E, 0)), \"\", \"〇\")","v":""},{"$f":"IF( ISNA(MATCH(J$5&$D15, CSV!$E:$E, 0)), \"\", \"〇\")","v":""}]
[null,null,null,"鎧竜の尖角",{"$f":"IF( ISNA(MATCH(E$5&$D16, CSV!$E:$E, 0)), \"\", \"〇\")","v":""},{"$f":"IF( ISNA(MATCH(F$5&$D16, CSV!$E:$E, 0)), \"\", \"〇\")","v":""},{"$f":"IF( ISNA(MATCH(G$5&$D16, CSV!$E:$E, 0)), \"\", \"〇\")","v":""},{"$f":"IF( ISNA(MATCH(H$5&$D16, CSV!$E:$E, 0)), \"\", \"〇\")","v":""},{"$f":"IF( ISNA(MATCH(I$5&$D16, CSV!$E:$E, 0)), \"\", \"〇\")","v":""},{"$f":"IF( ISNA(MATCH(J$5&$D16, CSV!$E:$E, 0)), \"\", \"〇\")","v":""}]
[null,null,"Arimaspi","潤んだアーリマンの目",{"$f":"IF( ISNA(MATCH(E$5&$D17, CSV!$E:$E, 0)), \"\", \"〇\")","v":""},{"$f":"IF( ISNA(MATCH(F$5&$D17, CSV!$E:$E, 0)), \"\", \"〇\")","v":""},{"$f":"IF( ISNA(MATCH(G$5&$D17, CSV!$E:$E, 0)), \"\", \"〇\")","v":""},{"$f":"IF( ISNA(MATCH(H$5&$D17, CSV!$E:$E, 0)), \"\", \"〇\")","v":""},{"$f":"IF( ISNA(MATCH(I$5&$D17, CSV!$E:$E, 0)), \"\", \"〇\")","v":""},{"$f":"IF( ISNA(MATCH(J$5&$D17, CSV!$E:$E, 0)), \"\", \"〇\")","v":""}]
[null,null,null,"曇ったレンズ",{"$f":"IF( ISNA(MATCH(E$5&$D18, CSV!$E:$E, 0)), \"\", \"〇\")","v":""},{"$f":"IF( ISNA(MATCH(F$5&$D18, CSV!$E:$E, 0)), \"\", \"〇\")","v":""},{"$f":"IF( ISNA(MATCH(G$5&$D18, CSV!$E:$E, 0)), \"\", \"〇\")","v":""},{"$f":"IF( ISNA(MATCH(H$5&$D18, CSV!$E:$E, 0)), \"\", \"〇\")","v":""},{"$f":"IF( ISNA(MATCH(I$5&$D18, CSV!$E:$E, 0)), \"\", \"〇\")","v":""},{"$f":"IF( ISNA(MATCH(J$5&$D18, CSV!$E:$E, 0)), \"\", \"〇\")","v":""}]
[null,"Bloodeye Vileberry","Tonberry Lieje","歪んだトンベリの王冠",{"$f":"IF( ISNA(MATCH(E$5&$D19, CSV!$E:$E, 0)), \"\", \"〇\")","v":""},{"$f":"IF( ISNA(MATCH(F$5&$D19, CSV!$E:$E, 0)), \"\", \"〇\")","v":""},{"$f":"IF( ISNA(MATCH(G$5&$D19, CSV!$E:$E, 0)), \"\", \"〇\")","v":""},{"$f":"IF( ISNA(MATCH(H$5&$D19, CSV!$E:$E, 0)), \"\", \"〇\")","v":""},{"$f":"IF( ISNA(MATCH(I$5&$D19, CSV!$E:$E, 0)), \"\", \"〇\")","v":""},{"$f":"IF( ISNA(MATCH(J$5&$D19, CSV!$E:$E, 0)), \"\", \"〇\")","v":""}]
[]
[]
["タロンギ","Chloris","1. Treble Noctules","裂けたコウモリの翼",{"$f":"IF( ISNA(MATCH(E$5&$D22, CSV!$E:$E, 0)), \"\", \"〇\")","v":""},{"$f":"IF( ISNA(MATCH(F$5&$D22, CSV!$E:$E, 0)), \"\", \"〇\")","v":""},{"$f":"IF( ISNA(MATCH(G$5&$D22, CSV!$E:$E, 0)), \"\", \"〇\")","v":""},{"$f":"IF( ISNA(MATCH(H$5&$D22, CSV!$E:$E, 0)), \"\", \"〇\")","v":""},{"$f":"IF( ISNA(MATCH(I$5&$D22, CSV!$E:$E, 0)), \"\", \"〇\")","v":""},{"$f":"IF( ISNA(MATCH(J$5&$D22, CSV!$E:$E, 0)), \"\", \"〇\")","v":""}]
[null,null,"Cannered Noz","鎮められた頭骨 ",{"$f":"IF( ISNA(MATCH(E$5&$D23, CSV!$E:$E, 0)), \"\", \"〇\")","v":""},{"$f":"IF( ISNA(MATCH(F$5&$D23, CSV!$E:$E, 0)), \"\", \"〇\")","v":""},{"$f":"IF( ISNA(MATCH(G$5&$D23, CSV!$E:$E, 0)), \"\", \"〇\")","v":""},{"$f":"IF( ISNA(MATCH(H$5&$D23, CSV!$E:$E, 0)), \"\", \"〇\")","v":""},{"$f":"IF( ISNA(MATCH(I$5&$D23, CSV!$E:$E, 0)), \"\", \"〇\")","v":""},{"$f":"IF( ISNA(MATCH(J$5&$D23, CSV!$E:$E, 0)), \"\", \"〇\")","v":""}]
[null,null,null,"禍々しい頭骨",{"$f":"IF( ISNA(MATCH(E$5&$D24, CSV!$E:$E, 0)), \"\", \"〇\")","v":""},{"$f":"IF( ISNA(MATCH(F$5&$D24, CSV!$E:$E, 0)), \"\", \"〇\")","v":""},{"$f":"IF( ISNA(MATCH(G$5&$D24, CSV!$E:$E, 0)), \"\", \"〇\")","v":""},{"$f":"IF( ISNA(MATCH(H$5&$D24, CSV!$E:$E, 0)), \"\", \"〇\")","v":""},{"$f":"IF( ISNA(MATCH(I$5&$D24, CSV!$E:$E, 0)), \"\", \"〇\")","v":""},{"$f":"IF( ISNA(MATCH(J$5&$D24, CSV!$E:$E, 0)), \"\", \"〇\")","v":""}]
[null,null,null,"血のついた牙",{"$f":"IF( ISNA(MATCH(E$5&$D25, CSV!$E:$E, 0)), \"\", \"〇\")","v":""},{"$f":"IF( ISNA(MATCH(F$5&$D25, CSV!$E:$E, 0)), \"\", \"〇\")","v":""},{"$f":"IF( ISNA(MATCH(G$5&$D25, CSV!$E:$E, 0)), \"\", \"〇\")","v":""},{"$f":"IF( ISNA(MATCH(H$5&$D25, CSV!$E:$E, 0)), \"\", \"〇\")","v":""},{"$f":"IF( ISNA(MATCH(I$5&$D25, CSV!$E:$E, 0)), \"\", \"〇\")","v":""},{"$f":"IF( ISNA(MATCH(J$5&$D25, CSV!$E:$E, 0)), \"\", \"〇\")","v":""}]
[null,null,"2. Ophanim","瞼付きのヘクトアイズの目",{"$f":"IF( ISNA(MATCH(E$5&$D26, CSV!$E:$E, 0)), \"\", \"〇\")","v":""},{"$f":"IF( ISNA(MATCH(F$5&$D26, CSV!$E:$E, 0)), \"\", \"〇\")","v":""},{"$f":"IF( ISNA(MATCH(G$5&$D26, CSV!$E:$E, 0)), \"\", \"〇\")","v":""},{"$f":"IF( ISNA(MATCH(H$5&$D26, CSV!$E:$E, 0)), \"\", \"〇\")","v":""},{"$f":"IF( ISNA(MATCH(I$5&$D26, CSV!$E:$E, 0)), \"\", \"〇\")","v":""},{"$f":"IF( ISNA(MATCH(J$5&$D26, CSV!$E:$E, 0)), \"\", \"〇\")","v":""}]
[null,null,"Halimede","萎れた翼足",{"$f":"IF( ISNA(MATCH(E$5&$D27, CSV!$E:$E, 0)), \"\", \"〇\")","v":""},{"$f":"IF( ISNA(MATCH(F$5&$D27, CSV!$E:$E, 0)), \"\", \"〇\")","v":""},{"$f":"IF( ISNA(MATCH(G$5&$D27, CSV!$E:$E, 0)), \"\", \"〇\")","v":""},{"$f":"IF( ISNA(MATCH(H$5&$D27, CSV!$E:$E, 0)), \"\", \"〇\")","v":""},{"$f":"IF( ISNA(MATCH(I$5&$D27, CSV!$E:$E, 0)), \"\", \"〇\")","v":""},{"$f":"IF( ISNA(MATCH(J$5&$D27, CSV!$E:$E, 0)), \"\", \"〇\")","v":""}]
[null,null,null,"上質な翼足",{"$f":"IF( ISNA(MATCH(E$5&$D28, CSV!$E:$E, 0)), \"\", \"〇\")","v":""},{"$f":"IF( ISNA(MATCH(F$5&$D28, CSV!$E:$E, 0)), \"\", \"〇\")","v":""},{"$f":"IF( ISNA(MATCH(G$5&$D28, CSV!$E:$E, 0)), \"\", \"〇\")","v":""},{"$f":"IF( ISNA(MATCH(H$5&$D28, CSV!$E:$E, 0)), \"\", \"〇\")","v":""},{"$f":"IF( ISNA(MATCH(I$5&$D28, CSV!$E:$E, 0)), \"\", \"〇\")","v":""},{"$f":"IF( ISNA(MATCH(J$5&$D28, CSV!$E:$E, 0)), \"\", \"〇\")","v":""}]
[null,null,"Vetehinen","萎れた鋏脚",{"$f":"IF( ISNA(MATCH(E$5&$D29, CSV!$E:$E, 0)), \"\", \"〇\")","v":""},{"$f":"IF( ISNA(MATCH(F$5&$D29, CSV!$E:$E, 0)), \"\", \"〇\")","v":""},{"$f":"IF( ISNA(MATCH(G$5&$D29, CSV!$E:$E, 0)), \"\", \"〇\")","v":""},{"$f":"IF( ISNA(MATCH(H$5&$D29, CSV!$E:$E, 0)), \"\", \"〇\")","v":""},{"$f":"IF( ISNA(MATCH(I$5&$D29, CSV!$E:$E, 0)), \"\", \"〇\")","v":""},{"$f":"IF( ISNA(MATCH(J$5&$D29, CSV!$E:$E, 0)), \"\", \"〇\")","v":""}]
[null,null,null,"上質な鋏脚",{"$f":"IF( ISNA(MATCH(E$5&$D30, CSV!$E:$E, 0)), \"\", \"〇\")","v":""},{"$f":"IF( ISNA(MATCH(F$5&$D30, CSV!$E:$E, 0)), \"\", \"〇\")","v":""},{"$f":"IF( ISNA(MATCH(G$5&$D30, CSV!$E:$E, 0)), \"\", \"〇\")","v":""},{"$f":"IF( ISNA(MATCH(H$5&$D30, CSV!$E:$E, 0)), \"\", \"〇\")","v":""},{"$f":"IF( ISNA(MATCH(I$5&$D30, CSV!$E:$E, 0)), \"\", \"〇\")","v":""},{"$f":"IF( ISNA(MATCH(J$5&$D30, CSV!$E:$E, 0)), \"\", \"〇\")","v":""}]
[null,null,"Beholder","ヘクトアイズの赤眼",{"$f":"IF( ISNA(MATCH(E$5&$D31, CSV!$E:$E, 0)), \"\", \"〇\")","v":""},{"$f":"IF( ISNA(MATCH(F$5&$D31, CSV!$E:$E, 0)), \"\", \"〇\")","v":""},{"$f":"IF( ISNA(MATCH(G$5&$D31, CSV!$E:$E, 0)), \"\", \"〇\")","v":""},{"$f":"IF( ISNA(MATCH(H$5&$D31, CSV!$E:$E, 0)), \"\", \"〇\")","v":""},{"$f":"IF( ISNA(MATCH(I$5&$D31, CSV!$E:$E, 0)), \"\", \"〇\")","v":""},{"$f":"IF( ISNA(MATCH(J$5&$D31, CSV!$E:$E, 0)), \"\", \"〇\")","v":""}]
[null,null,"3. Hedetet","肉片が付着したサソリの爪",{"$f":"IF( ISNA(MATCH(E$5&$D32, CSV!$E:$E, 0)), \"\", \"〇\")","v":""},{"$f":"IF( ISNA(MATCH(F$5&$D32, CSV!$E:$E, 0)), \"\", \"〇\")","v":""},{"$f":"IF( ISNA(MATCH(G$5&$D32, CSV!$E:$E, 0)), \"\", \"〇\")","v":""},{"$f":"IF( ISNA(MATCH(H$5&$D32, CSV!$E:$E, 0)), \"\", \"〇\")","v":""},{"$f":"IF( ISNA(MATCH(I$5&$D32, CSV!$E:$E, 0)), \"\", \"〇\")","v":""},{"$f":"IF( ISNA(MATCH(J$5&$D32, CSV!$E:$E, 0)), \"\", \"〇\")","v":""}]
[null,null,"Gancanagh","酸性腐葉土",{"$f":"IF( ISNA(MATCH(E$5&$D33, CSV!$E:$E, 0)), \"\", \"〇\")","v":""},{"$f":"IF( ISNA(MATCH(F$5&$D33, CSV!$E:$E, 0)), \"\", \"〇\")","v":""},{"$f":"IF( ISNA(MATCH(G$5&$D33, CSV!$E:$E, 0)), \"\", \"〇\")","v":""},{"$f":"IF( ISNA(MATCH(H$5&$D33, CSV!$E:$E, 0)), \"\", \"〇\")","v":""},{"$f":"IF( ISNA(MATCH(I$5&$D33, CSV!$E:$E, 0)), \"\", \"〇\")","v":""},{"$f":"IF( ISNA(MATCH(J$5&$D33, CSV!$E:$E, 0)), \"\", \"〇\")","v":""}]
[null,null,null,"アルカリ腐葉土",{"$f":"IF( ISNA(MATCH(E$5&$D34, CSV!$E:$E, 0)), \"\", \"〇\")","v":""},{"$f":"IF( ISNA(MATCH(F$5&$D34, CSV!$E:$E, 0)), \"\", \"〇\")","v":""},{"$f":"IF( ISNA(MATCH(G$5&$D34, CSV!$E:$E, 0)), \"\", \"〇\")","v":""},{"$f":"IF( ISNA(MATCH(H$5&$D34, CSV!$E:$E, 0)), \"\", \"〇\")","v":""},{"$f":"IF( ISNA(MATCH(I$5&$D34, CSV!$E:$E, 0)), \"\", \"〇\")","v":""},{"$f":"IF( ISNA(MATCH(J$5&$D34, CSV!$E:$E, 0)), \"\", \"〇\")","v":""}]
[null,null,null,"猛毒サソリの針 ",{"$f":"IF( ISNA(MATCH(E$5&$D35, CSV!$E:$E, 0)), \"\", \"〇\")","v":""},{"$f":"IF( ISNA(MATCH(F$5&$D35, CSV!$E:$E, 0)), \"\", \"〇\")","v":""},{"$f":"IF( ISNA(MATCH(G$5&$D35, CSV!$E:$E, 0)), \"\", \"〇\")","v":""},{"$f":"IF( ISNA(MATCH(H$5&$D35, CSV!$E:$E, 0)), \"\", \"〇\")","v":""},{"$f":"IF( ISNA(MATCH(I$5&$D35, CSV!$E:$E, 0)), \"\", \"〇\")","v":""},{"$f":"IF( ISNA(MATCH(J$5&$D35, CSV!$E:$E, 0)), \"\", \"〇\")","v":""}]
[null,null,"4. Chukwa","すべすべなアダマンタスの甲羅",{"$f":"IF( ISNA(MATCH(E$5&$D36, CSV!$E:$E, 0)), \"\", \"〇\")","v":""},{"$f":"IF( ISNA(MATCH(F$5&$D36, CSV!$E:$E, 0)), \"\", \"〇\")","v":""},{"$f":"IF( ISNA(MATCH(G$5&$D36, CSV!$E:$E, 0)), \"\", \"〇\")","v":""},{"$f":"IF( ISNA(MATCH(H$5&$D36, CSV!$E:$E, 0)), \"\", \"〇\")","v":""},{"$f":"IF( ISNA(MATCH(I$5&$D36, CSV!$E:$E, 0)), \"\", \"〇\")","v":""},{"$f":"IF( ISNA(MATCH(J$5&$D36, CSV!$E:$E, 0)), \"\", \"〇\")","v":""}]
[null,"Glavoid","Minhocao","湿ったサンドウォームの殻",{"$f":"IF( ISNA(MATCH(E$5&$D37, CSV!$E:$E, 0)), \"\", \"〇\")","v":""},{"$f":"IF( ISNA(MATCH(F$5&$D37, CSV!$E:$E, 0)), \"\", \"〇\")","v":""},{"$f":"IF( ISNA(MATCH(G$5&$D37, CSV!$E:$E, 0)), \"\", \"〇\")","v":""},{"$f":"IF( ISNA(MATCH(H$5&$D37, CSV!$E:$E, 0)), \"\", \"〇\")","v":""},{"$f":"IF( ISNA(MATCH(I$5&$D37, CSV!$E:$E, 0)), \"\", \"〇\")","v":""},{"$f":"IF( ISNA(MATCH(J$5&$D37, CSV!$E:$E, 0)), \"\", \"〇\")","v":""}]
[null,null,"Muscaliet","瑞々しいマンティコアのたてがみ",{"$f":"IF( ISNA(MATCH(E$5&$D38, CSV!$E:$E, 0)), \"\", \"〇\")","v":""},{"$f":"IF( ISNA(MATCH(F$5&$D38, CSV!$E:$E, 0)), \"\", \"〇\")","v":""},{"$f":"IF( ISNA(MATCH(G$5&$D38, CSV!$E:$E, 0)), \"\", \"〇\")","v":""},{"$f":"IF( ISNA(MATCH(H$5&$D38, CSV!$E:$E, 0)), \"\", \"〇\")","v":""},{"$f":"IF( ISNA(MATCH(I$5&$D38, CSV!$E:$E, 0)), \"\", \"〇\")","v":""},{"$f":"IF( ISNA(MATCH(J$5&$D38, CSV!$E:$E, 0)), \"\", \"〇\")","v":""}]
[null,null,null,"強靭なたてがみ",{"$f":"IF( ISNA(MATCH(E$5&$D39, CSV!$E:$E, 0)), \"\", \"〇\")","v":""},{"$f":"IF( ISNA(MATCH(F$5&$D39, CSV!$E:$E, 0)), \"\", \"〇\")","v":""},{"$f":"IF( ISNA(MATCH(G$5&$D39, CSV!$E:$E, 0)), \"\", \"〇\")","v":""},{"$f":"IF( ISNA(MATCH(H$5&$D39, CSV!$E:$E, 0)), \"\", \"〇\")","v":""},{"$f":"IF( ISNA(MATCH(I$5&$D39, CSV!$E:$E, 0)), \"\", \"〇\")","v":""},{"$f":"IF( ISNA(MATCH(J$5&$D39, CSV!$E:$E, 0)), \"\", \"〇\")","v":""}]
[null,null,"Tefenet","ふさふさの上髭",{"$f":"IF( ISNA(MATCH(E$5&$D40, CSV!$E:$E, 0)), \"\", \"〇\")","v":""},{"$f":"IF( ISNA(MATCH(F$5&$D40, CSV!$E:$E, 0)), \"\", \"〇\")","v":""},{"$f":"IF( ISNA(MATCH(G$5&$D40, CSV!$E:$E, 0)), \"\", \"〇\")","v":""},{"$f":"IF( ISNA(MATCH(H$5&$D40, CSV!$E:$E, 0)), \"\", \"〇\")","v":""},{"$f":"IF( ISNA(MATCH(I$5&$D40, CSV!$E:$E, 0)), \"\", \"〇\")","v":""},{"$f":"IF( ISNA(MATCH(J$5&$D40, CSV!$E:$E, 0)), \"\", \"〇\")","v":""}]
[null,null,null,"しびれる上髭",{"$f":"IF( ISNA(MATCH(E$5&$D41, CSV!$E:$E, 0)), \"\", \"〇\")","v":""},{"$f":"IF( ISNA(MATCH(F$5&$D41, CSV!$E:$E, 0)), \"\", \"〇\")","v":""},{"$f":"IF( ISNA(MATCH(G$5&$D41, CSV!$E:$E, 0)), \"\", \"〇\")","v":""},{"$f":"IF( ISNA(MATCH(H$5&$D41, CSV!$E:$E, 0)), \"\", \"〇\")","v":""},{"$f":"IF( ISNA(MATCH(I$5&$D41, CSV!$E:$E, 0)), \"\", \"〇\")","v":""},{"$f":"IF( ISNA(MATCH(J$5&$D41, CSV!$E:$E, 0)), \"\", \"〇\")","v":""}]
[null,null,"Adze","滲んだナットの翅",{"$f":"IF( ISNA(MATCH(E$5&$D42, CSV!$E:$E, 0)), \"\", \"〇\")","v":""},{"$f":"IF( ISNA(MATCH(F$5&$D42, CSV!$E:$E, 0)), \"\", \"〇\")","v":""},{"$f":"IF( ISNA(MATCH(G$5&$D42, CSV!$E:$E, 0)), \"\", \"〇\")","v":""},{"$f":"IF( ISNA(MATCH(H$5&$D42, CSV!$E:$E, 0)), \"\", \"〇\")","v":""},{"$f":"IF( ISNA(MATCH(I$5&$D42, CSV!$E:$E, 0)), \"\", \"〇\")","v":""},{"$f":"IF( ISNA(MATCH(J$5&$D42, CSV!$E:$E, 0)), \"\", \"〇\")","v":""}]
[null,null,"Alectryon","脂の乗ったコカトリスの皮",{"$f":"IF( ISNA(MATCH(E$5&$D43, CSV!$E:$E, 0)), \"\", \"〇\")","v":""},{"$f":"IF( ISNA(MATCH(F$5&$D43, CSV!$E:$E, 0)), \"\", \"〇\")","v":""},{"$f":"IF( ISNA(MATCH(G$5&$D43, CSV!$E:$E, 0)), \"\", \"〇\")","v":""},{"$f":"IF( ISNA(MATCH(H$5&$D43, CSV!$E:$E, 0)), \"\", \"〇\")","v":""},{"$f":"IF( ISNA(MATCH(I$5&$D43, CSV!$E:$E, 0)), \"\", \"〇\")","v":""},{"$f":"IF( ISNA(MATCH(J$5&$D43, CSV!$E:$E, 0)), \"\", \"〇\")","v":""}]
[null,null,null,"コカトリスの尾肉",{"$f":"IF( ISNA(MATCH(E$5&$D44, CSV!$E:$E, 0)), \"\", \"〇\")","v":""},{"$f":"IF( ISNA(MATCH(F$5&$D44, CSV!$E:$E, 0)), \"\", \"〇\")","v":""},{"$f":"IF( ISNA(MATCH(G$5&$D44, CSV!$E:$E, 0)), \"\", \"〇\")","v":""},{"$f":"IF( ISNA(MATCH(H$5&$D44, CSV!$E:$E, 0)), \"\", \"〇\")","v":""},{"$f":"IF( ISNA(MATCH(I$5&$D44, CSV!$E:$E, 0)), \"\", \"〇\")","v":""},{"$f":"IF( ISNA(MATCH(J$5&$D44, CSV!$E:$E, 0)), \"\", \"〇\")","v":""}]
[null,null,"Abas","動くエフトの卵",{"$f":"IF( ISNA(MATCH(E$5&$D45, CSV!$E:$E, 0)), \"\", \"〇\")","v":""},{"$f":"IF( ISNA(MATCH(F$5&$D45, CSV!$E:$E, 0)), \"\", \"〇\")","v":""},{"$f":"IF( ISNA(MATCH(G$5&$D45, CSV!$E:$E, 0)), \"\", \"〇\")","v":""},{"$f":"IF( ISNA(MATCH(H$5&$D45, CSV!$E:$E, 0)), \"\", \"〇\")","v":""},{"$f":"IF( ISNA(MATCH(I$5&$D45, CSV!$E:$E, 0)), \"\", \"〇\")","v":""},{"$f":"IF( ISNA(MATCH(J$5&$D45, CSV!$E:$E, 0)), \"\", \"〇\")","v":""}]
[null,null,null,"エフトの卵",{"$f":"IF( ISNA(MATCH(E$5&$D46, CSV!$E:$E, 0)), \"\", \"〇\")","v":""},{"$f":"IF( ISNA(MATCH(F$5&$D46, CSV!$E:$E, 0)), \"\", \"〇\")","v":""},{"$f":"IF( ISNA(MATCH(G$5&$D46, CSV!$E:$E, 0)), \"\", \"〇\")","v":""},{"$f":"IF( ISNA(MATCH(H$5&$D46, CSV!$E:$E, 0)), \"\", \"〇\")","v":""},{"$f":"IF( ISNA(MATCH(I$5&$D46, CSV!$E:$E, 0)), \"\", \"〇\")","v":""},{"$f":"IF( ISNA(MATCH(J$5&$D46, CSV!$E:$E, 0)), \"\", \"〇\")","v":""}]
[null,"Lacovie","Chloris","咲き乱れたマンドラゴラの花",{"$f":"IF( ISNA(MATCH(E$5&$D47, CSV!$E:$E, 0)), \"\", \"〇\")","v":""},{"$f":"IF( ISNA(MATCH(F$5&$D47, CSV!$E:$E, 0)), \"\", \"〇\")","v":""},{"$f":"IF( ISNA(MATCH(G$5&$D47, CSV!$E:$E, 0)), \"\", \"〇\")","v":""},{"$f":"IF( ISNA(MATCH(H$5&$D47, CSV!$E:$E, 0)), \"\", \"〇\")","v":""},{"$f":"IF( ISNA(MATCH(I$5&$D47, CSV!$E:$E, 0)), \"\", \"〇\")","v":""},{"$f":"IF( ISNA(MATCH(J$5&$D47, CSV!$E:$E, 0)), \"\", \"〇\")","v":""}]
[null,null,"Glavoid","欠けたサンドウォームの牙",{"$f":"IF( ISNA(MATCH(E$5&$D48, CSV!$E:$E, 0)), \"\", \"〇\")","v":""},{"$f":"IF( ISNA(MATCH(F$5&$D48, CSV!$E:$E, 0)), \"\", \"〇\")","v":""},{"$f":"IF( ISNA(MATCH(G$5&$D48, CSV!$E:$E, 0)), \"\", \"〇\")","v":""},{"$f":"IF( ISNA(MATCH(H$5&$D48, CSV!$E:$E, 0)), \"\", \"〇\")","v":""},{"$f":"IF( ISNA(MATCH(I$5&$D48, CSV!$E:$E, 0)), \"\", \"〇\")","v":""},{"$f":"IF( ISNA(MATCH(J$5&$D48, CSV!$E:$E, 0)), \"\", \"〇\")","v":""}]
[]
[]
["ラテ","Hadhayosh","Briareus","血塗られたギガースヘルム",{"$f":"IF( ISNA(MATCH(E$5&$D51, CSV!$E:$E, 0)), \"\", \"〇\")","v":""},{"$f":"IF( ISNA(MATCH(F$5&$D51, CSV!$E:$E, 0)), \"\", \"〇\")","v":""},{"$f":"IF( ISNA(MATCH(G$5&$D51, CSV!$E:$E, 0)), \"\", \"〇\")","v":""},{"$f":"IF( ISNA(MATCH(H$5&$D51, CSV!$E:$E, 0)), \"\", \"〇\")","v":""},{"$f":"IF( ISNA(MATCH(I$5&$D51, CSV!$E:$E, 0)), \"\", \"〇\")","v":""},{"$f":"IF( ISNA(MATCH(J$5&$D51, CSV!$E:$E, 0)), \"\", \"〇\")","v":""}]
[null,null,"Carabosse","光り輝くピクシーのチョーカー",{"$f":"IF( ISNA(MATCH(E$5&$D52, CSV!$E:$E, 0)), \"\", \"〇\")","v":""},{"$f":"IF( ISNA(MATCH(F$5&$D52, CSV!$E:$E, 0)), \"\", \"〇\")","v":""},{"$f":"IF( ISNA(MATCH(G$5&$D52, CSV!$E:$E, 0)), \"\", \"〇\")","v":""},{"$f":"IF( ISNA(MATCH(H$5&$D52, CSV!$E:$E, 0)), \"\", \"〇\")","v":""},{"$f":"IF( ISNA(MATCH(I$5&$D52, CSV!$E:$E, 0)), \"\", \"〇\")","v":""},{"$f":"IF( ISNA(MATCH(J$5&$D52, CSV!$E:$E, 0)), \"\", \"〇\")","v":""}]
[null,null,"Megantereon","血に濡れた剣虎の牙",{"$f":"IF( ISNA(MATCH(E$5&$D53, CSV!$E:$E, 0)), \"\", \"〇\")","v":""},{"$f":"IF( ISNA(MATCH(F$5&$D53, CSV!$E:$E, 0)), \"\", \"〇\")","v":""},{"$f":"IF( ISNA(MATCH(G$5&$D53, CSV!$E:$E, 0)), \"\", \"〇\")","v":""},{"$f":"IF( ISNA(MATCH(H$5&$D53, CSV!$E:$E, 0)), \"\", \"〇\")","v":""},{"$f":"IF( ISNA(MATCH(I$5&$D53, CSV!$E:$E, 0)), \"\", \"〇\")","v":""},{"$f":"IF( ISNA(MATCH(J$5&$D53, CSV!$E:$E, 0)), \"\", \"〇\")","v":""}]
[null,null,null,"肥大した黒虎の牙",{"$f":"IF( ISNA(MATCH(E$5&$D54, CSV!$E:$E, 0)), \"\", \"〇\")","v":""},{"$f":"IF( ISNA(MATCH(F$5&$D54, CSV!$E:$E, 0)), \"\", \"〇\")","v":""},{"$f":"IF( ISNA(MATCH(G$5&$D54, CSV!$E:$E, 0)), \"\", \"〇\")","v":""},{"$f":"IF( ISNA(MATCH(H$5&$D54, CSV!$E:$E, 0)), \"\", \"〇\")","v":""},{"$f":"IF( ISNA(MATCH(I$5&$D54, CSV!$E:$E, 0)), \"\", \"〇\")","v":""},{"$f":"IF( ISNA(MATCH(J$5&$D54, CSV!$E:$E, 0)), \"\", \"〇\")","v":""}]
[null,null,"Trudging Thomas","大羊の霜降り肉",{"$f":"IF( ISNA(MATCH(E$5&$D55, CSV!$E:$E, 0)), \"\", \"〇\")","v":""},{"$f":"IF( ISNA(MATCH(F$5&$D55, CSV!$E:$E, 0)), \"\", \"〇\")","v":""},{"$f":"IF( ISNA(MATCH(G$5&$D55, CSV!$E:$E, 0)), \"\", \"〇\")","v":""},{"$f":"IF( ISNA(MATCH(H$5&$D55, CSV!$E:$E, 0)), \"\", \"〇\")","v":""},{"$f":"IF( ISNA(MATCH(I$5&$D55, CSV!$E:$E, 0)), \"\", \"〇\")","v":""},{"$f":"IF( ISNA(MATCH(J$5&$D55, CSV!$E:$E, 0)), \"\", \"〇\")","v":""}]
[null,null,null,"大羊の羶肉",{"$f":"IF( ISNA(MATCH(E$5&$D56, CSV!$E:$E, 0)), \"\", \"〇\")","v":""},{"$f":"IF( ISNA(MATCH(F$5&$D56, CSV!$E:$E, 0)), \"\", \"〇\")","v":""},{"$f":"IF( ISNA(MATCH(G$5&$D56, CSV!$E:$E, 0)), \"\", \"〇\")","v":""},{"$f":"IF( ISNA(MATCH(H$5&$D56, CSV!$E:$E, 0)), \"\", \"〇\")","v":""},{"$f":"IF( ISNA(MATCH(I$5&$D56, CSV!$E:$E, 0)), \"\", \"〇\")","v":""},{"$f":"IF( ISNA(MATCH(J$5&$D56, CSV!$E:$E, 0)), \"\", \"〇\")","v":""}]
[null,"Carabosse","La Theine Liege","透通ったフライの複眼",{"$f":"IF( ISNA(MATCH(E$5&$D57, CSV!$E:$E, 0)), \"\", \"〇\")","v":""},{"$f":"IF( ISNA(MATCH(F$5&$D57, CSV!$E:$E, 0)), \"\", \"〇\")","v":""},{"$f":"IF( ISNA(MATCH(G$5&$D57, CSV!$E:$E, 0)), \"\", \"〇\")","v":""},{"$f":"IF( ISNA(MATCH(H$5&$D57, CSV!$E:$E, 0)), \"\", \"〇\")","v":""},{"$f":"IF( ISNA(MATCH(I$5&$D57, CSV!$E:$E, 0)), \"\", \"〇\")","v":""},{"$f":"IF( ISNA(MATCH(J$5&$D57, CSV!$E:$E, 0)), \"\", \"〇\")","v":""}]
[null,null,null,"透通った虫の翅",{"$f":"IF( ISNA(MATCH(E$5&$D58, CSV!$E:$E, 0)), \"\", \"〇\")","v":""},{"$f":"IF( ISNA(MATCH(F$5&$D58, CSV!$E:$E, 0)), \"\", \"〇\")","v":""},{"$f":"IF( ISNA(MATCH(G$5&$D58, CSV!$E:$E, 0)), \"\", \"〇\")","v":""},{"$f":"IF( ISNA(MATCH(H$5&$D58, CSV!$E:$E, 0)), \"\", \"〇\")","v":""},{"$f":"IF( ISNA(MATCH(I$5&$D58, CSV!$E:$E, 0)), \"\", \"〇\")","v":""},{"$f":"IF( ISNA(MATCH(J$5&$D58, CSV!$E:$E, 0)), \"\", \"〇\")","v":""}]
[null,null,"Baba Yaga","煌くピクシーの羽根",{"$f":"IF( ISNA(MATCH(E$5&$D59, CSV!$E:$E, 0)), \"\", \"〇\")","v":""},{"$f":"IF( ISNA(MATCH(F$5&$D59, CSV!$E:$E, 0)), \"\", \"〇\")","v":""},{"$f":"IF( ISNA(MATCH(G$5&$D59, CSV!$E:$E, 0)), \"\", \"〇\")","v":""},{"$f":"IF( ISNA(MATCH(H$5&$D59, CSV!$E:$E, 0)), \"\", \"〇\")","v":""},{"$f":"IF( ISNA(MATCH(I$5&$D59, CSV!$E:$E, 0)), \"\", \"〇\")","v":""},{"$f":"IF( ISNA(MATCH(J$5&$D59, CSV!$E:$E, 0)), \"\", \"〇\")","v":""}]
[null,null,null,"黒色鱗粉",{"$f":"IF( ISNA(MATCH(E$5&$D60, CSV!$E:$E, 0)), \"\", \"〇\")","v":""},{"$f":"IF( ISNA(MATCH(F$5&$D60, CSV!$E:$E, 0)), \"\", \"〇\")","v":""},{"$f":"IF( ISNA(MATCH(G$5&$D60, CSV!$E:$E, 0)), \"\", \"〇\")","v":""},{"$f":"IF( ISNA(MATCH(H$5&$D60, CSV!$E:$E, 0)), \"\", \"〇\")","v":""},{"$f":"IF( ISNA(MATCH(I$5&$D60, CSV!$E:$E, 0)), \"\", \"〇\")","v":""},{"$f":"IF( ISNA(MATCH(J$5&$D60, CSV!$E:$E, 0)), \"\", \"〇\")","v":""}]
[null,"Briareus","Adamastor","破られたギガースの盾",{"$f":"IF( ISNA(MATCH(E$5&$D61, CSV!$E:$E, 0)), \"\", \"〇\")","v":""},{"$f":"IF( ISNA(MATCH(F$5&$D61, CSV!$E:$E, 0)), \"\", \"〇\")","v":""},{"$f":"IF( ISNA(MATCH(G$5&$D61, CSV!$E:$E, 0)), \"\", \"〇\")","v":""},{"$f":"IF( ISNA(MATCH(H$5&$D61, CSV!$E:$E, 0)), \"\", \"〇\")","v":""},{"$f":"IF( ISNA(MATCH(I$5&$D61, CSV!$E:$E, 0)), \"\", \"〇\")","v":""},{"$f":"IF( ISNA(MATCH(J$5&$D61, CSV!$E:$E, 0)), \"\", \"〇\")","v":""}]
[null,null,null,"戦勝の盾",{"$f":"IF( ISNA(MATCH(E$5&$D62, CSV!$E:$E, 0)), \"\", \"〇\")","v":""},{"$f":"IF( ISNA(MATCH(F$5&$D62, CSV!$E:$E, 0)), \"\", \"〇\")","v":""},{"$f":"IF( ISNA(MATCH(G$5&$D62, CSV!$E:$E, 0)), \"\", \"〇\")","v":""},{"$f":"IF( ISNA(MATCH(H$5&$D62, CSV!$E:$E, 0)), \"\", \"〇\")","v":""},{"$f":"IF( ISNA(MATCH(I$5&$D62, CSV!$E:$E, 0)), \"\", \"〇\")","v":""},{"$f":"IF( ISNA(MATCH(J$5&$D62, CSV!$E:$E, 0)), \"\", \"〇\")","v":""}]
[null,null," Pantagruel","潰れたギガースの腕輪",{"$f":"IF( ISNA(MATCH(E$5&$D63, CSV!$E:$E, 0)), \"\", \"〇\")","v":""},{"$f":"IF( ISNA(MATCH(F$5&$D63, CSV!$E:$E, 0)), \"\", \"〇\")","v":""},{"$f":"IF( ISNA(MATCH(G$5&$D63, CSV!$E:$E, 0)), \"\", \"〇\")","v":""},{"$f":"IF( ISNA(MATCH(H$5&$D63, CSV!$E:$E, 0)), \"\", \"〇\")","v":""},{"$f":"IF( ISNA(MATCH(I$5&$D63, CSV!$E:$E, 0)), \"\", \"〇\")","v":""},{"$f":"IF( ISNA(MATCH(J$5&$D63, CSV!$E:$E, 0)), \"\", \"〇\")","v":""}]
[null,null,null,"大型靴下",{"$f":"IF( ISNA(MATCH(E$5&$D64, CSV!$E:$E, 0)), \"\", \"〇\")","v":""},{"$f":"IF( ISNA(MATCH(F$5&$D64, CSV!$E:$E, 0)), \"\", \"〇\")","v":""},{"$f":"IF( ISNA(MATCH(G$5&$D64, CSV!$E:$E, 0)), \"\", \"〇\")","v":""},{"$f":"IF( ISNA(MATCH(H$5&$D64, CSV!$E:$E, 0)), \"\", \"〇\")","v":""},{"$f":"IF( ISNA(MATCH(I$5&$D64, CSV!$E:$E, 0)), \"\", \"〇\")","v":""},{"$f":"IF( ISNA(MATCH(J$5&$D64, CSV!$E:$E, 0)), \"\", \"〇\")","v":""}]
[null,null,"Grandgousier","断ち切られたギガースの首飾り",{"$f":"IF( ISNA(MATCH(E$5&$D65, CSV!$E:$E, 0)), \"\", \"〇\")","v":""},{"$f":"IF( ISNA(MATCH(F$5&$D65, CSV!$E:$E, 0)), \"\", \"〇\")","v":""},{"$f":"IF( ISNA(MATCH(G$5&$D65, CSV!$E:$E, 0)), \"\", \"〇\")","v":""},{"$f":"IF( ISNA(MATCH(H$5&$D65, CSV!$E:$E, 0)), \"\", \"〇\")","v":""},{"$f":"IF( ISNA(MATCH(I$5&$D65, CSV!$E:$E, 0)), \"\", \"〇\")","v":""},{"$f":"IF( ISNA(MATCH(J$5&$D65, CSV!$E:$E, 0)), \"\", \"〇\")","v":""}]
[null,null,null,"超重量腕輪",{"$f":"IF( ISNA(MATCH(E$5&$D66, CSV!$E:$E, 0)), \"\", \"〇\")","v":""},{"$f":"IF( ISNA(MATCH(F$5&$D66, CSV!$E:$E, 0)), \"\", \"〇\")","v":""},{"$f":"IF( ISNA(MATCH(G$5&$D66, CSV!$E:$E, 0)), \"\", \"〇\")","v":""},{"$f":"IF( ISNA(MATCH(H$5&$D66, CSV!$E:$E, 0)), \"\", \"〇\")","v":""},{"$f":"IF( ISNA(MATCH(I$5&$D66, CSV!$E:$E, 0)), \"\", \"〇\")","v":""},{"$f":"IF( ISNA(MATCH(J$5&$D66, CSV!$E:$E, 0)), \"\", \"〇\")","v":""}]
[]
[]
["アットワ","Itzpapalotl","Granite Borer","毒々しいワモーラの触角",{"$f":"IF( ISNA(MATCH(E$5&$D69, CSV!$E:$E, 0)), \"\", \"〇\")","v":""},{"$f":"IF( ISNA(MATCH(F$5&$D69, CSV!$E:$E, 0)), \"\", \"〇\")","v":""},{"$f":"IF( ISNA(MATCH(G$5&$D69, CSV!$E:$E, 0)), \"\", \"〇\")","v":""},{"$f":"IF( ISNA(MATCH(H$5&$D69, CSV!$E:$E, 0)), \"\", \"〇\")","v":""},{"$f":"IF( ISNA(MATCH(I$5&$D69, CSV!$E:$E, 0)), \"\", \"〇\")","v":""},{"$f":"IF( ISNA(MATCH(J$5&$D69, CSV!$E:$E, 0)), \"\", \"〇\")","v":""}]
[null,null,null,"乾いた繭",{"$f":"IF( ISNA(MATCH(E$5&$D70, CSV!$E:$E, 0)), \"\", \"〇\")","v":""},{"$f":"IF( ISNA(MATCH(F$5&$D70, CSV!$E:$E, 0)), \"\", \"〇\")","v":""},{"$f":"IF( ISNA(MATCH(G$5&$D70, CSV!$E:$E, 0)), \"\", \"〇\")","v":""},{"$f":"IF( ISNA(MATCH(H$5&$D70, CSV!$E:$E, 0)), \"\", \"〇\")","v":""},{"$f":"IF( ISNA(MATCH(I$5&$D70, CSV!$E:$E, 0)), \"\", \"〇\")","v":""},{"$f":"IF( ISNA(MATCH(J$5&$D70, CSV!$E:$E, 0)), \"\", \"〇\")","v":""}]
[null,null,"Blazing Eruca","重いクロウラーの繭",{"$f":"IF( ISNA(MATCH(E$5&$D71, CSV!$E:$E, 0)), \"\", \"〇\")","v":""},{"$f":"IF( ISNA(MATCH(F$5&$D71, CSV!$E:$E, 0)), \"\", \"〇\")","v":""},{"$f":"IF( ISNA(MATCH(G$5&$D71, CSV!$E:$E, 0)), \"\", \"〇\")","v":""},{"$f":"IF( ISNA(MATCH(H$5&$D71, CSV!$E:$E, 0)), \"\", \"〇\")","v":""},{"$f":"IF( ISNA(MATCH(I$5&$D71, CSV!$E:$E, 0)), \"\", \"〇\")","v":""},{"$f":"IF( ISNA(MATCH(J$5&$D71, CSV!$E:$E, 0)), \"\", \"〇\")","v":""}]
[null,null,null,"エルカの大卵",{"$f":"IF( ISNA(MATCH(E$5&$D72, CSV!$E:$E, 0)), \"\", \"〇\")","v":""},{"$f":"IF( ISNA(MATCH(F$5&$D72, CSV!$E:$E, 0)), \"\", \"〇\")","v":""},{"$f":"IF( ISNA(MATCH(G$5&$D72, CSV!$E:$E, 0)), \"\", \"〇\")","v":""},{"$f":"IF( ISNA(MATCH(H$5&$D72, CSV!$E:$E, 0)), \"\", \"〇\")","v":""},{"$f":"IF( ISNA(MATCH(I$5&$D72, CSV!$E:$E, 0)), \"\", \"〇\")","v":""},{"$f":"IF( ISNA(MATCH(J$5&$D72, CSV!$E:$E, 0)), \"\", \"〇\")","v":""}]
[null,null,"Tunga","肥大化したチゴーの腹",{"$f":"IF( ISNA(MATCH(E$5&$D73, CSV!$E:$E, 0)), \"\", \"〇\")","v":""},{"$f":"IF( ISNA(MATCH(F$5&$D73, CSV!$E:$E, 0)), \"\", \"〇\")","v":""},{"$f":"IF( ISNA(MATCH(G$5&$D73, CSV!$E:$E, 0)), \"\", \"〇\")","v":""},{"$f":"IF( ISNA(MATCH(H$5&$D73, CSV!$E:$E, 0)), \"\", \"〇\")","v":""},{"$f":"IF( ISNA(MATCH(I$5&$D73, CSV!$E:$E, 0)), \"\", \"〇\")","v":""},{"$f":"IF( ISNA(MATCH(J$5&$D73, CSV!$E:$E, 0)), \"\", \"〇\")","v":""}]
[null,"Ulhuadshi","Amun","縮んだヘクトアイズの触手",{"$f":"IF( ISNA(MATCH(E$5&$D74, CSV!$E:$E, 0)), \"\", \"〇\")","v":""},{"$f":"IF( ISNA(MATCH(F$5&$D74, CSV!$E:$E, 0)), \"\", \"〇\")","v":""},{"$f":"IF( ISNA(MATCH(G$5&$D74, CSV!$E:$E, 0)), \"\", \"〇\")","v":""},{"$f":"IF( ISNA(MATCH(H$5&$D74, CSV!$E:$E, 0)), \"\", \"〇\")","v":""},{"$f":"IF( ISNA(MATCH(I$5&$D74, CSV!$E:$E, 0)), \"\", \"〇\")","v":""},{"$f":"IF( ISNA(MATCH(J$5&$D74, CSV!$E:$E, 0)), \"\", \"〇\")","v":""}]
[null,null,"Pallid Percy","体液まみれのワームの石",{"$f":"IF( ISNA(MATCH(E$5&$D75, CSV!$E:$E, 0)), \"\", \"〇\")","v":""},{"$f":"IF( ISNA(MATCH(F$5&$D75, CSV!$E:$E, 0)), \"\", \"〇\")","v":""},{"$f":"IF( ISNA(MATCH(G$5&$D75, CSV!$E:$E, 0)), \"\", \"〇\")","v":""},{"$f":"IF( ISNA(MATCH(H$5&$D75, CSV!$E:$E, 0)), \"\", \"〇\")","v":""},{"$f":"IF( ISNA(MATCH(I$5&$D75, CSV!$E:$E, 0)), \"\", \"〇\")","v":""},{"$f":"IF( ISNA(MATCH(J$5&$D75, CSV!$E:$E, 0)), \"\", \"〇\")","v":""}]
[null,null,null,"白色銀鉱",{"$f":"IF( ISNA(MATCH(E$5&$D76, CSV!$E:$E, 0)), \"\", \"〇\")","v":""},{"$f":"IF( ISNA(MATCH(F$5&$D76, CSV!$E:$E, 0)), \"\", \"〇\")","v":""},{"$f":"IF( ISNA(MATCH(G$5&$D76, CSV!$E:$E, 0)), \"\", \"〇\")","v":""},{"$f":"IF( ISNA(MATCH(H$5&$D76, CSV!$E:$E, 0)), \"\", \"〇\")","v":""},{"$f":"IF( ISNA(MATCH(I$5&$D76, CSV!$E:$E, 0)), \"\", \"〇\")","v":""},{"$f":"IF( ISNA(MATCH(J$5&$D76, CSV!$E:$E, 0)), \"\", \"〇\")","v":""}]
[null,"Titlacauan","Gaizkin","黒ずんだドゥームの舌",{"$f":"IF( ISNA(MATCH(E$5&$D77, CSV!$E:$E, 0)), \"\", \"〇\")","v":""},{"$f":"IF( ISNA(MATCH(F$5&$D77, CSV!$E:$E, 0)), \"\", \"〇\")","v":""},{"$f":"IF( ISNA(MATCH(G$5&$D77, CSV!$E:$E, 0)), \"\", \"〇\")","v":""},{"$f":"IF( ISNA(MATCH(H$5&$D77, CSV!$E:$E, 0)), \"\", \"〇\")","v":""},{"$f":"IF( ISNA(MATCH(I$5&$D77, CSV!$E:$E, 0)), \"\", \"〇\")","v":""},{"$f":"IF( ISNA(MATCH(J$5&$D77, CSV!$E:$E, 0)), \"\", \"〇\")","v":""}]
[null,null,"Drekavac","震えるゴーストの中指",{"$f":"IF( ISNA(MATCH(E$5&$D78, CSV!$E:$E, 0)), \"\", \"〇\")","v":""},{"$f":"IF( ISNA(MATCH(F$5&$D78, CSV!$E:$E, 0)), \"\", \"〇\")","v":""},{"$f":"IF( ISNA(MATCH(G$5&$D78, CSV!$E:$E, 0)), \"\", \"〇\")","v":""},{"$f":"IF( ISNA(MATCH(H$5&$D78, CSV!$E:$E, 0)), \"\", \"〇\")","v":""},{"$f":"IF( ISNA(MATCH(I$5&$D78, CSV!$E:$E, 0)), \"\", \"〇\")","v":""},{"$f":"IF( ISNA(MATCH(J$5&$D78, CSV!$E:$E, 0)), \"\", \"〇\")","v":""}]
[null,null,"Kharon","ひび割れたスケルトンの鎖骨",{"$f":"IF( ISNA(MATCH(E$5&$D79, CSV!$E:$E, 0)), \"\", \"〇\")","v":""},{"$f":"IF( ISNA(MATCH(F$5&$D79, CSV!$E:$E, 0)), \"\", \"〇\")","v":""},{"$f":"IF( ISNA(MATCH(G$5&$D79, CSV!$E:$E, 0)), \"\", \"〇\")","v":""},{"$f":"IF( ISNA(MATCH(H$5&$D79, CSV!$E:$E, 0)), \"\", \"〇\")","v":""},{"$f":"IF( ISNA(MATCH(I$5&$D79, CSV!$E:$E, 0)), \"\", \"〇\")","v":""},{"$f":"IF( ISNA(MATCH(J$5&$D79, CSV!$E:$E, 0)), \"\", \"〇\")","v":""}]
[null,null,"Gieremund","錆びついた屍犬の首輪",{"$f":"IF( ISNA(MATCH(E$5&$D80, CSV!$E:$E, 0)), \"\", \"〇\")","v":""},{"$f":"IF( ISNA(MATCH(F$5&$D80, CSV!$E:$E, 0)), \"\", \"〇\")","v":""},{"$f":"IF( ISNA(MATCH(G$5&$D80, CSV!$E:$E, 0)), \"\", \"〇\")","v":""},{"$f":"IF( ISNA(MATCH(H$5&$D80, CSV!$E:$E, 0)), \"\", \"〇\")","v":""},{"$f":"IF( ISNA(MATCH(I$5&$D80, CSV!$E:$E, 0)), \"\", \"〇\")","v":""},{"$f":"IF( ISNA(MATCH(J$5&$D80, CSV!$E:$E, 0)), \"\", \"〇\")","v":""}]
[null,"Smok","Svarbhanu","虚ろなドラゴンの目",{"$f":"IF( ISNA(MATCH(E$5&$D81, CSV!$E:$E, 0)), \"\", \"〇\")","v":""},{"$f":"IF( ISNA(MATCH(F$5&$D81, CSV!$E:$E, 0)), \"\", \"〇\")","v":""},{"$f":"IF( ISNA(MATCH(G$5&$D81, CSV!$E:$E, 0)), \"\", \"〇\")","v":""},{"$f":"IF( ISNA(MATCH(H$5&$D81, CSV!$E:$E, 0)), \"\", \"〇\")","v":""},{"$f":"IF( ISNA(MATCH(I$5&$D81, CSV!$E:$E, 0)), \"\", \"〇\")","v":""},{"$f":"IF( ISNA(MATCH(J$5&$D81, CSV!$E:$E, 0)), \"\", \"〇\")","v":""}]
[]
[]
["ミザレオ","Cirein-croin","Cep-Kamuy","美しいオロボンの肝",{"$f":"IF( ISNA(MATCH(E$5&$D84, CSV!$E:$E, 0)), \"\", \"〇\")","v":""},{"$f":"IF( ISNA(MATCH(F$5&$D84, CSV!$E:$E, 0)), \"\", \"〇\")","v":""},{"$f":"IF( ISNA(MATCH(G$5&$D84, CSV!$E:$E, 0)), \"\", \"〇\")","v":""},{"$f":"IF( ISNA(MATCH(H$5&$D84, CSV!$E:$E, 0)), \"\", \"〇\")","v":""},{"$f":"IF( ISNA(MATCH(I$5&$D84, CSV!$E:$E, 0)), \"\", \"〇\")","v":""},{"$f":"IF( ISNA(MATCH(J$5&$D84, CSV!$E:$E, 0)), \"\", \"〇\")","v":""}]
[null,null,null,"オロボンの頬肉",{"$f":"IF( ISNA(MATCH(E$5&$D85, CSV!$E:$E, 0)), \"\", \"〇\")","v":""},{"$f":"IF( ISNA(MATCH(F$5&$D85, CSV!$E:$E, 0)), \"\", \"〇\")","v":""},{"$f":"IF( ISNA(MATCH(G$5&$D85, CSV!$E:$E, 0)), \"\", \"〇\")","v":""},{"$f":"IF( ISNA(MATCH(H$5&$D85, CSV!$E:$E, 0)), \"\", \"〇\")","v":""},{"$f":"IF( ISNA(MATCH(I$5&$D85, CSV!$E:$E, 0)), \"\", \"〇\")","v":""},{"$f":"IF( ISNA(MATCH(J$5&$D85, CSV!$E:$E, 0)), \"\", \"〇\")","v":""}]
[null,null,"Heqet","破けたポロッゴの帽子",{"$f":"IF( ISNA(MATCH(E$5&$D86, CSV!$E:$E, 0)), \"\", \"〇\")","v":""},{"$f":"IF( ISNA(MATCH(F$5&$D86, CSV!$E:$E, 0)), \"\", \"〇\")","v":""},{"$f":"IF( ISNA(MATCH(G$5&$D86, CSV!$E:$E, 0)), \"\", \"〇\")","v":""},{"$f":"IF( ISNA(MATCH(H$5&$D86, CSV!$E:$E, 0)), \"\", \"〇\")","v":""},{"$f":"IF( ISNA(MATCH(I$5&$D86, CSV!$E:$E, 0)), \"\", \"〇\")","v":""},{"$f":"IF( ISNA(MATCH(J$5&$D86, CSV!$E:$E, 0)), \"\", \"〇\")","v":""}]
[null,"Amhuluk","Funereal Apkallu","鋭いアプカルの嘴",{"$f":"IF( ISNA(MATCH(E$5&$D87, CSV!$E:$E, 0)), \"\", \"〇\")","v":""},{"$f":"IF( ISNA(MATCH(F$5&$D87, CSV!$E:$E, 0)), \"\", \"〇\")","v":""},{"$f":"IF( ISNA(MATCH(G$5&$D87, CSV!$E:$E, 0)), \"\", \"〇\")","v":""},{"$f":"IF( ISNA(MATCH(H$5&$D87, CSV!$E:$E, 0)), \"\", \"〇\")","v":""},{"$f":"IF( ISNA(MATCH(I$5&$D87, CSV!$E:$E, 0)), \"\", \"〇\")","v":""},{"$f":"IF( ISNA(MATCH(J$5&$D87, CSV!$E:$E, 0)), \"\", \"〇\")","v":""}]
[null,null,null,"アプカルの綿羽",{"$f":"IF( ISNA(MATCH(E$5&$D88, CSV!$E:$E, 0)), \"\", \"〇\")","v":""},{"$f":"IF( ISNA(MATCH(F$5&$D88, CSV!$E:$E, 0)), \"\", \"〇\")","v":""},{"$f":"IF( ISNA(MATCH(G$5&$D88, CSV!$E:$E, 0)), \"\", \"〇\")","v":""},{"$f":"IF( ISNA(MATCH(H$5&$D88, CSV!$E:$E, 0)), \"\", \"〇\")","v":""},{"$f":"IF( ISNA(MATCH(I$5&$D88, CSV!$E:$E, 0)), \"\", \"〇\")","v":""},{"$f":"IF( ISNA(MATCH(J$5&$D88, CSV!$E:$E, 0)), \"\", \"〇\")","v":""}]
[null,null,"Manohra","切り刻まれた死鳥の羽",{"$f":"IF( ISNA(MATCH(E$5&$D89, CSV!$E:$E, 0)), \"\", \"〇\")","v":""},{"$f":"IF( ISNA(MATCH(F$5&$D89, CSV!$E:$E, 0)), \"\", \"〇\")","v":""},{"$f":"IF( ISNA(MATCH(G$5&$D89, CSV!$E:$E, 0)), \"\", \"〇\")","v":""},{"$f":"IF( ISNA(MATCH(H$5&$D89, CSV!$E:$E, 0)), \"\", \"〇\")","v":""},{"$f":"IF( ISNA(MATCH(I$5&$D89, CSV!$E:$E, 0)), \"\", \"〇\")","v":""},{"$f":"IF( ISNA(MATCH(J$5&$D89, CSV!$E:$E, 0)), \"\", \"〇\")","v":""}]
[null,null,null,"鳥の小羽根",{"$f":"IF( ISNA(MATCH(E$5&$D90, CSV!$E:$E, 0)), \"\", \"〇\")","v":""},{"$f":"IF( ISNA(MATCH(F$5&$D90, CSV!$E:$E, 0)), \"\", \"〇\")","v":""},{"$f":"IF( ISNA(MATCH(G$5&$D90, CSV!$E:$E, 0)), \"\", \"〇\")","v":""},{"$f":"IF( ISNA(MATCH(H$5&$D90, CSV!$E:$E, 0)), \"\", \"〇\")","v":""},{"$f":"IF( ISNA(MATCH(I$5&$D90, CSV!$E:$E, 0)), \"\", \"〇\")","v":""},{"$f":"IF( ISNA(MATCH(J$5&$D90, CSV!$E:$E, 0)), \"\", \"〇\")","v":""}]
[null,null,"Asanbosam","血染めのコウモリの毛",{"$f":"IF( ISNA(MATCH(E$5&$D91, CSV!$E:$E, 0)), \"\", \"〇\")","v":""},{"$f":"IF( ISNA(MATCH(F$5&$D91, CSV!$E:$E, 0)), \"\", \"〇\")","v":""},{"$f":"IF( ISNA(MATCH(G$5&$D91, CSV!$E:$E, 0)), \"\", \"〇\")","v":""},{"$f":"IF( ISNA(MATCH(H$5&$D91, CSV!$E:$E, 0)), \"\", \"〇\")","v":""},{"$f":"IF( ISNA(MATCH(I$5&$D91, CSV!$E:$E, 0)), \"\", \"〇\")","v":""},{"$f":"IF( ISNA(MATCH(J$5&$D91, CSV!$E:$E, 0)), \"\", \"〇\")","v":""}]
[null,"Sobek","Minax Bugard","血なまぐさいブガードの牙",{"$f":"IF( ISNA(MATCH(E$5&$D92, CSV!$E:$E, 0)), \"\", \"〇\")","v":""},{"$f":"IF( ISNA(MATCH(F$5&$D92, CSV!$E:$E, 0)), \"\", \"〇\")","v":""},{"$f":"IF( ISNA(MATCH(G$5&$D92, CSV!$E:$E, 0)), \"\", \"〇\")","v":""},{"$f":"IF( ISNA(MATCH(H$5&$D92, CSV!$E:$E, 0)), \"\", \"〇\")","v":""},{"$f":"IF( ISNA(MATCH(I$5&$D92, CSV!$E:$E, 0)), \"\", \"〇\")","v":""},{"$f":"IF( ISNA(MATCH(J$5&$D92, CSV!$E:$E, 0)), \"\", \"〇\")","v":""}]
[null,null,null,"呪術の牙",{"$f":"IF( ISNA(MATCH(E$5&$D93, CSV!$E:$E, 0)), \"\", \"〇\")","v":""},{"$f":"IF( ISNA(MATCH(F$5&$D93, CSV!$E:$E, 0)), \"\", \"〇\")","v":""},{"$f":"IF( ISNA(MATCH(G$5&$D93, CSV!$E:$E, 0)), \"\", \"〇\")","v":""},{"$f":"IF( ISNA(MATCH(H$5&$D93, CSV!$E:$E, 0)), \"\", \"〇\")","v":""},{"$f":"IF( ISNA(MATCH(I$5&$D93, CSV!$E:$E, 0)), \"\", \"〇\")","v":""},{"$f":"IF( ISNA(MATCH(J$5&$D93, CSV!$E:$E, 0)), \"\", \"〇\")","v":""}]
[null,null,"Sirrush","ねじ曲がったトカゲの爪",{"$f":"IF( ISNA(MATCH(E$5&$D94, CSV!$E:$E, 0)), \"\", \"〇\")","v":""},{"$f":"IF( ISNA(MATCH(F$5&$D94, CSV!$E:$E, 0)), \"\", \"〇\")","v":""},{"$f":"IF( ISNA(MATCH(G$5&$D94, CSV!$E:$E, 0)), \"\", \"〇\")","v":""},{"$f":"IF( ISNA(MATCH(H$5&$D94, CSV!$E:$E, 0)), \"\", \"〇\")","v":""},{"$f":"IF( ISNA(MATCH(I$5&$D94, CSV!$E:$E, 0)), \"\", \"〇\")","v":""},{"$f":"IF( ISNA(MATCH(J$5&$D94, CSV!$E:$E, 0)), \"\", \"〇\")","v":""}]
[null,null,null,"抜け殻の断片",{"$f":"IF( ISNA(MATCH(E$5&$D95, CSV!$E:$E, 0)), \"\", \"〇\")","v":""},{"$f":"IF( ISNA(MATCH(F$5&$D95, CSV!$E:$E, 0)), \"\", \"〇\")","v":""},{"$f":"IF( ISNA(MATCH(G$5&$D95, CSV!$E:$E, 0)), \"\", \"〇\")","v":""},{"$f":"IF( ISNA(MATCH(H$5&$D95, CSV!$E:$E, 0)), \"\", \"〇\")","v":""},{"$f":"IF( ISNA(MATCH(I$5&$D95, CSV!$E:$E, 0)), \"\", \"〇\")","v":""},{"$f":"IF( ISNA(MATCH(J$5&$D95, CSV!$E:$E, 0)), \"\", \"〇\")","v":""}]
[null,null,"Gukumatz","脱皮しかけたペイストの皮",{"$f":"IF( ISNA(MATCH(E$5&$D96, CSV!$E:$E, 0)), \"\", \"〇\")","v":""},{"$f":"IF( ISNA(MATCH(F$5&$D96, CSV!$E:$E, 0)), \"\", \"〇\")","v":""},{"$f":"IF( ISNA(MATCH(G$5&$D96, CSV!$E:$E, 0)), \"\", \"〇\")","v":""},{"$f":"IF( ISNA(MATCH(H$5&$D96, CSV!$E:$E, 0)), \"\", \"〇\")","v":""},{"$f":"IF( ISNA(MATCH(I$5&$D96, CSV!$E:$E, 0)), \"\", \"〇\")","v":""},{"$f":"IF( ISNA(MATCH(J$5&$D96, CSV!$E:$E, 0)), \"\", \"〇\")","v":""}]
[null,"Ironclad Pulverizer","Ironclad Observer","焼け焦げた鉄巨人の角",{"$f":"IF( ISNA(MATCH(E$5&$D97, CSV!$E:$E, 0)), \"\", \"〇\")","v":""},{"$f":"IF( ISNA(MATCH(F$5&$D97, CSV!$E:$E, 0)), \"\", \"〇\")","v":""},{"$f":"IF( ISNA(MATCH(G$5&$D97, CSV!$E:$E, 0)), \"\", \"〇\")","v":""},{"$f":"IF( ISNA(MATCH(H$5&$D97, CSV!$E:$E, 0)), \"\", \"〇\")","v":""},{"$f":"IF( ISNA(MATCH(I$5&$D97, CSV!$E:$E, 0)), \"\", \"〇\")","v":""},{"$f":"IF( ISNA(MATCH(J$5&$D97, CSV!$E:$E, 0)), \"\", \"〇\")","v":""}]
[null,null,null,"スフィアロイド板",{"$f":"IF( ISNA(MATCH(E$5&$D98, CSV!$E:$E, 0)), \"\", \"〇\")","v":""},{"$f":"IF( ISNA(MATCH(F$5&$D98, CSV!$E:$E, 0)), \"\", \"〇\")","v":""},{"$f":"IF( ISNA(MATCH(G$5&$D98, CSV!$E:$E, 0)), \"\", \"〇\")","v":""},{"$f":"IF( ISNA(MATCH(H$5&$D98, CSV!$E:$E, 0)), \"\", \"〇\")","v":""},{"$f":"IF( ISNA(MATCH(I$5&$D98, CSV!$E:$E, 0)), \"\", \"〇\")","v":""},{"$f":"IF( ISNA(MATCH(J$5&$D98, CSV!$E:$E, 0)), \"\", \"〇\")","v":""}]
[null,null,"Abyssic Cluster","燃えさかるクラスターの魂",{"$f":"IF( ISNA(MATCH(E$5&$D99, CSV!$E:$E, 0)), \"\", \"〇\")","v":""},{"$f":"IF( ISNA(MATCH(F$5&$D99, CSV!$E:$E, 0)), \"\", \"〇\")","v":""},{"$f":"IF( ISNA(MATCH(G$5&$D99, CSV!$E:$E, 0)), \"\", \"〇\")","v":""},{"$f":"IF( ISNA(MATCH(H$5&$D99, CSV!$E:$E, 0)), \"\", \"〇\")","v":""},{"$f":"IF( ISNA(MATCH(I$5&$D99, CSV!$E:$E, 0)), \"\", \"〇\")","v":""},{"$f":"IF( ISNA(MATCH(J$5&$D99, CSV!$E:$E, 0)), \"\", \"〇\")","v":""}]
[]
[]
["ブンカール","Bukhis","Khalkotaur","伸びきったタウルスの爪",{"$f":"IF( ISNA(MATCH(E$5&$D102, CSV!$E:$E, 0)), \"\", \"〇\")","v":""},{"$f":"IF( ISNA(MATCH(F$5&$D102, CSV!$E:$E, 0)), \"\", \"〇\")","v":""},{"$f":"IF( ISNA(MATCH(G$5&$D102, CSV!$E:$E, 0)), \"\", \"〇\")","v":""},{"$f":"IF( ISNA(MATCH(H$5&$D102, CSV!$E:$E, 0)), \"\", \"〇\")","v":""},{"$f":"IF( ISNA(MATCH(I$5&$D102, CSV!$E:$E, 0)), \"\", \"〇\")","v":""},{"$f":"IF( ISNA(MATCH(J$5&$D102, CSV!$E:$E, 0)), \"\", \"〇\")","v":""}]
[null,null,null,"邪牛の角",{"$f":"IF( ISNA(MATCH(E$5&$D103, CSV!$E:$E, 0)), \"\", \"〇\")","v":""},{"$f":"IF( ISNA(MATCH(F$5&$D103, CSV!$E:$E, 0)), \"\", \"〇\")","v":""},{"$f":"IF( ISNA(MATCH(G$5&$D103, CSV!$E:$E, 0)), \"\", \"〇\")","v":""},{"$f":"IF( ISNA(MATCH(H$5&$D103, CSV!$E:$E, 0)), \"\", \"〇\")","v":""},{"$f":"IF( ISNA(MATCH(I$5&$D103, CSV!$E:$E, 0)), \"\", \"〇\")","v":""},{"$f":"IF( ISNA(MATCH(J$5&$D103, CSV!$E:$E, 0)), \"\", \"〇\")","v":""}]
[null,null,"Quasimodo","硬直したガーゴイルの手",{"$f":"IF( ISNA(MATCH(E$5&$D104, CSV!$E:$E, 0)), \"\", \"〇\")","v":""},{"$f":"IF( ISNA(MATCH(F$5&$D104, CSV!$E:$E, 0)), \"\", \"〇\")","v":""},{"$f":"IF( ISNA(MATCH(G$5&$D104, CSV!$E:$E, 0)), \"\", \"〇\")","v":""},{"$f":"IF( ISNA(MATCH(H$5&$D104, CSV!$E:$E, 0)), \"\", \"〇\")","v":""},{"$f":"IF( ISNA(MATCH(I$5&$D104, CSV!$E:$E, 0)), \"\", \"〇\")","v":""},{"$f":"IF( ISNA(MATCH(J$5&$D104, CSV!$E:$E, 0)), \"\", \"〇\")","v":""}]
[null,null,null,"ガーゴイル硬石",{"$f":"IF( ISNA(MATCH(E$5&$D105, CSV!$E:$E, 0)), \"\", \"〇\")","v":""},{"$f":"IF( ISNA(MATCH(F$5&$D105, CSV!$E:$E, 0)), \"\", \"〇\")","v":""},{"$f":"IF( ISNA(MATCH(G$5&$D105, CSV!$E:$E, 0)), \"\", \"〇\")","v":""},{"$f":"IF( ISNA(MATCH(H$5&$D105, CSV!$E:$E, 0)), \"\", \"〇\")","v":""},{"$f":"IF( ISNA(MATCH(I$5&$D105, CSV!$E:$E, 0)), \"\", \"〇\")","v":""},{"$f":"IF( ISNA(MATCH(J$5&$D105, CSV!$E:$E, 0)), \"\", \"〇\")","v":""}]
[null,null,"Lord Varney","血まみれのヴァンピールの牙",{"$f":"IF( ISNA(MATCH(E$5&$D106, CSV!$E:$E, 0)), \"\", \"〇\")","v":""},{"$f":"IF( ISNA(MATCH(F$5&$D106, CSV!$E:$E, 0)), \"\", \"〇\")","v":""},{"$f":"IF( ISNA(MATCH(G$5&$D106, CSV!$E:$E, 0)), \"\", \"〇\")","v":""},{"$f":"IF( ISNA(MATCH(H$5&$D106, CSV!$E:$E, 0)), \"\", \"〇\")","v":""},{"$f":"IF( ISNA(MATCH(I$5&$D106, CSV!$E:$E, 0)), \"\", \"〇\")","v":""},{"$f":"IF( ISNA(MATCH(J$5&$D106, CSV!$E:$E, 0)), \"\", \"〇\")","v":""}]
[null,"Durinn","Dvalinn","黄ばんだドゥエルグの歯",{"$f":"IF( ISNA(MATCH(E$5&$D107, CSV!$E:$E, 0)), \"\", \"〇\")","v":""},{"$f":"IF( ISNA(MATCH(F$5&$D107, CSV!$E:$E, 0)), \"\", \"〇\")","v":""},{"$f":"IF( ISNA(MATCH(G$5&$D107, CSV!$E:$E, 0)), \"\", \"〇\")","v":""},{"$f":"IF( ISNA(MATCH(H$5&$D107, CSV!$E:$E, 0)), \"\", \"〇\")","v":""},{"$f":"IF( ISNA(MATCH(I$5&$D107, CSV!$E:$E, 0)), \"\", \"〇\")","v":""},{"$f":"IF( ISNA(MATCH(J$5&$D107, CSV!$E:$E, 0)), \"\", \"〇\")","v":""}]
[null,null,null,"歪んだ頭骨",{"$f":"IF( ISNA(MATCH(E$5&$D108, CSV!$E:$E, 0)), \"\", \"〇\")","v":""},{"$f":"IF( ISNA(MATCH(F$5&$D108, CSV!$E:$E, 0)), \"\", \"〇\")","v":""},{"$f":"IF( ISNA(MATCH(G$5&$D108, CSV!$E:$E, 0)), \"\", \"〇\")","v":""},{"$f":"IF( ISNA(MATCH(H$5&$D108, CSV!$E:$E, 0)), \"\", \"〇\")","v":""},{"$f":"IF( ISNA(MATCH(I$5&$D108, CSV!$E:$E, 0)), \"\", \"〇\")","v":""},{"$f":"IF( ISNA(MATCH(J$5&$D108, CSV!$E:$E, 0)), \"\", \"〇\")","v":""}]
[null,null,"Kadraeth the Hatespawn","脈動するソウルフレアの髭",{"$f":"IF( ISNA(MATCH(E$5&$D109, CSV!$E:$E, 0)), \"\", \"〇\")","v":""},{"$f":"IF( ISNA(MATCH(F$5&$D109, CSV!$E:$E, 0)), \"\", \"〇\")","v":""},{"$f":"IF( ISNA(MATCH(G$5&$D109, CSV!$E:$E, 0)), \"\", \"〇\")","v":""},{"$f":"IF( ISNA(MATCH(H$5&$D109, CSV!$E:$E, 0)), \"\", \"〇\")","v":""},{"$f":"IF( ISNA(MATCH(I$5&$D109, CSV!$E:$E, 0)), \"\", \"〇\")","v":""},{"$f":"IF( ISNA(MATCH(J$5&$D109, CSV!$E:$E, 0)), \"\", \"〇\")","v":""}]
[null,null,null,"固まった触手",{"$f":"IF( ISNA(MATCH(E$5&$D110, CSV!$E:$E, 0)), \"\", \"〇\")","v":""},{"$f":"IF( ISNA(MATCH(F$5&$D110, CSV!$E:$E, 0)), \"\", \"〇\")","v":""},{"$f":"IF( ISNA(MATCH(G$5&$D110, CSV!$E:$E, 0)), \"\", \"〇\")","v":""},{"$f":"IF( ISNA(MATCH(H$5&$D110, CSV!$E:$E, 0)), \"\", \"〇\")","v":""},{"$f":"IF( ISNA(MATCH(I$5&$D110, CSV!$E:$E, 0)), \"\", \"〇\")","v":""},{"$f":"IF( ISNA(MATCH(J$5&$D110, CSV!$E:$E, 0)), \"\", \"〇\")","v":""}]
[null,null,"Div-e Sepid","砕けたインプの角笛",{"$f":"IF( ISNA(MATCH(E$5&$D111, CSV!$E:$E, 0)), \"\", \"〇\")","v":""},{"$f":"IF( ISNA(MATCH(F$5&$D111, CSV!$E:$E, 0)), \"\", \"〇\")","v":""},{"$f":"IF( ISNA(MATCH(G$5&$D111, CSV!$E:$E, 0)), \"\", \"〇\")","v":""},{"$f":"IF( ISNA(MATCH(H$5&$D111, CSV!$E:$E, 0)), \"\", \"〇\")","v":""},{"$f":"IF( ISNA(MATCH(I$5&$D111, CSV!$E:$E, 0)), \"\", \"〇\")","v":""},{"$f":"IF( ISNA(MATCH(J$5&$D111, CSV!$E:$E, 0)), \"\", \"〇\")","v":""}]
[null,"Karkadann","Rakshas","千切れた剣虎の首輪",{"$f":"IF( ISNA(MATCH(E$5&$D112, CSV!$E:$E, 0)), \"\", \"〇\")","v":""},{"$f":"IF( ISNA(MATCH(F$5&$D112, CSV!$E:$E, 0)), \"\", \"〇\")","v":""},{"$f":"IF( ISNA(MATCH(G$5&$D112, CSV!$E:$E, 0)), \"\", \"〇\")","v":""},{"$f":"IF( ISNA(MATCH(H$5&$D112, CSV!$E:$E, 0)), \"\", \"〇\")","v":""},{"$f":"IF( ISNA(MATCH(I$5&$D112, CSV!$E:$E, 0)), \"\", \"〇\")","v":""},{"$f":"IF( ISNA(MATCH(J$5&$D112, CSV!$E:$E, 0)), \"\", \"〇\")","v":""}]
[null,null,"Ayravata","酷く臭うマーリドの毛",{"$f":"IF( ISNA(MATCH(E$5&$D113, CSV!$E:$E, 0)), \"\", \"〇\")","v":""},{"$f":"IF( ISNA(MATCH(F$5&$D113, CSV!$E:$E, 0)), \"\", \"〇\")","v":""},{"$f":"IF( ISNA(MATCH(G$5&$D113, CSV!$E:$E, 0)), \"\", \"〇\")","v":""},{"$f":"IF( ISNA(MATCH(H$5&$D113, CSV!$E:$E, 0)), \"\", \"〇\")","v":""},{"$f":"IF( ISNA(MATCH(I$5&$D113, CSV!$E:$E, 0)), \"\", \"〇\")","v":""},{"$f":"IF( ISNA(MATCH(J$5&$D113, CSV!$E:$E, 0)), \"\", \"〇\")","v":""}]
[null,"Sedna","Iku-Turso","艶やかな頭足の吸盤",{"$f":"IF( ISNA(MATCH(E$5&$D114, CSV!$E:$E, 0)), \"\", \"〇\")","v":""},{"$f":"IF( ISNA(MATCH(F$5&$D114, CSV!$E:$E, 0)), \"\", \"〇\")","v":""},{"$f":"IF( ISNA(MATCH(G$5&$D114, CSV!$E:$E, 0)), \"\", \"〇\")","v":""},{"$f":"IF( ISNA(MATCH(H$5&$D114, CSV!$E:$E, 0)), \"\", \"〇\")","v":""},{"$f":"IF( ISNA(MATCH(I$5&$D114, CSV!$E:$E, 0)), \"\", \"〇\")","v":""},{"$f":"IF( ISNA(MATCH(J$5&$D114, CSV!$E:$E, 0)), \"\", \"〇\")","v":""}]
[null,null,null,"月光貝",{"$f":"IF( ISNA(MATCH(E$5&$D115, CSV!$E:$E, 0)), \"\", \"〇\")","v":""},{"$f":"IF( ISNA(MATCH(F$5&$D115, CSV!$E:$E, 0)), \"\", \"〇\")","v":""},{"$f":"IF( ISNA(MATCH(G$5&$D115, CSV!$E:$E, 0)), \"\", \"〇\")","v":""},{"$f":"IF( ISNA(MATCH(H$5&$D115, CSV!$E:$E, 0)), \"\", \"〇\")","v":""},{"$f":"IF( ISNA(MATCH(I$5&$D115, CSV!$E:$E, 0)), \"\", \"〇\")","v":""},{"$f":"IF( ISNA(MATCH(J$5&$D115, CSV!$E:$E, 0)), \"\", \"〇\")","v":""}]
[null,null,"Hrosshvalur","輝くプギルの鱗",{"$f":"IF( ISNA(MATCH(E$5&$D116, CSV!$E:$E, 0)), \"\", \"〇\")","v":""},{"$f":"IF( ISNA(MATCH(F$5&$D116, CSV!$E:$E, 0)), \"\", \"〇\")","v":""},{"$f":"IF( ISNA(MATCH(G$5&$D116, CSV!$E:$E, 0)), \"\", \"〇\")","v":""},{"$f":"IF( ISNA(MATCH(H$5&$D116, CSV!$E:$E, 0)), \"\", \"〇\")","v":""},{"$f":"IF( ISNA(MATCH(I$5&$D116, CSV!$E:$E, 0)), \"\", \"〇\")","v":""},{"$f":"IF( ISNA(MATCH(J$5&$D116, CSV!$E:$E, 0)), \"\", \"〇\")","v":""}]
[]
[]
["アルテパ","Ironclad Smiter","Tablilla","タブリーラ水銀",{"$f":"IF( ISNA(MATCH(E$5&$D119, CSV!$E:$E, 0)), \"\", \"〇\")","v":""},{"$f":"IF( ISNA(MATCH(F$5&$D119, CSV!$E:$E, 0)), \"\", \"〇\")","v":""},{"$f":"IF( ISNA(MATCH(G$5&$D119, CSV!$E:$E, 0)), \"\", \"〇\")","v":""},{"$f":"IF( ISNA(MATCH(H$5&$D119, CSV!$E:$E, 0)), \"\", \"〇\")","v":""},{"$f":"IF( ISNA(MATCH(I$5&$D119, CSV!$E:$E, 0)), \"\", \"〇\")","v":""},{"$f":"IF( ISNA(MATCH(J$5&$D119, CSV!$E:$E, 0)), \"\", \"〇\")","v":""}]
[null,null,null,"燃えさかるうで",{"$f":"IF( ISNA(MATCH(E$5&$D120, CSV!$E:$E, 0)), \"\", \"〇\")","v":""},{"$f":"IF( ISNA(MATCH(F$5&$D120, CSV!$E:$E, 0)), \"\", \"〇\")","v":""},{"$f":"IF( ISNA(MATCH(G$5&$D120, CSV!$E:$E, 0)), \"\", \"〇\")","v":""},{"$f":"IF( ISNA(MATCH(H$5&$D120, CSV!$E:$E, 0)), \"\", \"〇\")","v":""},{"$f":"IF( ISNA(MATCH(I$5&$D120, CSV!$E:$E, 0)), \"\", \"〇\")","v":""},{"$f":"IF( ISNA(MATCH(J$5&$D120, CSV!$E:$E, 0)), \"\", \"〇\")","v":""}]
[null,"Dragua","Hazhdiha","血まみれのドラゴンの耳",{"$f":"IF( ISNA(MATCH(E$5&$D121, CSV!$E:$E, 0)), \"\", \"〇\")","v":""},{"$f":"IF( ISNA(MATCH(F$5&$D121, CSV!$E:$E, 0)), \"\", \"〇\")","v":""},{"$f":"IF( ISNA(MATCH(G$5&$D121, CSV!$E:$E, 0)), \"\", \"〇\")","v":""},{"$f":"IF( ISNA(MATCH(H$5&$D121, CSV!$E:$E, 0)), \"\", \"〇\")","v":""},{"$f":"IF( ISNA(MATCH(I$5&$D121, CSV!$E:$E, 0)), \"\", \"〇\")","v":""},{"$f":"IF( ISNA(MATCH(J$5&$D121, CSV!$E:$E, 0)), \"\", \"〇\")","v":""}]
[null,"Orthrus","Amarok","灼熱のケルベロスの舌",{"$f":"IF( ISNA(MATCH(E$5&$D122, CSV!$E:$E, 0)), \"\", \"〇\")","v":""},{"$f":"IF( ISNA(MATCH(F$5&$D122, CSV!$E:$E, 0)), \"\", \"〇\")","v":""},{"$f":"IF( ISNA(MATCH(G$5&$D122, CSV!$E:$E, 0)), \"\", \"〇\")","v":""},{"$f":"IF( ISNA(MATCH(H$5&$D122, CSV!$E:$E, 0)), \"\", \"〇\")","v":""},{"$f":"IF( ISNA(MATCH(I$5&$D122, CSV!$E:$E, 0)), \"\", \"〇\")","v":""},{"$f":"IF( ISNA(MATCH(J$5&$D122, CSV!$E:$E, 0)), \"\", \"〇\")","v":""}]
[null,"Amarok","Ansherekh","虎王の毛皮",{"$f":"IF( ISNA(MATCH(E$5&$D123, CSV!$E:$E, 0)), \"\", \"〇\")","v":""},{"$f":"IF( ISNA(MATCH(F$5&$D123, CSV!$E:$E, 0)), \"\", \"〇\")","v":""},{"$f":"IF( ISNA(MATCH(G$5&$D123, CSV!$E:$E, 0)), \"\", \"〇\")","v":""},{"$f":"IF( ISNA(MATCH(H$5&$D123, CSV!$E:$E, 0)), \"\", \"〇\")","v":""},{"$f":"IF( ISNA(MATCH(I$5&$D123, CSV!$E:$E, 0)), \"\", \"〇\")","v":""},{"$f":"IF( ISNA(MATCH(J$5&$D123, CSV!$E:$E, 0)), \"\", \"〇\")","v":""}]
[null,null,"Sharabha","シャラブハの毛皮",{"$f":"IF( ISNA(MATCH(E$5&$D124, CSV!$E:$E, 0)), \"\", \"〇\")","v":""},{"$f":"IF( ISNA(MATCH(F$5&$D124, CSV!$E:$E, 0)), \"\", \"〇\")","v":""},{"$f":"IF( ISNA(MATCH(G$5&$D124, CSV!$E:$E, 0)), \"\", \"〇\")","v":""},{"$f":"IF( ISNA(MATCH(H$5&$D124, CSV!$E:$E, 0)), \"\", \"〇\")","v":""},{"$f":"IF( ISNA(MATCH(I$5&$D124, CSV!$E:$E, 0)), \"\", \"〇\")","v":""},{"$f":"IF( ISNA(MATCH(J$5&$D124, CSV!$E:$E, 0)), \"\", \"〇\")","v":""}]
[null,null,null,"埋もれた牙",{"$f":"IF( ISNA(MATCH(E$5&$D125, CSV!$E:$E, 0)), \"\", \"〇\")","v":""},{"$f":"IF( ISNA(MATCH(F$5&$D125, CSV!$E:$E, 0)), \"\", \"〇\")","v":""},{"$f":"IF( ISNA(MATCH(G$5&$D125, CSV!$E:$E, 0)), \"\", \"〇\")","v":""},{"$f":"IF( ISNA(MATCH(H$5&$D125, CSV!$E:$E, 0)), \"\", \"〇\")","v":""},{"$f":"IF( ISNA(MATCH(I$5&$D125, CSV!$E:$E, 0)), \"\", \"〇\")","v":""},{"$f":"IF( ISNA(MATCH(J$5&$D125, CSV!$E:$E, 0)), \"\", \"〇\")","v":""}]
[null,null,null,"上質なダルメル毛皮",{"$f":"IF( ISNA(MATCH(E$5&$D126, CSV!$E:$E, 0)), \"\", \"〇\")","v":""},{"$f":"IF( ISNA(MATCH(F$5&$D126, CSV!$E:$E, 0)), \"\", \"〇\")","v":""},{"$f":"IF( ISNA(MATCH(G$5&$D126, CSV!$E:$E, 0)), \"\", \"〇\")","v":""},{"$f":"IF( ISNA(MATCH(H$5&$D126, CSV!$E:$E, 0)), \"\", \"〇\")","v":""},{"$f":"IF( ISNA(MATCH(I$5&$D126, CSV!$E:$E, 0)), \"\", \"〇\")","v":""},{"$f":"IF( ISNA(MATCH(J$5&$D126, CSV!$E:$E, 0)), \"\", \"〇\")","v":""}]
[null,"Rani","Long-Barreled Chariot","潰れたチャリオットの核",{"$f":"IF( ISNA(MATCH(E$5&$D127, CSV!$E:$E, 0)), \"\", \"〇\")","v":""},{"$f":"IF( ISNA(MATCH(F$5&$D127, CSV!$E:$E, 0)), \"\", \"〇\")","v":""},{"$f":"IF( ISNA(MATCH(G$5&$D127, CSV!$E:$E, 0)), \"\", \"〇\")","v":""},{"$f":"IF( ISNA(MATCH(H$5&$D127, CSV!$E:$E, 0)), \"\", \"〇\")","v":""},{"$f":"IF( ISNA(MATCH(I$5&$D127, CSV!$E:$E, 0)), \"\", \"〇\")","v":""},{"$f":"IF( ISNA(MATCH(J$5&$D127, CSV!$E:$E, 0)), \"\", \"〇\")","v":""}]
[null,null,"Ironclad Smiter","折れた鉄巨人の角",{"$f":"IF( ISNA(MATCH(E$5&$D128, CSV!$E:$E, 0)), \"\", \"〇\")","v":""},{"$f":"IF( ISNA(MATCH(F$5&$D128, CSV!$E:$E, 0)), \"\", \"〇\")","v":""},{"$f":"IF( ISNA(MATCH(G$5&$D128, CSV!$E:$E, 0)), \"\", \"〇\")","v":""},{"$f":"IF( ISNA(MATCH(H$5&$D128, CSV!$E:$E, 0)), \"\", \"〇\")","v":""},{"$f":"IF( ISNA(MATCH(I$5&$D128, CSV!$E:$E, 0)), \"\", \"〇\")","v":""},{"$f":"IF( ISNA(MATCH(J$5&$D128, CSV!$E:$E, 0)), \"\", \"〇\")","v":""}]
[null,null,null,"燃えさかるうで",{"$f":"IF( ISNA(MATCH(E$5&$D129, CSV!$E:$E, 0)), \"\", \"〇\")","v":""},{"$f":"IF( ISNA(MATCH(F$5&$D129, CSV!$E:$E, 0)), \"\", \"〇\")","v":""},{"$f":"IF( ISNA(MATCH(G$5&$D129, CSV!$E:$E, 0)), \"\", \"〇\")","v":""},{"$f":"IF( ISNA(MATCH(H$5&$D129, CSV!$E:$E, 0)), \"\", \"〇\")","v":""},{"$f":"IF( ISNA(MATCH(I$5&$D129, CSV!$E:$E, 0)), \"\", \"〇\")","v":""},{"$f":"IF( ISNA(MATCH(J$5&$D129, CSV!$E:$E, 0)), \"\", \"〇\")","v":""}]
[null,null,"Tablilla","タブリーラ水銀",{"$f":"IF( ISNA(MATCH(E$5&$D130, CSV!$E:$E, 0)), \"\", \"〇\")","v":""},{"$f":"IF( ISNA(MATCH(F$5&$D130, CSV!$E:$E, 0)), \"\", \"〇\")","v":""},{"$f":"IF( ISNA(MATCH(G$5&$D130, CSV!$E:$E, 0)), \"\", \"〇\")","v":""},{"$f":"IF( ISNA(MATCH(H$5&$D130, CSV!$E:$E, 0)), \"\", \"〇\")","v":""},{"$f":"IF( ISNA(MATCH(I$5&$D130, CSV!$E:$E, 0)), \"\", \"〇\")","v":""},{"$f":"IF( ISNA(MATCH(J$5&$D130, CSV!$E:$E, 0)), \"\", \"〇\")","v":""}]
[null,null,null,"砂まみれの破片",{"$f":"IF( ISNA(MATCH(E$5&$D131, CSV!$E:$E, 0)), \"\", \"〇\")","v":""},{"$f":"IF( ISNA(MATCH(F$5&$D131, CSV!$E:$E, 0)), \"\", \"〇\")","v":""},{"$f":"IF( ISNA(MATCH(G$5&$D131, CSV!$E:$E, 0)), \"\", \"〇\")","v":""},{"$f":"IF( ISNA(MATCH(H$5&$D131, CSV!$E:$E, 0)), \"\", \"〇\")","v":""},{"$f":"IF( ISNA(MATCH(I$5&$D131, CSV!$E:$E, 0)), \"\", \"〇\")","v":""},{"$f":"IF( ISNA(MATCH(J$5&$D131, CSV!$E:$E, 0)), \"\", \"〇\")","v":""}]
[null,"Bennu","Ouzelum","立派なロックの尾羽根",{"$f":"IF( ISNA(MATCH(E$5&$D132, CSV!$E:$E, 0)), \"\", \"〇\")","v":""},{"$f":"IF( ISNA(MATCH(F$5&$D132, CSV!$E:$E, 0)), \"\", \"〇\")","v":""},{"$f":"IF( ISNA(MATCH(G$5&$D132, CSV!$E:$E, 0)), \"\", \"〇\")","v":""},{"$f":"IF( ISNA(MATCH(H$5&$D132, CSV!$E:$E, 0)), \"\", \"〇\")","v":""},{"$f":"IF( ISNA(MATCH(I$5&$D132, CSV!$E:$E, 0)), \"\", \"〇\")","v":""},{"$f":"IF( ISNA(MATCH(J$5&$D132, CSV!$E:$E, 0)), \"\", \"〇\")","v":""}]
[]
[]
["ウルガラン","Resheph","Awahondo","臭うダイアマイトの牙",{"$f":"IF( ISNA(MATCH(E$5&$D135, CSV!$E:$E, 0)), \"\", \"〇\")","v":""},{"$f":"IF( ISNA(MATCH(F$5&$D135, CSV!$E:$E, 0)), \"\", \"〇\")","v":""},{"$f":"IF( ISNA(MATCH(G$5&$D135, CSV!$E:$E, 0)), \"\", \"〇\")","v":""},{"$f":"IF( ISNA(MATCH(H$5&$D135, CSV!$E:$E, 0)), \"\", \"〇\")","v":""},{"$f":"IF( ISNA(MATCH(I$5&$D135, CSV!$E:$E, 0)), \"\", \"〇\")","v":""},{"$f":"IF( ISNA(MATCH(J$5&$D135, CSV!$E:$E, 0)), \"\", \"〇\")","v":""}]
[null,"Isgebind","Kur","汚れたドラゴンの皮",{"$f":"IF( ISNA(MATCH(E$5&$D136, CSV!$E:$E, 0)), \"\", \"〇\")","v":""},{"$f":"IF( ISNA(MATCH(F$5&$D136, CSV!$E:$E, 0)), \"\", \"〇\")","v":""},{"$f":"IF( ISNA(MATCH(G$5&$D136, CSV!$E:$E, 0)), \"\", \"〇\")","v":""},{"$f":"IF( ISNA(MATCH(H$5&$D136, CSV!$E:$E, 0)), \"\", \"〇\")","v":""},{"$f":"IF( ISNA(MATCH(I$5&$D136, CSV!$E:$E, 0)), \"\", \"〇\")","v":""},{"$f":"IF( ISNA(MATCH(J$5&$D136, CSV!$E:$E, 0)), \"\", \"〇\")","v":""}]
[null,"Apademak","Dhorme Khimaira","破れたキマイラの翼",{"$f":"IF( ISNA(MATCH(E$5&$D137, CSV!$E:$E, 0)), \"\", \"〇\")","v":""},{"$f":"IF( ISNA(MATCH(F$5&$D137, CSV!$E:$E, 0)), \"\", \"〇\")","v":""},{"$f":"IF( ISNA(MATCH(G$5&$D137, CSV!$E:$E, 0)), \"\", \"〇\")","v":""},{"$f":"IF( ISNA(MATCH(H$5&$D137, CSV!$E:$E, 0)), \"\", \"〇\")","v":""},{"$f":"IF( ISNA(MATCH(I$5&$D137, CSV!$E:$E, 0)), \"\", \"〇\")","v":""},{"$f":"IF( ISNA(MATCH(J$5&$D137, CSV!$E:$E, 0)), \"\", \"〇\")","v":""}]
[null,"Dhorme Khimaira","Upas-Kamuy","雪神の魂",{"$f":"IF( ISNA(MATCH(E$5&$D138, CSV!$E:$E, 0)), \"\", \"〇\")","v":""},{"$f":"IF( ISNA(MATCH(F$5&$D138, CSV!$E:$E, 0)), \"\", \"〇\")","v":""},{"$f":"IF( ISNA(MATCH(G$5&$D138, CSV!$E:$E, 0)), \"\", \"〇\")","v":""},{"$f":"IF( ISNA(MATCH(H$5&$D138, CSV!$E:$E, 0)), \"\", \"〇\")","v":""},{"$f":"IF( ISNA(MATCH(I$5&$D138, CSV!$E:$E, 0)), \"\", \"〇\")","v":""},{"$f":"IF( ISNA(MATCH(J$5&$D138, CSV!$E:$E, 0)), \"\", \"〇\")","v":""}]
[null,null,null,"凍えるうで",{"$f":"IF( ISNA(MATCH(E$5&$D139, CSV!$E:$E, 0)), \"\", \"〇\")","v":""},{"$f":"IF( ISNA(MATCH(F$5&$D139, CSV!$E:$E, 0)), \"\", \"〇\")","v":""},{"$f":"IF( ISNA(MATCH(G$5&$D139, CSV!$E:$E, 0)), \"\", \"〇\")","v":""},{"$f":"IF( ISNA(MATCH(H$5&$D139, CSV!$E:$E, 0)), \"\", \"〇\")","v":""},{"$f":"IF( ISNA(MATCH(I$5&$D139, CSV!$E:$E, 0)), \"\", \"〇\")","v":""},{"$f":"IF( ISNA(MATCH(J$5&$D139, CSV!$E:$E, 0)), \"\", \"〇\")","v":""}]
[null,null,"Sisyphus","シーシュポスの破片",{"$f":"IF( ISNA(MATCH(E$5&$D140, CSV!$E:$E, 0)), \"\", \"〇\")","v":""},{"$f":"IF( ISNA(MATCH(F$5&$D140, CSV!$E:$E, 0)), \"\", \"〇\")","v":""},{"$f":"IF( ISNA(MATCH(G$5&$D140, CSV!$E:$E, 0)), \"\", \"〇\")","v":""},{"$f":"IF( ISNA(MATCH(H$5&$D140, CSV!$E:$E, 0)), \"\", \"〇\")","v":""},{"$f":"IF( ISNA(MATCH(I$5&$D140, CSV!$E:$E, 0)), \"\", \"〇\")","v":""},{"$f":"IF( ISNA(MATCH(J$5&$D140, CSV!$E:$E, 0)), \"\", \"〇\")","v":""}]
[null,null,null,"上質なマーリド毛皮",{"$f":"IF( ISNA(MATCH(E$5&$D141, CSV!$E:$E, 0)), \"\", \"〇\")","v":""},{"$f":"IF( ISNA(MATCH(F$5&$D141, CSV!$E:$E, 0)), \"\", \"〇\")","v":""},{"$f":"IF( ISNA(MATCH(G$5&$D141, CSV!$E:$E, 0)), \"\", \"〇\")","v":""},{"$f":"IF( ISNA(MATCH(H$5&$D141, CSV!$E:$E, 0)), \"\", \"〇\")","v":""},{"$f":"IF( ISNA(MATCH(I$5&$D141, CSV!$E:$E, 0)), \"\", \"〇\")","v":""},{"$f":"IF( ISNA(MATCH(J$5&$D141, CSV!$E:$E, 0)), \"\", \"〇\")","v":""}]
[null,"Pantokrator","Ironclad Triturator","曲がった鉄巨人の爪",{"$f":"IF( ISNA(MATCH(E$5&$D142, CSV!$E:$E, 0)), \"\", \"〇\")","v":""},{"$f":"IF( ISNA(MATCH(F$5&$D142, CSV!$E:$E, 0)), \"\", \"〇\")","v":""},{"$f":"IF( ISNA(MATCH(G$5&$D142, CSV!$E:$E, 0)), \"\", \"〇\")","v":""},{"$f":"IF( ISNA(MATCH(H$5&$D142, CSV!$E:$E, 0)), \"\", \"〇\")","v":""},{"$f":"IF( ISNA(MATCH(I$5&$D142, CSV!$E:$E, 0)), \"\", \"〇\")","v":""},{"$f":"IF( ISNA(MATCH(J$5&$D142, CSV!$E:$E, 0)), \"\", \"〇\")","v":""}]
[null,null,"Impervious Chariot","割れたチャリオットの盾",{"$f":"IF( ISNA(MATCH(E$5&$D143, CSV!$E:$E, 0)), \"\", \"〇\")","v":""},{"$f":"IF( ISNA(MATCH(F$5&$D143, CSV!$E:$E, 0)), \"\", \"〇\")","v":""},{"$f":"IF( ISNA(MATCH(G$5&$D143, CSV!$E:$E, 0)), \"\", \"〇\")","v":""},{"$f":"IF( ISNA(MATCH(H$5&$D143, CSV!$E:$E, 0)), \"\", \"〇\")","v":""},{"$f":"IF( ISNA(MATCH(I$5&$D143, CSV!$E:$E, 0)), \"\", \"〇\")","v":""},{"$f":"IF( ISNA(MATCH(J$5&$D143, CSV!$E:$E, 0)), \"\", \"〇\")","v":""}]
[]
[]
["グロウベルグ","Amphitrite","Melo Melo","鮮やかなウラグナイトの殻",{"$f":"IF( ISNA(MATCH(E$5&$D146, CSV!$E:$E, 0)), \"\", \"〇\")","v":""},{"$f":"IF( ISNA(MATCH(F$5&$D146, CSV!$E:$E, 0)), \"\", \"〇\")","v":""},{"$f":"IF( ISNA(MATCH(G$5&$D146, CSV!$E:$E, 0)), \"\", \"〇\")","v":""},{"$f":"IF( ISNA(MATCH(H$5&$D146, CSV!$E:$E, 0)), \"\", \"〇\")","v":""},{"$f":"IF( ISNA(MATCH(I$5&$D146, CSV!$E:$E, 0)), \"\", \"〇\")","v":""},{"$f":"IF( ISNA(MATCH(J$5&$D146, CSV!$E:$E, 0)), \"\", \"〇\")","v":""}]
[null,"Azdaja","Deelgeed","虚ろなブガードの目",{"$f":"IF( ISNA(MATCH(E$5&$D147, CSV!$E:$E, 0)), \"\", \"〇\")","v":""},{"$f":"IF( ISNA(MATCH(F$5&$D147, CSV!$E:$E, 0)), \"\", \"〇\")","v":""},{"$f":"IF( ISNA(MATCH(G$5&$D147, CSV!$E:$E, 0)), \"\", \"〇\")","v":""},{"$f":"IF( ISNA(MATCH(H$5&$D147, CSV!$E:$E, 0)), \"\", \"〇\")","v":""},{"$f":"IF( ISNA(MATCH(I$5&$D147, CSV!$E:$E, 0)), \"\", \"〇\")","v":""},{"$f":"IF( ISNA(MATCH(J$5&$D147, CSV!$E:$E, 0)), \"\", \"〇\")","v":""}]
[null,"Alfard","Ningishzida","毒々しいハイドラの牙",{"$f":"IF( ISNA(MATCH(E$5&$D148, CSV!$E:$E, 0)), \"\", \"〇\")","v":""},{"$f":"IF( ISNA(MATCH(F$5&$D148, CSV!$E:$E, 0)), \"\", \"〇\")","v":""},{"$f":"IF( ISNA(MATCH(G$5&$D148, CSV!$E:$E, 0)), \"\", \"〇\")","v":""},{"$f":"IF( ISNA(MATCH(H$5&$D148, CSV!$E:$E, 0)), \"\", \"〇\")","v":""},{"$f":"IF( ISNA(MATCH(I$5&$D148, CSV!$E:$E, 0)), \"\", \"〇\")","v":""},{"$f":"IF( ISNA(MATCH(J$5&$D148, CSV!$E:$E, 0)), \"\", \"〇\")","v":""}]
[null,null,"Minaruja","ミナルジャの頭骨 ",{"$f":"IF( ISNA(MATCH(E$5&$D149, CSV!$E:$E, 0)), \"\", \"〇\")","v":""},{"$f":"IF( ISNA(MATCH(F$5&$D149, CSV!$E:$E, 0)), \"\", \"〇\")","v":""},{"$f":"IF( ISNA(MATCH(G$5&$D149, CSV!$E:$E, 0)), \"\", \"〇\")","v":""},{"$f":"IF( ISNA(MATCH(H$5&$D149, CSV!$E:$E, 0)), \"\", \"〇\")","v":""},{"$f":"IF( ISNA(MATCH(I$5&$D149, CSV!$E:$E, 0)), \"\", \"〇\")","v":""},{"$f":"IF( ISNA(MATCH(J$5&$D149, CSV!$E:$E, 0)), \"\", \"〇\")","v":""}]
[null,null,null,"森神の翼",{"$f":"IF( ISNA(MATCH(E$5&$D150, CSV!$E:$E, 0)), \"\", \"〇\")","v":""},{"$f":"IF( ISNA(MATCH(F$5&$D150, CSV!$E:$E, 0)), \"\", \"〇\")","v":""},{"$f":"IF( ISNA(MATCH(G$5&$D150, CSV!$E:$E, 0)), \"\", \"〇\")","v":""},{"$f":"IF( ISNA(MATCH(H$5&$D150, CSV!$E:$E, 0)), \"\", \"〇\")","v":""},{"$f":"IF( ISNA(MATCH(I$5&$D150, CSV!$E:$E, 0)), \"\", \"〇\")","v":""},{"$f":"IF( ISNA(MATCH(J$5&$D150, CSV!$E:$E, 0)), \"\", \"〇\")","v":""}]
[null,null,"Jaculus","ジャキュルスの翅",{"$f":"IF( ISNA(MATCH(E$5&$D151, CSV!$E:$E, 0)), \"\", \"〇\")","v":""},{"$f":"IF( ISNA(MATCH(F$5&$D151, CSV!$E:$E, 0)), \"\", \"〇\")","v":""},{"$f":"IF( ISNA(MATCH(G$5&$D151, CSV!$E:$E, 0)), \"\", \"〇\")","v":""},{"$f":"IF( ISNA(MATCH(H$5&$D151, CSV!$E:$E, 0)), \"\", \"〇\")","v":""},{"$f":"IF( ISNA(MATCH(I$5&$D151, CSV!$E:$E, 0)), \"\", \"〇\")","v":""},{"$f":"IF( ISNA(MATCH(J$5&$D151, CSV!$E:$E, 0)), \"\", \"〇\")","v":""}]
[null,null,null,"上質な鎧竜の装甲",{"$f":"IF( ISNA(MATCH(E$5&$D152, CSV!$E:$E, 0)), \"\", \"〇\")","v":""},{"$f":"IF( ISNA(MATCH(F$5&$D152, CSV!$E:$E, 0)), \"\", \"〇\")","v":""},{"$f":"IF( ISNA(MATCH(G$5&$D152, CSV!$E:$E, 0)), \"\", \"〇\")","v":""},{"$f":"IF( ISNA(MATCH(H$5&$D152, CSV!$E:$E, 0)), \"\", \"〇\")","v":""},{"$f":"IF( ISNA(MATCH(I$5&$D152, CSV!$E:$E, 0)), \"\", \"〇\")","v":""},{"$f":"IF( ISNA(MATCH(J$5&$D152, CSV!$E:$E, 0)), \"\", \"〇\")","v":""}]
[null,"Raja","Ironclad Sunderer","千切れた鉄巨人の鎖",{"$f":"IF( ISNA(MATCH(E$5&$D153, CSV!$E:$E, 0)), \"\", \"〇\")","v":""},{"$f":"IF( ISNA(MATCH(F$5&$D153, CSV!$E:$E, 0)), \"\", \"〇\")","v":""},{"$f":"IF( ISNA(MATCH(G$5&$D153, CSV!$E:$E, 0)), \"\", \"〇\")","v":""},{"$f":"IF( ISNA(MATCH(H$5&$D153, CSV!$E:$E, 0)), \"\", \"〇\")","v":""},{"$f":"IF( ISNA(MATCH(I$5&$D153, CSV!$E:$E, 0)), \"\", \"〇\")","v":""},{"$f":"IF( ISNA(MATCH(J$5&$D153, CSV!$E:$E, 0)), \"\", \"〇\")","v":""}]
[null,null,"Assailer Chariot","歪んだチャリオットの装甲",{"$f":"IF( ISNA(MATCH(E$5&$D154, CSV!$E:$E, 0)), \"\", \"〇\")","v":""},{"$f":"IF( ISNA(MATCH(F$5&$D154, CSV!$E:$E, 0)), \"\", \"〇\")","v":""},{"$f":"IF( ISNA(MATCH(G$5&$D154, CSV!$E:$E, 0)), \"\", \"〇\")","v":""},{"$f":"IF( ISNA(MATCH(H$5&$D154, CSV!$E:$E, 0)), \"\", \"〇\")","v":""},{"$f":"IF( ISNA(MATCH(I$5&$D154, CSV!$E:$E, 0)), \"\", \"〇\")","v":""},{"$f":"IF( ISNA(MATCH(J$5&$D154, CSV!$E:$E, 0)), \"\", \"〇\")","v":""}]
[]
[]
[]
["ラテ","Ruminator",null,"三日月形の赤色のジェイド",{"$f":"IF( ISNA(MATCH(E$5&$D158, CSV!$E:$E, 0)), \"\", \"〇\")","v":""},{"$f":"IF( ISNA(MATCH(F$5&$D158, CSV!$E:$E, 0)), \"\", \"〇\")","v":""},{"$f":"IF( ISNA(MATCH(G$5&$D158, CSV!$E:$E, 0)), \"\", \"〇\")","v":""},{"$f":"IF( ISNA(MATCH(H$5&$D158, CSV!$E:$E, 0)), \"\", \"〇\")","v":""},{"$f":"IF( ISNA(MATCH(I$5&$D158, CSV!$E:$E, 0)), \"\", \"〇\")","v":""},{"$f":"IF( ISNA(MATCH(J$5&$D158, CSV!$E:$E, 0)), \"\", \"〇\")","v":""}]
[null,null,"Brooder","三日月形の変色ジェイド",{"$f":"IF( ISNA(MATCH(E$5&$D159, CSV!$E:$E, 0)), \"\", \"〇\")","v":""},{"$f":"IF( ISNA(MATCH(F$5&$D159, CSV!$E:$E, 0)), \"\", \"〇\")","v":""},{"$f":"IF( ISNA(MATCH(G$5&$D159, CSV!$E:$E, 0)), \"\", \"〇\")","v":""},{"$f":"IF( ISNA(MATCH(H$5&$D159, CSV!$E:$E, 0)), \"\", \"〇\")","v":""},{"$f":"IF( ISNA(MATCH(I$5&$D159, CSV!$E:$E, 0)), \"\", \"〇\")","v":""},{"$f":"IF( ISNA(MATCH(J$5&$D159, CSV!$E:$E, 0)), \"\", \"〇\")","v":""}]
["コンシュタット","Hadal Satiator",null,"三日月形の青色のジェイド",{"$f":"IF( ISNA(MATCH(E$5&$D160, CSV!$E:$E, 0)), \"\", \"〇\")","v":""},{"$f":"IF( ISNA(MATCH(F$5&$D160, CSV!$E:$E, 0)), \"\", \"〇\")","v":""},{"$f":"IF( ISNA(MATCH(G$5&$D160, CSV!$E:$E, 0)), \"\", \"〇\")","v":""},{"$f":"IF( ISNA(MATCH(H$5&$D160, CSV!$E:$E, 0)), \"\", \"〇\")","v":""},{"$f":"IF( ISNA(MATCH(I$5&$D160, CSV!$E:$E, 0)), \"\", \"〇\")","v":""},{"$f":"IF( ISNA(MATCH(J$5&$D160, CSV!$E:$E, 0)), \"\", \"〇\")","v":""}]
[null,null,"Depths Digester","三日月形の変色ジェイド",{"$f":"IF( ISNA(MATCH(E$5&$D161, CSV!$E:$E, 0)), \"\", \"〇\")","v":""},{"$f":"IF( ISNA(MATCH(F$5&$D161, CSV!$E:$E, 0)), \"\", \"〇\")","v":""},{"$f":"IF( ISNA(MATCH(G$5&$D161, CSV!$E:$E, 0)), \"\", \"〇\")","v":""},{"$f":"IF( ISNA(MATCH(H$5&$D161, CSV!$E:$E, 0)), \"\", \"〇\")","v":""},{"$f":"IF( ISNA(MATCH(I$5&$D161, CSV!$E:$E, 0)), \"\", \"〇\")","v":""},{"$f":"IF( ISNA(MATCH(J$5&$D161, CSV!$E:$E, 0)), \"\", \"〇\")","v":""}]
["タロンギ","Usurper",null,"三日月形の緑色のジェイド",{"$f":"IF( ISNA(MATCH(E$5&$D162, CSV!$E:$E, 0)), \"\", \"〇\")","v":""},{"$f":"IF( ISNA(MATCH(F$5&$D162, CSV!$E:$E, 0)), \"\", \"〇\")","v":""},{"$f":"IF( ISNA(MATCH(G$5&$D162, CSV!$E:$E, 0)), \"\", \"〇\")","v":""},{"$f":"IF( ISNA(MATCH(H$5&$D162, CSV!$E:$E, 0)), \"\", \"〇\")","v":""},{"$f":"IF( ISNA(MATCH(I$5&$D162, CSV!$E:$E, 0)), \"\", \"〇\")","v":""},{"$f":"IF( ISNA(MATCH(J$5&$D162, CSV!$E:$E, 0)), \"\", \"〇\")","v":""}]
[null,null,"Yearner","三日月形の変色ジェイド",{"$f":"IF( ISNA(MATCH(E$5&$D163, CSV!$E:$E, 0)), \"\", \"〇\")","v":""},{"$f":"IF( ISNA(MATCH(F$5&$D163, CSV!$E:$E, 0)), \"\", \"〇\")","v":""},{"$f":"IF( ISNA(MATCH(G$5&$D163, CSV!$E:$E, 0)), \"\", \"〇\")","v":""},{"$f":"IF( ISNA(MATCH(H$5&$D163, CSV!$E:$E, 0)), \"\", \"〇\")","v":""},{"$f":"IF( ISNA(MATCH(I$5&$D163, CSV!$E:$E, 0)), \"\", \"〇\")","v":""},{"$f":"IF( ISNA(MATCH(J$5&$D163, CSV!$E:$E, 0)), \"\", \"〇\")","v":""}]
["ブンカール","Ketea",null,"三日月形の紅色のジェイド",{"$f":"IF( ISNA(MATCH(E$5&$D164, CSV!$E:$E, 0)), \"\", \"〇\")","v":""},{"$f":"IF( ISNA(MATCH(F$5&$D164, CSV!$E:$E, 0)), \"\", \"〇\")","v":""},{"$f":"IF( ISNA(MATCH(G$5&$D164, CSV!$E:$E, 0)), \"\", \"〇\")","v":""},{"$f":"IF( ISNA(MATCH(H$5&$D164, CSV!$E:$E, 0)), \"\", \"〇\")","v":""},{"$f":"IF( ISNA(MATCH(I$5&$D164, CSV!$E:$E, 0)), \"\", \"〇\")","v":""},{"$f":"IF( ISNA(MATCH(J$5&$D164, CSV!$E:$E, 0)), \"\", \"〇\")","v":""}]
[null,null,"Hm'zdei","三日月形の変色ジェイド",{"$f":"IF( ISNA(MATCH(E$5&$D165, CSV!$E:$E, 0)), \"\", \"〇\")","v":""},{"$f":"IF( ISNA(MATCH(F$5&$D165, CSV!$E:$E, 0)), \"\", \"〇\")","v":""},{"$f":"IF( ISNA(MATCH(G$5&$D165, CSV!$E:$E, 0)), \"\", \"〇\")","v":""},{"$f":"IF( ISNA(MATCH(H$5&$D165, CSV!$E:$E, 0)), \"\", \"〇\")","v":""},{"$f":"IF( ISNA(MATCH(I$5&$D165, CSV!$E:$E, 0)), \"\", \"〇\")","v":""},{"$f":"IF( ISNA(MATCH(J$5&$D165, CSV!$E:$E, 0)), \"\", \"〇\")","v":""}]
["ミザレオ","Tristitia",null,"三日月形の蒼色のジェイド",{"$f":"IF( ISNA(MATCH(E$5&$D166, CSV!$E:$E, 0)), \"\", \"〇\")","v":""},{"$f":"IF( ISNA(MATCH(F$5&$D166, CSV!$E:$E, 0)), \"\", \"〇\")","v":""},{"$f":"IF( ISNA(MATCH(G$5&$D166, CSV!$E:$E, 0)), \"\", \"〇\")","v":""},{"$f":"IF( ISNA(MATCH(H$5&$D166, CSV!$E:$E, 0)), \"\", \"〇\")","v":""},{"$f":"IF( ISNA(MATCH(I$5&$D166, CSV!$E:$E, 0)), \"\", \"〇\")","v":""},{"$f":"IF( ISNA(MATCH(J$5&$D166, CSV!$E:$E, 0)), \"\", \"〇\")","v":""}]
[null,null,"Mx'ghrah","三日月形の変色ジェイド",{"$f":"IF( ISNA(MATCH(E$5&$D167, CSV!$E:$E, 0)), \"\", \"〇\")","v":""},{"$f":"IF( ISNA(MATCH(F$5&$D167, CSV!$E:$E, 0)), \"\", \"〇\")","v":""},{"$f":"IF( ISNA(MATCH(G$5&$D167, CSV!$E:$E, 0)), \"\", \"〇\")","v":""},{"$f":"IF( ISNA(MATCH(H$5&$D167, CSV!$E:$E, 0)), \"\", \"〇\")","v":""},{"$f":"IF( ISNA(MATCH(I$5&$D167, CSV!$E:$E, 0)), \"\", \"〇\")","v":""},{"$f":"IF( ISNA(MATCH(J$5&$D167, CSV!$E:$E, 0)), \"\", \"〇\")","v":""}]
["アットワ","Lusca",null,"三日月形の翠色のジェイド",{"$f":"IF( ISNA(MATCH(E$5&$D168, CSV!$E:$E, 0)), \"\", \"〇\")","v":""},{"$f":"IF( ISNA(MATCH(F$5&$D168, CSV!$E:$E, 0)), \"\", \"〇\")","v":""},{"$f":"IF( ISNA(MATCH(G$5&$D168, CSV!$E:$E, 0)), \"\", \"〇\")","v":""},{"$f":"IF( ISNA(MATCH(H$5&$D168, CSV!$E:$E, 0)), \"\", \"〇\")","v":""},{"$f":"IF( ISNA(MATCH(I$5&$D168, CSV!$E:$E, 0)), \"\", \"〇\")","v":""},{"$f":"IF( ISNA(MATCH(J$5&$D168, CSV!$E:$E, 0)), \"\", \"〇\")","v":""}]
[null,null,"Es'euvhi","三日月形の変色ジェイド",{"$f":"IF( ISNA(MATCH(E$5&$D169, CSV!$E:$E, 0)), \"\", \"〇\")","v":""},{"$f":"IF( ISNA(MATCH(F$5&$D169, CSV!$E:$E, 0)), \"\", \"〇\")","v":""},{"$f":"IF( ISNA(MATCH(G$5&$D169, CSV!$E:$E, 0)), \"\", \"〇\")","v":""},{"$f":"IF( ISNA(MATCH(H$5&$D169, CSV!$E:$E, 0)), \"\", \"〇\")","v":""},{"$f":"IF( ISNA(MATCH(I$5&$D169, CSV!$E:$E, 0)), \"\", \"〇\")","v":""},{"$f":"IF( ISNA(MATCH(J$5&$D169, CSV!$E:$E, 0)), \"\", \"〇\")","v":""}]
["ウルガラン","Ogopogo",null,"三日月形の緋色のジェイド",{"$f":"IF( ISNA(MATCH(E$5&$D170, CSV!$E:$E, 0)), \"\", \"〇\")","v":""},{"$f":"IF( ISNA(MATCH(F$5&$D170, CSV!$E:$E, 0)), \"\", \"〇\")","v":""},{"$f":"IF( ISNA(MATCH(G$5&$D170, CSV!$E:$E, 0)), \"\", \"〇\")","v":""},{"$f":"IF( ISNA(MATCH(H$5&$D170, CSV!$E:$E, 0)), \"\", \"〇\")","v":""},{"$f":"IF( ISNA(MATCH(I$5&$D170, CSV!$E:$E, 0)), \"\", \"〇\")","v":""},{"$f":"IF( ISNA(MATCH(J$5&$D170, CSV!$E:$E, 0)), \"\", \"〇\")","v":""}]
[null,null,"Chione","三日月形の変色ジェイド",{"$f":"IF( ISNA(MATCH(E$5&$D171, CSV!$E:$E, 0)), \"\", \"〇\")","v":""},{"$f":"IF( ISNA(MATCH(F$5&$D171, CSV!$E:$E, 0)), \"\", \"〇\")","v":""},{"$f":"IF( ISNA(MATCH(G$5&$D171, CSV!$E:$E, 0)), \"\", \"〇\")","v":""},{"$f":"IF( ISNA(MATCH(H$5&$D171, CSV!$E:$E, 0)), \"\", \"〇\")","v":""},{"$f":"IF( ISNA(MATCH(I$5&$D171, CSV!$E:$E, 0)), \"\", \"〇\")","v":""},{"$f":"IF( ISNA(MATCH(J$5&$D171, CSV!$E:$E, 0)), \"\", \"〇\")","v":""}]
["アルテパ","Brulo",null,"三日月形の碧色のジェイド",{"$f":"IF( ISNA(MATCH(E$5&$D172, CSV!$E:$E, 0)), \"\", \"〇\")","v":""},{"$f":"IF( ISNA(MATCH(F$5&$D172, CSV!$E:$E, 0)), \"\", \"〇\")","v":""},{"$f":"IF( ISNA(MATCH(G$5&$D172, CSV!$E:$E, 0)), \"\", \"〇\")","v":""},{"$f":"IF( ISNA(MATCH(H$5&$D172, CSV!$E:$E, 0)), \"\", \"〇\")","v":""},{"$f":"IF( ISNA(MATCH(I$5&$D172, CSV!$E:$E, 0)), \"\", \"〇\")","v":""},{"$f":"IF( ISNA(MATCH(J$5&$D172, CSV!$E:$E, 0)), \"\", \"〇\")","v":""}]
[null,null,"Koios","三日月形の変色ジェイド",{"$f":"IF( ISNA(MATCH(E$5&$D173, CSV!$E:$E, 0)), \"\", \"〇\")","v":""},{"$f":"IF( ISNA(MATCH(F$5&$D173, CSV!$E:$E, 0)), \"\", \"〇\")","v":""},{"$f":"IF( ISNA(MATCH(G$5&$D173, CSV!$E:$E, 0)), \"\", \"〇\")","v":""},{"$f":"IF( ISNA(MATCH(H$5&$D173, CSV!$E:$E, 0)), \"\", \"〇\")","v":""},{"$f":"IF( ISNA(MATCH(I$5&$D173, CSV!$E:$E, 0)), \"\", \"〇\")","v":""},{"$f":"IF( ISNA(MATCH(J$5&$D173, CSV!$E:$E, 0)), \"\", \"〇\")","v":""}]
["グロウベルグ","Maere",null,"三日月形の藍色のジェイド",{"$f":"IF( ISNA(MATCH(E$5&$D174, CSV!$E:$E, 0)), \"\", \"〇\")","v":""},{"$f":"IF( ISNA(MATCH(F$5&$D174, CSV!$E:$E, 0)), \"\", \"〇\")","v":""},{"$f":"IF( ISNA(MATCH(G$5&$D174, CSV!$E:$E, 0)), \"\", \"〇\")","v":""},{"$f":"IF( ISNA(MATCH(H$5&$D174, CSV!$E:$E, 0)), \"\", \"〇\")","v":""},{"$f":"IF( ISNA(MATCH(I$5&$D174, CSV!$E:$E, 0)), \"\", \"〇\")","v":""},{"$f":"IF( ISNA(MATCH(J$5&$D174, CSV!$E:$E, 0)), \"\", \"〇\")","v":""}]
[null,null,"Gamayun","三日月形の変色ジェイド",{"$f":"IF( ISNA(MATCH(E$5&$D175, CSV!$E:$E, 0)), \"\", \"〇\")","v":""},{"$f":"IF( ISNA(MATCH(F$5&$D175, CSV!$E:$E, 0)), \"\", \"〇\")","v":""},{"$f":"IF( ISNA(MATCH(G$5&$D175, CSV!$E:$E, 0)), \"\", \"〇\")","v":""},{"$f":"IF( ISNA(MATCH(H$5&$D175, CSV!$E:$E, 0)), \"\", \"〇\")","v":""},{"$f":"IF( ISNA(MATCH(I$5&$D175, CSV!$E:$E, 0)), \"\", \"〇\")","v":""},{"$f":"IF( ISNA(MATCH(J$5&$D175, CSV!$E:$E, 0)), \"\", \"〇\")","v":""}]

{"sheet":"リンバス","index":6,"n_rows":24,"n_cols":12,"rows_kept":24,"cut":false,"hidden":false,"merged":[]}
[]
[]
[]
[]
[null,null,null,null,"Char1","Char2","Char3","Char4","Char5","Char6"]
["Omega","アポリオンCN","スマルトチップ","SE #3",{"$f":"IF( ISNA(MATCH(E$5&$C6, CSV!$E:$E, 0)), \"\", \"〇\")","v":""},{"$f":"IF( ISNA(MATCH(F$5&$C6, CSV!$E:$E, 0)), \"\", \"〇\")","v":""},{"$f":"IF( ISNA(MATCH(G$5&$C6, CSV!$E:$E, 0)), \"\", \"〇\")","v":""},{"$f":"IF( ISNA(MATCH(H$5&$C6, CSV!$E:$E, 0)), \"\", \"〇\")","v":""},{"$f":"IF( ISNA(MATCH(I$5&$C6, CSV!$E:$E, 0)), \"\", \"〇\")","v":""},{"$f":"IF( ISNA(MATCH(J$5&$C6, CSV!$E:$E, 0)), \"\", \"〇\")","v":""},{"$f":"COUNTIF(E6:J6, \"〇\")","v":0},"ブラックカード"]
[null,null,"スモーキーチップ","NE #3",{"$f":"IF( ISNA(MATCH(E$5&$C7, CSV!$E:$E, 0)), \"\", \"〇\")","v":""},{"$f":"IF( ISNA(MATCH(F$5&$C7, CSV!$E:$E, 0)), \"\", \"〇\")","v":""},{"$f":"IF( ISNA(MATCH(G$5&$C7, CSV!$E:$E, 0)), \"\", \"〇\")","v":""},{"$f":"IF( ISNA(MATCH(H$5&$C7, CSV!$E:$E, 0)), \"\", \"〇\")","v":""},{"$f":"IF( ISNA(MATCH(I$5&$C7, CSV!$E:$E, 0)), \"\", \"〇\")","v":""},{"$f":"IF( ISNA(MATCH(J$5&$C7, CSV!$E:$E, 0)), \"\", \"〇\")","v":""},{"$f":"COUNTIF(E7:J7, \"〇\")","v":0},"ブラックカード"]
[null,null,"チャコールチップ","SW #2",{"$f":"IF( ISNA(MATCH(E$5&$C8, CSV!$E:$E, 0)), \"\", \"〇\")","v":""},{"$f":"IF( ISNA(MATCH(F$5&$C8, CSV!$E:$E, 0)), \"\", \"〇\")","v":""},{"$f":"IF( ISNA(MATCH(G$5&$C8, CSV!$E:$E, 0)), \"\", \"〇\")","v":""},{"$f":"IF( ISNA(MATCH(H$5&$C8, CSV!$E:$E, 0)), \"\", \"〇\")","v":""},{"$f":"IF( ISNA(MATCH(I$5&$C8, CSV!$E:$E, 0)), \"\", \"〇\")","v":""},{"$f":"IF( ISNA(MATCH(J$5&$C8, CSV!$E:$E, 0)), \"\", \"〇\")","v":""},{"$f":"COUNTIF(E8:J8, \"〇\")","v":0},"レッドカード"]
[null,null,"マゼンタチップ","NW #2",{"$f":"IF( ISNA(MATCH(E$5&$C9, CSV!$E:$E, 0)), \"\", \"〇\")","v":""},{"$f":"IF( ISNA(MATCH(F$5&$C9, CSV!$E:$E, 0)), \"\", \"〇\")","v":""},{"$f":"IF( ISNA(MATCH(G$5&$C9, CSV!$E:$E, 0)), \"\", \"〇\")","v":""},{"$f":"IF( ISNA(MATCH(H$5&$C9, CSV!$E:$E, 0)), \"\", \"〇\")","v":""},{"$f":"IF( ISNA(MATCH(I$5&$C9, CSV!$E:$E, 0)), \"\", \"〇\")","v":""},{"$f":"IF( ISNA(MATCH(J$5&$C9, CSV!$E:$E, 0)), \"\", \"〇\")","v":""},{"$f":"COUNTIF(E9:J9, \"〇\")","v":0},"レッドカード"]
[null,null,"ブラックカード",null,{"$f":"IF( ISNA(MATCH(E$5&$C10, CSV!$E:$E, 0)), \"\", \"〇\")","v":""},{"$f":"IF( ISNA(MATCH(F$5&$C10, CSV!$E:$E, 0)), \"\", \"〇\")","v":""},{"$f":"IF( ISNA(MATCH(G$5&$C10, CSV!$E:$E, 0)), \"\", \"〇\")","v":""},{"$f":"IF( ISNA(MATCH(H$5&$C10, CSV!$E:$E, 0)), \"\", \"〇\")","v":""},{"$f":"IF( ISNA(MATCH(I$5&$C10, CSV!$E:$E, 0)), \"\", \"〇\")","v":""},{"$f":"IF( ISNA(MATCH(J$5&$C10, CSV!$E:$E, 0)), \"\", \"〇\")","v":""}]
[null,null,"レッドカード",null,{"$f":"IF( ISNA(MATCH(E$5&$C11, CSV!$E:$E, 0)), \"\", \"〇\")","v":""},{"$f":"IF( ISNA(MATCH(F$5&$C11, CSV!$E:$E, 0)), \"\", \"〇\")","v":""},{"$f":"IF( ISNA(MATCH(G$5&$C11, CSV!$E:$E, 0)), \"\", \"〇\")","v":""},{"$f":"IF( ISNA(MATCH(H$5&$C11, CSV!$E:$E, 0)), \"\", \"〇\")","v":""},{"$f":"IF( ISNA(MATCH(I$5&$C11, CSV!$E:$E, 0)), \"\", \"〇\")","v":""},{"$f":"IF( ISNA(MATCH(J$5&$C11, CSV!$E:$E, 0)), \"\", \"〇\")","v":""}]
[null,null,"コズミッククリーナー",null,{"$f":"IF( ISNA(MATCH(E$5&$C12, CSV!$E:$E, 0)), \"\", \"〇\")","v":""},{"$f":"IF( ISNA(MATCH(F$5&$C12, CSV!$E:$E, 0)), \"\", \"〇\")","v":""},{"$f":"IF( ISNA(MATCH(G$5&$C12, CSV!$E:$E, 0)), \"\", \"〇\")","v":""},{"$f":"IF( ISNA(MATCH(H$5&$C12, CSV!$E:$E, 0)), \"\", \"〇\")","v":""},{"$f":"IF( ISNA(MATCH(I$5&$C12, CSV!$E:$E, 0)), \"\", \"〇\")","v":""},{"$f":"IF( ISNA(MATCH(J$5&$C12, CSV!$E:$E, 0)), \"\", \"〇\")","v":""}]
[]
[null,null,"オメガの眼",null,{"$f":"IF( ISNA(MATCH(E$5&$C14, CSV!$E:$E, 0)), \"\", \"〇\")","v":""},{"$f":"IF( ISNA(MATCH(F$5&$C14, CSV!$E:$E, 0)), \"\", \"〇\")","v":""},{"$f":"IF( ISNA(MATCH(G$5&$C14, CSV!$E:$E, 0)), \"\", \"〇\")","v":""},{"$f":"IF( ISNA(MATCH(H$5&$C14, CSV!$E:$E, 0)), \"\", \"〇\")","v":""},{"$f":"IF( ISNA(MATCH(I$5&$C14, CSV!$E:$E, 0)), \"\", \"〇\")","v":""},{"$f":"IF( ISNA(MATCH(J$5&$C14, CSV!$E:$E, 0)), \"\", \"〇\")","v":""}]
[null,null,"オメガの心臓",null,{"$f":"IF( ISNA(MATCH(E$5&$C15, CSV!$E:$E, 0)), \"\", \"〇\")","v":""},{"$f":"IF( ISNA(MATCH(F$5&$C15, CSV!$E:$E, 0)), \"\", \"〇\")","v":""},{"$f":"IF( ISNA(MATCH(G$5&$C15, CSV!$E:$E, 0)), \"\", \"〇\")","v":""},{"$f":"IF( ISNA(MATCH(H$5&$C15, CSV!$E:$E, 0)), \"\", \"〇\")","v":""},{"$f":"IF( ISNA(MATCH(I$5&$C15, CSV!$E:$E, 0)), \"\", \"〇\")","v":""},{"$f":"IF( ISNA(MATCH(J$5&$C15, CSV!$E:$E, 0)), \"\", \"〇\")","v":""}]
[null,null,"オメガの前肢",null,{"$f":"IF( ISNA(MATCH(E$5&$C16, CSV!$E:$E, 0)), \"\", \"〇\")","v":""},{"$f":"IF( ISNA(MATCH(F$5&$C16, CSV!$E:$E, 0)), \"\", \"〇\")","v":""},{"$f":"IF( ISNA(MATCH(G$5&$C16, CSV!$E:$E, 0)), \"\", \"〇\")","v":""},{"$f":"IF( ISNA(MATCH(H$5&$C16, CSV!$E:$E, 0)), \"\", \"〇\")","v":""},{"$f":"IF( ISNA(MATCH(I$5&$C16, CSV!$E:$E, 0)), \"\", \"〇\")","v":""},{"$f":"IF( ISNA(MATCH(J$5&$C16, CSV!$E:$E, 0)), \"\", \"〇\")","v":""}]
[null,null,"オメガの後肢 ",null,{"$f":"IF( ISNA(MATCH(E$5&$C17, CSV!$E:$E, 0)), \"\", \"〇\")","v":""},{"$f":"IF( ISNA(MATCH(F$5&$C17, CSV!$E:$E, 0)), \"\", \"〇\")","v":""},{"$f":"IF( ISNA(MATCH(G$5&$C17, CSV!$E:$E, 0)), \"\", \"〇\")","v":""},{"$f":"IF( ISNA(MATCH(H$5&$C17, CSV!$E:$E, 0)), \"\", \"〇\")","v":""},{"$f":"IF( ISNA(MATCH(I$5&$C17, CSV!$E:$E, 0)), \"\", \"〇\")","v":""},{"$f":"IF( ISNA(MATCH(J$5&$C17, CSV!$E:$E, 0)), \"\", \"〇\")","v":""}]
[null,null,"オメガの尾",null,{"$f":"IF( ISNA(MATCH(E$5&$C18, CSV!$E:$E, 0)), \"\", \"〇\")","v":""},{"$f":"IF( ISNA(MATCH(F$5&$C18, CSV!$E:$E, 0)), \"\", \"〇\")","v":""},{"$f":"IF( ISNA(MATCH(G$5&$C18, CSV!$E:$E, 0)), \"\", \"〇\")","v":""},{"$f":"IF( ISNA(MATCH(H$5&$C18, CSV!$E:$E, 0)), \"\", \"〇\")","v":""},{"$f":"IF( ISNA(MATCH(I$5&$C18, CSV!$E:$E, 0)), \"\", \"〇\")","v":""},{"$f":"IF( ISNA(MATCH(J$5&$C18, CSV!$E:$E, 0)), \"\", \"〇\")","v":""}]
[]
[null,null,"ホマムツッケット",null,{"$f":"IF( ISNA(MATCH(E$5&$C20, CSV!$E:$E, 0)), \"\", \"〇\")","v":""},{"$f":"IF( ISNA(MATCH(F$5&$C20, CSV!$E:$E, 0)), \"\", \"〇\")","v":""},{"$f":"IF( ISNA(MATCH(G$5&$C20, CSV!$E:$E, 0)), \"\", \"〇\")","v":""},{"$f":"IF( ISNA(MATCH(H$5&$C20, CSV!$E:$E, 0)), \"\", \"〇\")","v":""},{"$f":"IF( ISNA(MATCH(I$5&$C20, CSV!$E:$E, 0)), \"\", \"〇\")","v":""},{"$f":"IF( ISNA(MATCH(J$5&$C20, CSV!$E:$E, 0)), \"\", \"〇\")","v":""}]
[null,null,"ホマムコラッツァ",null,{"$f":"IF( ISNA(MATCH(E$5&$C21, CSV!$E:$E, 0)), \"\", \"〇\")","v":""},{"$f":"IF( ISNA(MATCH(F$5&$C21, CSV!$E:$E, 0)), \"\", \"〇\")","v":""},{"$f":"IF( ISNA(MATCH(G$5&$C21, CSV!$E:$E, 0)), \"\", \"〇\")","v":""},{"$f":"IF( ISNA(MATCH(H$5&$C21, CSV!$E:$E, 0)), \"\", \"〇\")","v":""},{"$f":"IF( ISNA(MATCH(I$5&$C21, CSV!$E:$E, 0)), \"\", \"〇\")","v":""},{"$f":"IF( ISNA(MATCH(J$5&$C21, CSV!$E:$E, 0)), \"\", \"〇\")","v":""}]
[null,null,"ホマムマノポラ",null,{"$f":"IF( ISNA(MATCH(E$5&$C22, CSV!$E:$E, 0)), \"\", \"〇\")","v":""},{"$f":"IF( ISNA(MATCH(F$5&$C22, CSV!$E:$E, 0)), \"\", \"〇\")","v":""},{"$f":"IF( ISNA(MATCH(G$5&$C22, CSV!$E:$E, 0)), \"\", \"〇\")","v":""},{"$f":"IF( ISNA(MATCH(H$5&$C22, CSV!$E:$E, 0)), \"\", \"〇\")","v":""},{"$f":"IF( ISNA(MATCH(I$5&$C22, CSV!$E:$E, 0)), \"\", \"〇\")","v":""},{"$f":"IF( ISNA(MATCH(J$5&$C22, CSV!$E:$E, 0)), \"\", \"〇\")","v":""}]
[null,null,"ホマムコッシャレ",null,{"$f":"IF( ISNA(MATCH(E$5&$C23, CSV!$E:$E, 0)), \"\", \"〇\")","v":""},{"$f":"IF( ISNA(MATCH(F$5&$C23, CSV!$E:$E, 0)), \"\", \"〇\")","v":""},{"$f":"IF( ISNA(MATCH(G$5&$C23, CSV!$E:$E, 0)), \"\", \"〇\")","v":""},{"$f":"IF( ISNA(MATCH(H$5&$C23, CSV!$E:$E, 0)), \"\", \"〇\")","v":""},{"$f":"IF( ISNA(MATCH(I$5&$C23, CSV!$E:$E, 0)), \"\", \"〇\")","v":""},{"$f":"IF( ISNA(MATCH(J$5&$C23, CSV!$E:$E, 0)), \"\", \"〇\")","v":""}]
[null,null,"ホマムガンビエラ",null,{"$f":"IF( ISNA(MATCH(E$5&$C24, CSV!$E:$E, 0)), \"\", \"〇\")","v":""},{"$f":"IF( ISNA(MATCH(F$5&$C24, CSV!$E:$E, 0)), \"\", \"〇\")","v":""},{"$f":"IF( ISNA(MATCH(G$5&$C24, CSV!$E:$E, 0)), \"\", \"〇\")","v":""},{"$f":"IF( ISNA(MATCH(H$5&$C24, CSV!$E:$E, 0)), \"\", \"〇\")","v":""},{"$f":"IF( ISNA(MATCH(I$5&$C24, CSV!$E:$E, 0)), \"\", \"〇\")","v":""},{"$f":"IF( ISNA(MATCH(J$5&$C24, CSV!$E:$E, 0)), \"\", \"〇\")","v":""}]

{"sheet":"空４神","index":7,"n_rows":49,"n_cols":12,"rows_kept":49,"cut":false,"hidden":false,"merged":[]}
[]
[]
[]
[]
[null,null,null,null,"Char1","Char2","Char3","Char4","Char5","Char6"]
[]
[null,"青龍","春石",null,{"$f":"IF( ISNA(MATCH(E$5&$C7, CSV!$E:$E, 0)), \"\", \"〇\")","v":""},{"$f":"IF( ISNA(MATCH(F$5&$C7, CSV!$E:$E, 0)), \"\", \"〇\")","v":""},{"$f":"IF( ISNA(MATCH(G$5&$C7, CSV!$E:$E, 0)), \"\", \"〇\")","v":""},{"$f":"IF( ISNA(MATCH(H$5&$C7, CSV!$E:$E, 0)), \"\", \"〇\")","v":""},{"$f":"IF( ISNA(MATCH(I$5&$C7, CSV!$E:$E, 0)), \"\", \"〇\")","v":""},{"$f":"IF( ISNA(MATCH(J$5&$C7, CSV!$E:$E, 0)), \"\", \"〇\")","v":""},null,"Mother Globe"]
[null,null,"東玉",null,{"$f":"IF( ISNA(MATCH(E$5&$C8, CSV!$E:$E, 0)), \"\", \"〇\")","v":""},{"$f":"IF( ISNA(MATCH(F$5&$C8, CSV!$E:$E, 0)), \"\", \"〇\")","v":""},{"$f":"IF( ISNA(MATCH(G$5&$C8, CSV!$E:$E, 0)), \"\", \"〇\")","v":""},{"$f":"IF( ISNA(MATCH(H$5&$C8, CSV!$E:$E, 0)), \"\", \"〇\")","v":""},{"$f":"IF( ISNA(MATCH(I$5&$C8, CSV!$E:$E, 0)), \"\", \"〇\")","v":""},{"$f":"IF( ISNA(MATCH(J$5&$C8, CSV!$E:$E, 0)), \"\", \"〇\")","v":""},null,"Steam Cleaner"]
[null,"朱雀","夏石",null,{"$f":"IF( ISNA(MATCH(E$5&$C9, CSV!$E:$E, 0)), \"\", \"〇\")","v":""},{"$f":"IF( ISNA(MATCH(F$5&$C9, CSV!$E:$E, 0)), \"\", \"〇\")","v":""},{"$f":"IF( ISNA(MATCH(G$5&$C9, CSV!$E:$E, 0)), \"\", \"〇\")","v":""},{"$f":"IF( ISNA(MATCH(H$5&$C9, CSV!$E:$E, 0)), \"\", \"〇\")","v":""},{"$f":"IF( ISNA(MATCH(I$5&$C9, CSV!$E:$E, 0)), \"\", \"〇\")","v":""},{"$f":"IF( ISNA(MATCH(J$5&$C9, CSV!$E:$E, 0)), \"\", \"〇\")","v":""},null,"Faust"]
[null,null,"南玉",null,{"$f":"IF( ISNA(MATCH(E$5&$C10, CSV!$E:$E, 0)), \"\", \"〇\")","v":""},{"$f":"IF( ISNA(MATCH(F$5&$C10, CSV!$E:$E, 0)), \"\", \"〇\")","v":""},{"$f":"IF( ISNA(MATCH(G$5&$C10, CSV!$E:$E, 0)), \"\", \"〇\")","v":""},{"$f":"IF( ISNA(MATCH(H$5&$C10, CSV!$E:$E, 0)), \"\", \"〇\")","v":""},{"$f":"IF( ISNA(MATCH(I$5&$C10, CSV!$E:$E, 0)), \"\", \"〇\")","v":""},{"$f":"IF( ISNA(MATCH(J$5&$C10, CSV!$E:$E, 0)), \"\", \"〇\")","v":""},null,"Brigandish Blade"]
[null,"白虎","秋石",null,{"$f":"IF( ISNA(MATCH(E$5&$C11, CSV!$E:$E, 0)), \"\", \"〇\")","v":""},{"$f":"IF( ISNA(MATCH(F$5&$C11, CSV!$E:$E, 0)), \"\", \"〇\")","v":""},{"$f":"IF( ISNA(MATCH(G$5&$C11, CSV!$E:$E, 0)), \"\", \"〇\")","v":""},{"$f":"IF( ISNA(MATCH(H$5&$C11, CSV!$E:$E, 0)), \"\", \"〇\")","v":""},{"$f":"IF( ISNA(MATCH(I$5&$C11, CSV!$E:$E, 0)), \"\", \"〇\")","v":""},{"$f":"IF( ISNA(MATCH(J$5&$C11, CSV!$E:$E, 0)), \"\", \"〇\")","v":""},null,"Ulikummi"]
[null,null,"西玉",null,{"$f":"IF( ISNA(MATCH(E$5&$C12, CSV!$E:$E, 0)), \"\", \"〇\")","v":""},{"$f":"IF( ISNA(MATCH(F$5&$C12, CSV!$E:$E, 0)), \"\", \"〇\")","v":""},{"$f":"IF( ISNA(MATCH(G$5&$C12, CSV!$E:$E, 0)), \"\", \"〇\")","v":""},{"$f":"IF( ISNA(MATCH(H$5&$C12, CSV!$E:$E, 0)), \"\", \"〇\")","v":""},{"$f":"IF( ISNA(MATCH(I$5&$C12, CSV!$E:$E, 0)), \"\", \"〇\")","v":""},{"$f":"IF( ISNA(MATCH(J$5&$C12, CSV!$E:$E, 0)), \"\", \"〇\")","v":""},null,"Despot"]
[null,"玄武","冬石",null,{"$f":"IF( ISNA(MATCH(E$5&$C13, CSV!$E:$E, 0)), \"\", \"〇\")","v":""},{"$f":"IF( ISNA(MATCH(F$5&$C13, CSV!$E:$E, 0)), \"\", \"〇\")","v":""},{"$f":"IF( ISNA(MATCH(G$5&$C13, CSV!$E:$E, 0)), \"\", \"〇\")","v":""},{"$f":"IF( ISNA(MATCH(H$5&$C13, CSV!$E:$E, 0)), \"\", \"〇\")","v":""},{"$f":"IF( ISNA(MATCH(I$5&$C13, CSV!$E:$E, 0)), \"\", \"〇\")","v":""},{"$f":"IF( ISNA(MATCH(J$5&$C13, CSV!$E:$E, 0)), \"\", \"〇\")","v":""},null,"Olla Grande"]
[null,null,"北玉",null,{"$f":"IF( ISNA(MATCH(E$5&$C14, CSV!$E:$E, 0)), \"\", \"〇\")","v":""},{"$f":"IF( ISNA(MATCH(F$5&$C14, CSV!$E:$E, 0)), \"\", \"〇\")","v":""},{"$f":"IF( ISNA(MATCH(G$5&$C14, CSV!$E:$E, 0)), \"\", \"〇\")","v":""},{"$f":"IF( ISNA(MATCH(H$5&$C14, CSV!$E:$E, 0)), \"\", \"〇\")","v":""},{"$f":"IF( ISNA(MATCH(I$5&$C14, CSV!$E:$E, 0)), \"\", \"〇\")","v":""},{"$f":"IF( ISNA(MATCH(J$5&$C14, CSV!$E:$E, 0)), \"\", \"〇\")","v":""},null,"Zipacna"]
[]
[null,null,"ダイオライト",null,{"$f":"IF( ISNA(MATCH(E$5&$C16, CSV!$E:$E, 0)), \"\", \"〇\")","v":""},{"$f":"IF( ISNA(MATCH(F$5&$C16, CSV!$E:$E, 0)), \"\", \"〇\")","v":""},{"$f":"IF( ISNA(MATCH(G$5&$C16, CSV!$E:$E, 0)), \"\", \"〇\")","v":""},{"$f":"IF( ISNA(MATCH(H$5&$C16, CSV!$E:$E, 0)), \"\", \"〇\")","v":""},{"$f":"IF( ISNA(MATCH(I$5&$C16, CSV!$E:$E, 0)), \"\", \"〇\")","v":""},{"$f":"IF( ISNA(MATCH(J$5&$C16, CSV!$E:$E, 0)), \"\", \"〇\")","v":""}]
[null,null,"ロ・メーヴの水",null,{"$f":"IF( ISNA(MATCH(E$5&$C17, CSV!$E:$E, 0)), \"\", \"〇\")","v":""},{"$f":"IF( ISNA(MATCH(F$5&$C17, CSV!$E:$E, 0)), \"\", \"〇\")","v":""},{"$f":"IF( ISNA(MATCH(G$5&$C17, CSV!$E:$E, 0)), \"\", \"〇\")","v":""},{"$f":"IF( ISNA(MATCH(H$5&$C17, CSV!$E:$E, 0)), \"\", \"〇\")","v":""},{"$f":"IF( ISNA(MATCH(I$5&$C17, CSV!$E:$E, 0)), \"\", \"〇\")","v":""},{"$f":"IF( ISNA(MATCH(J$5&$C17, CSV!$E:$E, 0)), \"\", \"〇\")","v":""}]
[null,null,"クルタナ",null,{"$f":"IF( ISNA(MATCH(E$5&$C18, CSV!$E:$E, 0)), \"\", \"〇\")","v":""},{"$f":"IF( ISNA(MATCH(F$5&$C18, CSV!$E:$E, 0)), \"\", \"〇\")","v":""},{"$f":"IF( ISNA(MATCH(G$5&$C18, CSV!$E:$E, 0)), \"\", \"〇\")","v":""},{"$f":"IF( ISNA(MATCH(H$5&$C18, CSV!$E:$E, 0)), \"\", \"〇\")","v":""},{"$f":"IF( ISNA(MATCH(I$5&$C18, CSV!$E:$E, 0)), \"\", \"〇\")","v":""},{"$f":"IF( ISNA(MATCH(J$5&$C18, CSV!$E:$E, 0)), \"\", \"〇\")","v":""}]
[]
[null,null,"朱雀印章",null,{"$f":"IF( ISNA(MATCH(E$5&$C20, CSV!$E:$E, 0)), \"\", \"〇\")","v":""},{"$f":"IF( ISNA(MATCH(F$5&$C20, CSV!$E:$E, 0)), \"\", \"〇\")","v":""},{"$f":"IF( ISNA(MATCH(G$5&$C20, CSV!$E:$E, 0)), \"\", \"〇\")","v":""},{"$f":"IF( ISNA(MATCH(H$5&$C20, CSV!$E:$E, 0)), \"\", \"〇\")","v":""},{"$f":"IF( ISNA(MATCH(I$5&$C20, CSV!$E:$E, 0)), \"\", \"〇\")","v":""},{"$f":"IF( ISNA(MATCH(J$5&$C20, CSV!$E:$E, 0)), \"\", \"〇\")","v":""}]
[null,null,"青龍印章",null,{"$f":"IF( ISNA(MATCH(E$5&$C21, CSV!$E:$E, 0)), \"\", \"〇\")","v":""},{"$f":"IF( ISNA(MATCH(F$5&$C21, CSV!$E:$E, 0)), \"\", \"〇\")","v":""},{"$f":"IF( ISNA(MATCH(G$5&$C21, CSV!$E:$E, 0)), \"\", \"〇\")","v":""},{"$f":"IF( ISNA(MATCH(H$5&$C21, CSV!$E:$E, 0)), \"\", \"〇\")","v":""},{"$f":"IF( ISNA(MATCH(I$5&$C21, CSV!$E:$E, 0)), \"\", \"〇\")","v":""},{"$f":"IF( ISNA(MATCH(J$5&$C21, CSV!$E:$E, 0)), \"\", \"〇\")","v":""}]
[null,null,"玄武印章",null,{"$f":"IF( ISNA(MATCH(E$5&$C22, CSV!$E:$E, 0)), \"\", \"〇\")","v":""},{"$f":"IF( ISNA(MATCH(F$5&$C22, CSV!$E:$E, 0)), \"\", \"〇\")","v":""},{"$f":"IF( ISNA(MATCH(G$5&$C22, CSV!$E:$E, 0)), \"\", \"〇\")","v":""},{"$f":"IF( ISNA(MATCH(H$5&$C22, CSV!$E:$E, 0)), \"\", \"〇\")","v":""},{"$f":"IF( ISNA(MATCH(I$5&$C22, CSV!$E:$E, 0)), \"\", \"〇\")","v":""},{"$f":"IF( ISNA(MATCH(J$5&$C22, CSV!$E:$E, 0)), \"\", \"〇\")","v":""}]
[null,null,"白虎印章",null,{"$f":"IF( ISNA(MATCH(E$5&$C23, CSV!$E:$E, 0)), \"\", \"〇\")","v":""},{"$f":"IF( ISNA(MATCH(F$5&$C23, CSV!$E:$E, 0)), \"\", \"〇\")","v":""},{"$f":"IF( ISNA(MATCH(G$5&$C23, CSV!$E:$E, 0)), \"\", \"〇\")","v":""},{"$f":"IF( ISNA(MATCH(H$5&$C23, CSV!$E:$E, 0)), \"\", \"〇\")","v":""},{"$f":"IF( ISNA(MATCH(I$5&$C23, CSV!$E:$E, 0)), \"\", \"〇\")","v":""},{"$f":"IF( ISNA(MATCH(J$5&$C23, CSV!$E:$E, 0)), \"\", \"〇\")","v":""}]
[]
[null,null,"ＡＵベレー+1",null,{"$f":"IF( ISNA(MATCH(E$5&$C25, CSV!$E:$E, 0)), \"\", \"〇\")","v":""},{"$f":"IF( ISNA(MATCH(F$5&$C25, CSV!$E:$E, 0)), \"\", \"〇\")","v":""},{"$f":"IF( ISNA(MATCH(G$5&$C25, CSV!$E:$E, 0)), \"\", \"〇\")","v":""},{"$f":"IF( ISNA(MATCH(H$5&$C25, CSV!$E:$E, 0)), \"\", \"〇\")","v":""},{"$f":"IF( ISNA(MATCH(I$5&$C25, CSV!$E:$E, 0)), \"\", \"〇\")","v":""},{"$f":"IF( ISNA(MATCH(J$5&$C25, CSV!$E:$E, 0)), \"\", \"〇\")","v":""}]
[null,null,"ＡＵダブレット+1",null,{"$f":"IF( ISNA(MATCH(E$5&$C26, CSV!$E:$E, 0)), \"\", \"〇\")","v":""},{"$f":"IF( ISNA(MATCH(F$5&$C26, CSV!$E:$E, 0)), \"\", \"〇\")","v":""},{"$f":"IF( ISNA(MATCH(G$5&$C26, CSV!$E:$E, 0)), \"\", \"〇\")","v":""},{"$f":"IF( ISNA(MATCH(H$5&$C26, CSV!$E:$E, 0)), \"\", \"〇\")","v":""},{"$f":"IF( ISNA(MATCH(I$5&$C26, CSV!$E:$E, 0)), \"\", \"〇\")","v":""},{"$f":"IF( ISNA(MATCH(J$5&$C26, CSV!$E:$E, 0)), \"\", \"〇\")","v":""}]
[null,null,"ＡＵグローブ+1",null,{"$f":"IF( ISNA(MATCH(E$5&$C27, CSV!$E:$E, 0)), \"\", \"〇\")","v":""},{"$f":"IF( ISNA(MATCH(F$5&$C27, CSV!$E:$E, 0)), \"\", \"〇\")","v":""},{"$f":"IF( ISNA(MATCH(G$5&$C27, CSV!$E:$E, 0)), \"\", \"〇\")","v":""},{"$f":"IF( ISNA(MATCH(H$5&$C27, CSV!$E:$E, 0)), \"\", \"〇\")","v":""},{"$f":"IF( ISNA(MATCH(I$5&$C27, CSV!$E:$E, 0)), \"\", \"〇\")","v":""},{"$f":"IF( ISNA(MATCH(J$5&$C27, CSV!$E:$E, 0)), \"\", \"〇\")","v":""}]
[null,null,"ＡＵブレー+1",null,{"$f":"IF( ISNA(MATCH(E$5&$C28, CSV!$E:$E, 0)), \"\", \"〇\")","v":""},{"$f":"IF( ISNA(MATCH(F$5&$C28, CSV!$E:$E, 0)), \"\", \"〇\")","v":""},{"$f":"IF( ISNA(MATCH(G$5&$C28, CSV!$E:$E, 0)), \"\", \"〇\")","v":""},{"$f":"IF( ISNA(MATCH(H$5&$C28, CSV!$E:$E, 0)), \"\", \"〇\")","v":""},{"$f":"IF( ISNA(MATCH(I$5&$C28, CSV!$E:$E, 0)), \"\", \"〇\")","v":""},{"$f":"IF( ISNA(MATCH(J$5&$C28, CSV!$E:$E, 0)), \"\", \"〇\")","v":""}]
[null,null,"ＡＵゲートル+1",null,{"$f":"IF( ISNA(MATCH(E$5&$C29, CSV!$E:$E, 0)), \"\", \"〇\")","v":""},{"$f":"IF( ISNA(MATCH(F$5&$C29, CSV!$E:$E, 0)), \"\", \"〇\")","v":""},{"$f":"IF( ISNA(MATCH(G$5&$C29, CSV!$E:$E, 0)), \"\", \"〇\")","v":""},{"$f":"IF( ISNA(MATCH(H$5&$C29, CSV!$E:$E, 0)), \"\", \"〇\")","v":""},{"$f":"IF( ISNA(MATCH(I$5&$C29, CSV!$E:$E, 0)), \"\", \"〇\")","v":""},{"$f":"IF( ISNA(MATCH(J$5&$C29, CSV!$E:$E, 0)), \"\", \"〇\")","v":""}]
[]
[null,null,"ＰＥサラド+1",null,{"$f":"IF( ISNA(MATCH(E$5&$C31, CSV!$E:$E, 0)), \"\", \"〇\")","v":""},{"$f":"IF( ISNA(MATCH(F$5&$C31, CSV!$E:$E, 0)), \"\", \"〇\")","v":""},{"$f":"IF( ISNA(MATCH(G$5&$C31, CSV!$E:$E, 0)), \"\", \"〇\")","v":""},{"$f":"IF( ISNA(MATCH(H$5&$C31, CSV!$E:$E, 0)), \"\", \"〇\")","v":""},{"$f":"IF( ISNA(MATCH(I$5&$C31, CSV!$E:$E, 0)), \"\", \"〇\")","v":""},{"$f":"IF( ISNA(MATCH(J$5&$C31, CSV!$E:$E, 0)), \"\", \"〇\")","v":""}]
[null,null,"ＰＥオーベール+1",null,{"$f":"IF( ISNA(MATCH(E$5&$C32, CSV!$E:$E, 0)), \"\", \"〇\")","v":""},{"$f":"IF( ISNA(MATCH(F$5&$C32, CSV!$E:$E, 0)), \"\", \"〇\")","v":""},{"$f":"IF( ISNA(MATCH(G$5&$C32, CSV!$E:$E, 0)), \"\", \"〇\")","v":""},{"$f":"IF( ISNA(MATCH(H$5&$C32, CSV!$E:$E, 0)), \"\", \"〇\")","v":""},{"$f":"IF( ISNA(MATCH(I$5&$C32, CSV!$E:$E, 0)), \"\", \"〇\")","v":""},{"$f":"IF( ISNA(MATCH(J$5&$C32, CSV!$E:$E, 0)), \"\", \"〇\")","v":""}]
[null,null,"ＰＥムフル+1",null,{"$f":"IF( ISNA(MATCH(E$5&$C33, CSV!$E:$E, 0)), \"\", \"〇\")","v":""},{"$f":"IF( ISNA(MATCH(F$5&$C33, CSV!$E:$E, 0)), \"\", \"〇\")","v":""},{"$f":"IF( ISNA(MATCH(G$5&$C33, CSV!$E:$E, 0)), \"\", \"〇\")","v":""},{"$f":"IF( ISNA(MATCH(H$5&$C33, CSV!$E:$E, 0)), \"\", \"〇\")","v":""},{"$f":"IF( ISNA(MATCH(I$5&$C33, CSV!$E:$E, 0)), \"\", \"〇\")","v":""},{"$f":"IF( ISNA(MATCH(J$5&$C33, CSV!$E:$E, 0)), \"\", \"〇\")","v":""}]
[null,null,"ＰＥブレエット+1",null,{"$f":"IF( ISNA(MATCH(E$5&$C34, CSV!$E:$E, 0)), \"\", \"〇\")","v":""},{"$f":"IF( ISNA(MATCH(F$5&$C34, CSV!$E:$E, 0)), \"\", \"〇\")","v":""},{"$f":"IF( ISNA(MATCH(G$5&$C34, CSV!$E:$E, 0)), \"\", \"〇\")","v":""},{"$f":"IF( ISNA(MATCH(H$5&$C34, CSV!$E:$E, 0)), \"\", \"〇\")","v":""},{"$f":"IF( ISNA(MATCH(I$5&$C34, CSV!$E:$E, 0)), \"\", \"〇\")","v":""},{"$f":"IF( ISNA(MATCH(J$5&$C34, CSV!$E:$E, 0)), \"\", \"〇\")","v":""}]
[null,null,"ＰＥソルレ+1",null,{"$f":"IF( ISNA(MATCH(E$5&$C35, CSV!$E:$E, 0)), \"\", \"〇\")","v":""},{"$f":"IF( ISNA(MATCH(F$5&$C35, CSV!$E:$E, 0)), \"\", \"〇\")","v":""},{"$f":"IF( ISNA(MATCH(G$5&$C35, CSV!$E:$E, 0)), \"\", \"〇\")","v":""},{"$f":"IF( ISNA(MATCH(H$5&$C35, CSV!$E:$E, 0)), \"\", \"〇\")","v":""},{"$f":"IF( ISNA(MATCH(I$5&$C35, CSV!$E:$E, 0)), \"\", \"〇\")","v":""},{"$f":"IF( ISNA(MATCH(J$5&$C35, CSV!$E:$E, 0)), \"\", \"〇\")","v":""}]
[]
[null,null,"ＴＥシャポー+1",null,{"$f":"IF( ISNA(MATCH(E$5&$C37, CSV!$E:$E, 0)), \"\", \"〇\")","v":""},{"$f":"IF( ISNA(MATCH(F$5&$C37, CSV!$E:$E, 0)), \"\", \"〇\")","v":""},{"$f":"IF( ISNA(MATCH(G$5&$C37, CSV!$E:$E, 0)), \"\", \"〇\")","v":""},{"$f":"IF( ISNA(MATCH(H$5&$C37, CSV!$E:$E, 0)), \"\", \"〇\")","v":""},{"$f":"IF( ISNA(MATCH(I$5&$C37, CSV!$E:$E, 0)), \"\", \"〇\")","v":""},{"$f":"IF( ISNA(MATCH(J$5&$C37, CSV!$E:$E, 0)), \"\", \"〇\")","v":""}]
[null,null,"ＴＥサイオ+1",null,{"$f":"IF( ISNA(MATCH(E$5&$C38, CSV!$E:$E, 0)), \"\", \"〇\")","v":""},{"$f":"IF( ISNA(MATCH(F$5&$C38, CSV!$E:$E, 0)), \"\", \"〇\")","v":""},{"$f":"IF( ISNA(MATCH(G$5&$C38, CSV!$E:$E, 0)), \"\", \"〇\")","v":""},{"$f":"IF( ISNA(MATCH(H$5&$C38, CSV!$E:$E, 0)), \"\", \"〇\")","v":""},{"$f":"IF( ISNA(MATCH(I$5&$C38, CSV!$E:$E, 0)), \"\", \"〇\")","v":""},{"$f":"IF( ISNA(MATCH(J$5&$C38, CSV!$E:$E, 0)), \"\", \"〇\")","v":""}]
[null,null,"ＴＥカフス+1",null,{"$f":"IF( ISNA(MATCH(E$5&$C39, CSV!$E:$E, 0)), \"\", \"〇\")","v":""},{"$f":"IF( ISNA(MATCH(F$5&$C39, CSV!$E:$E, 0)), \"\", \"〇\")","v":""},{"$f":"IF( ISNA(MATCH(G$5&$C39, CSV!$E:$E, 0)), \"\", \"〇\")","v":""},{"$f":"IF( ISNA(MATCH(H$5&$C39, CSV!$E:$E, 0)), \"\", \"〇\")","v":""},{"$f":"IF( ISNA(MATCH(I$5&$C39, CSV!$E:$E, 0)), \"\", \"〇\")","v":""},{"$f":"IF( ISNA(MATCH(J$5&$C39, CSV!$E:$E, 0)), \"\", \"〇\")","v":""}]
[null,null,"ＴＥスロップス+1",null,{"$f":"IF( ISNA(MATCH(E$5&$C40, CSV!$E:$E, 0)), \"\", \"〇\")","v":""},{"$f":"IF( ISNA(MATCH(F$5&$C40, CSV!$E:$E, 0)), \"\", \"〇\")","v":""},{"$f":"IF( ISNA(MATCH(G$5&$C40, CSV!$E:$E, 0)), \"\", \"〇\")","v":""},{"$f":"IF( ISNA(MATCH(H$5&$C40, CSV!$E:$E, 0)), \"\", \"〇\")","v":""},{"$f":"IF( ISNA(MATCH(I$5&$C40, CSV!$E:$E, 0)), \"\", \"〇\")","v":""},{"$f":"IF( ISNA(MATCH(J$5&$C40, CSV!$E:$E, 0)), \"\", \"〇\")","v":""}]
[null,null,"ＴＥピガッシュ+1",null,{"$f":"IF( ISNA(MATCH(E$5&$C41, CSV!$E:$E, 0)), \"\", \"〇\")","v":""},{"$f":"IF( ISNA(MATCH(F$5&$C41, CSV!$E:$E, 0)), \"\", \"〇\")","v":""},{"$f":"IF( ISNA(MATCH(G$5&$C41, CSV!$E:$E, 0)), \"\", \"〇\")","v":""},{"$f":"IF( ISNA(MATCH(H$5&$C41, CSV!$E:$E, 0)), \"\", \"〇\")","v":""},{"$f":"IF( ISNA(MATCH(I$5&$C41, CSV!$E:$E, 0)), \"\", \"〇\")","v":""},{"$f":"IF( ISNA(MATCH(J$5&$C41, CSV!$E:$E, 0)), \"\", \"〇\")","v":""}]
[]
[null,null,"メラソミトン",null,{"$f":"IF( ISNA(MATCH(E$5&$C43, CSV!$E:$E, 0)), \"\", \"〇\")","v":""},{"$f":"IF( ISNA(MATCH(F$5&$C43, CSV!$E:$E, 0)), \"\", \"〇\")","v":""},{"$f":"IF( ISNA(MATCH(G$5&$C43, CSV!$E:$E, 0)), \"\", \"〇\")","v":""},{"$f":"IF( ISNA(MATCH(H$5&$C43, CSV!$E:$E, 0)), \"\", \"〇\")","v":""},{"$f":"IF( ISNA(MATCH(I$5&$C43, CSV!$E:$E, 0)), \"\", \"〇\")","v":""},{"$f":"IF( ISNA(MATCH(J$5&$C43, CSV!$E:$E, 0)), \"\", \"〇\")","v":""}]
[null,null,"オネイロスピアス",null,{"$f":"IF( ISNA(MATCH(E$5&$C44, CSV!$E:$E, 0)), \"\", \"〇\")","v":""},{"$f":"IF( ISNA(MATCH(F$5&$C44, CSV!$E:$E, 0)), \"\", \"〇\")","v":""},{"$f":"IF( ISNA(MATCH(G$5&$C44, CSV!$E:$E, 0)), \"\", \"〇\")","v":""},{"$f":"IF( ISNA(MATCH(H$5&$C44, CSV!$E:$E, 0)), \"\", \"〇\")","v":""},{"$f":"IF( ISNA(MATCH(I$5&$C44, CSV!$E:$E, 0)), \"\", \"〇\")","v":""},{"$f":"IF( ISNA(MATCH(J$5&$C44, CSV!$E:$E, 0)), \"\", \"〇\")","v":""}]
[null,null,"ピピラカベルト",null,{"$f":"IF( ISNA(MATCH(E$5&$C45, CSV!$E:$E, 0)), \"\", \"〇\")","v":""},{"$f":"IF( ISNA(MATCH(F$5&$C45, CSV!$E:$E, 0)), \"\", \"〇\")","v":""},{"$f":"IF( ISNA(MATCH(G$5&$C45, CSV!$E:$E, 0)), \"\", \"〇\")","v":""},{"$f":"IF( ISNA(MATCH(H$5&$C45, CSV!$E:$E, 0)), \"\", \"〇\")","v":""},{"$f":"IF( ISNA(MATCH(I$5&$C45, CSV!$E:$E, 0)), \"\", \"〇\")","v":""},{"$f":"IF( ISNA(MATCH(J$5&$C45, CSV!$E:$E, 0)), \"\", \"〇\")","v":""}]
[null,null,"オネイロスセスト",null,{"$f":"IF( ISNA(MATCH(E$5&$C46, CSV!$E:$E, 0)), \"\", \"〇\")","v":""},{"$f":"IF( ISNA(MATCH(F$5&$C46, CSV!$E:$E, 0)), \"\", \"〇\")","v":""},{"$f":"IF( ISNA(MATCH(G$5&$C46, CSV!$E:$E, 0)), \"\", \"〇\")","v":""},{"$f":"IF( ISNA(MATCH(H$5&$C46, CSV!$E:$E, 0)), \"\", \"〇\")","v":""},{"$f":"IF( ISNA(MATCH(I$5&$C46, CSV!$E:$E, 0)), \"\", \"〇\")","v":""},{"$f":"IF( ISNA(MATCH(J$5&$C46, CSV!$E:$E, 0)), \"\", \"〇\")","v":""}]
[null,null,"夢神の指輪",null,{"$f":"IF( ISNA(MATCH(E$5&$C47, CSV!$E:$E, 0)), \"\", \"〇\")","v":""},{"$f":"IF( ISNA(MATCH(F$5&$C47, CSV!$E:$E, 0)), \"\", \"〇\")","v":""},{"$f":"IF( ISNA(MATCH(G$5&$C47, CSV!$E:$E, 0)), \"\", \"〇\")","v":""},{"$f":"IF( ISNA(MATCH(H$5&$C47, CSV!$E:$E, 0)), \"\", \"〇\")","v":""},{"$f":"IF( ISNA(MATCH(I$5&$C47, CSV!$E:$E, 0)), \"\", \"〇\")","v":""},{"$f":"IF( ISNA(MATCH(J$5&$C47, CSV!$E:$E, 0)), \"\", \"〇\")","v":""}]
[null,null,"オネイロスリング",null,{"$f":"IF( ISNA(MATCH(E$5&$C48, CSV!$E:$E, 0)), \"\", \"〇\")","v":""},{"$f":"IF( ISNA(MATCH(F$5&$C48, CSV!$E:$E, 0)), \"\", \"〇\")","v":""},{"$f":"IF( ISNA(MATCH(G$5&$C48, CSV!$E:$E, 0)), \"\", \"〇\")","v":""},{"$f":"IF( ISNA(MATCH(H$5&$C48, CSV!$E:$E, 0)), \"\", \"〇\")","v":""},{"$f":"IF( ISNA(MATCH(I$5&$C48, CSV!$E:$E, 0)), \"\", \"〇\")","v":""},{"$f":"IF( ISNA(MATCH(J$5&$C48, CSV!$E:$E, 0)), \"\", \"〇\")","v":""}]
[null,null,"メルクリ*",null,{"$f":"IF( ISNA(MATCH(E$5&$C49, CSV!$E:$E, 0)), \"\", \"〇\")","v":""},{"$f":"IF( ISNA(MATCH(F$5&$C49, CSV!$E:$E, 0)), \"\", \"〇\")","v":""},{"$f":"IF( ISNA(MATCH(G$5&$C49, CSV!$E:$E, 0)), \"\", \"〇\")","v":""},{"$f":"IF( ISNA(MATCH(H$5&$C49, CSV!$E:$E, 0)), \"\", \"〇\")","v":""},{"$f":"IF( ISNA(MATCH(I$5&$C49, CSV!$E:$E, 0)), \"\", \"〇\")","v":""},{"$f":"IF( ISNA(MATCH(J$5&$C49, CSV!$E:$E, 0)), \"\", \"〇\")","v":""}]

{"sheet":"七元徳","index":8,"n_rows":40,"n_cols":11,"rows_kept":40,"cut":false,"hidden":false,"merged":[]}
[]
[]
[]
[]
[null,null,null,"トリガー","Char1","Char2","Char3","Char4","Char5","Char6"]
[]
[]
[]
[]
[]
[]
[]
[]
[]
[]
["T1","Jailer of Temperance","フ・ゾイの王宮MAP[1]",null,null,null,null,null,null,null,"第一の聖徳"]
[null,"Ix'aern (MNK)","フ・ゾイの王宮のBF1","上質なアーン器官",{"$f":"SUMIF(CSV!$E:$E, E$5&$D17, CSV!$D:$D)","v":0},{"$f":"SUMIF(CSV!$E:$E, F$5&$D17, CSV!$D:$D)","v":0},{"$f":"SUMIF(CSV!$E:$E, G$5&$D17, CSV!$D:$D)","v":0},{"$f":"SUMIF(CSV!$E:$E, H$5&$D17, CSV!$D:$D)","v":0},{"$f":"SUMIF(CSV!$E:$E, I$5&$D17, CSV!$D:$D)","v":0},{"$f":"SUMIF(CSV!$E:$E, J$5&$D17, CSV!$D:$D)","v":0},"無瞋の善根"]
[null,"Jailer of Fortitude","ル・メトの園1F","ゴラホＭチップ",{"$f":"SUMIF(CSV!$E:$E, E$5&$D18, CSV!$D:$D)","v":0},{"$f":"SUMIF(CSV!$E:$E, F$5&$D18, CSV!$D:$D)","v":0},{"$f":"SUMIF(CSV!$E:$E, G$5&$D18, CSV!$D:$D)","v":0},{"$f":"SUMIF(CSV!$E:$E, H$5&$D18, CSV!$D:$D)","v":0},{"$f":"SUMIF(CSV!$E:$E, I$5&$D18, CSV!$D:$D)","v":0},{"$f":"SUMIF(CSV!$E:$E, J$5&$D18, CSV!$D:$D)","v":0},"第二の聖徳"]
[null,"Ix'aern (DRK)","ル・メトの園1F",null,{"$f":"SUMIF(CSV!$E:$E, E$5&$D19, CSV!$D:$D)","v":0},{"$f":"SUMIF(CSV!$E:$E, F$5&$D19, CSV!$D:$D)","v":0},{"$f":"SUMIF(CSV!$E:$E, G$5&$D19, CSV!$D:$D)","v":0},{"$f":"SUMIF(CSV!$E:$E, H$5&$D19, CSV!$D:$D)","v":0},{"$f":"SUMIF(CSV!$E:$E, I$5&$D19, CSV!$D:$D)","v":0},{"$f":"SUMIF(CSV!$E:$E, J$5&$D19, CSV!$D:$D)","v":0},"無貪の善根"]
[null,"Jailer of Faith","ル・メトの園2F","上質なユブヒ器官",{"$f":"SUMIF(CSV!$E:$E, E$5&$D20, CSV!$D:$D)","v":0},{"$f":"SUMIF(CSV!$E:$E, F$5&$D20, CSV!$D:$D)","v":0},{"$f":"SUMIF(CSV!$E:$E, G$5&$D20, CSV!$D:$D)","v":0},{"$f":"SUMIF(CSV!$E:$E, H$5&$D20, CSV!$D:$D)","v":0},{"$f":"SUMIF(CSV!$E:$E, I$5&$D20, CSV!$D:$D)","v":0},{"$f":"SUMIF(CSV!$E:$E, J$5&$D20, CSV!$D:$D)","v":0},"第三の聖徳"]
[null,"Ix'aern (DRG)","ル・メトの園2F",null,{"$f":"SUMIF(CSV!$E:$E, E$5&$D21, CSV!$D:$D)","v":0},{"$f":"SUMIF(CSV!$E:$E, F$5&$D21, CSV!$D:$D)","v":0},{"$f":"SUMIF(CSV!$E:$E, G$5&$D21, CSV!$D:$D)","v":0},{"$f":"SUMIF(CSV!$E:$E, H$5&$D21, CSV!$D:$D)","v":0},{"$f":"SUMIF(CSV!$E:$E, I$5&$D21, CSV!$D:$D)","v":0},{"$f":"SUMIF(CSV!$E:$E, J$5&$D21, CSV!$D:$D)","v":0},"無痴の善根"]
[]
[]
["T2","Jailer of Hope","アル・タユ(D-9)",{"$f":"K16","v":"第一の聖徳"},{"$f":"SUMIF(CSV!$E:$E, E$5&$D24, CSV!$D:$D)","v":0},{"$f":"SUMIF(CSV!$E:$E, F$5&$D24, CSV!$D:$D)","v":0},{"$f":"SUMIF(CSV!$E:$E, G$5&$D24, CSV!$D:$D)","v":0},{"$f":"SUMIF(CSV!$E:$E, H$5&$D24, CSV!$D:$D)","v":0},{"$f":"SUMIF(CSV!$E:$E, I$5&$D24, CSV!$D:$D)","v":0},{"$f":"SUMIF(CSV!$E:$E, J$5&$D24, CSV!$D:$D)","v":0},"第五の聖徳"]
[null,null,null,{"$f":"K17","v":"無瞋の善根"},{"$f":"SUMIF(CSV!$E:$E, E$5&$D25, CSV!$D:$D)","v":0},{"$f":"SUMIF(CSV!$E:$E, F$5&$D25, CSV!$D:$D)","v":0},{"$f":"SUMIF(CSV!$E:$E, G$5&$D25, CSV!$D:$D)","v":0},{"$f":"SUMIF(CSV!$E:$E, H$5&$D25, CSV!$D:$D)","v":0},{"$f":"SUMIF(CSV!$E:$E, I$5&$D25, CSV!$D:$D)","v":0},{"$f":"SUMIF(CSV!$E:$E, J$5&$D25, CSV!$D:$D)","v":0}]
[null,null,null,"上質なフワボ器官",{"$f":"SUMIF(CSV!$E:$E, E$5&$D26, CSV!$D:$D)","v":0},{"$f":"SUMIF(CSV!$E:$E, F$5&$D26, CSV!$D:$D)","v":0},{"$f":"SUMIF(CSV!$E:$E, G$5&$D26, CSV!$D:$D)","v":0},{"$f":"SUMIF(CSV!$E:$E, H$5&$D26, CSV!$D:$D)","v":0},{"$f":"SUMIF(CSV!$E:$E, I$5&$D26, CSV!$D:$D)","v":0},{"$f":"SUMIF(CSV!$E:$E, J$5&$D26, CSV!$D:$D)","v":0}]
[null,"Jailer of Justice","アル・タユ(F-11)",{"$f":"K18","v":"第二の聖徳"},{"$f":"SUMIF(CSV!$E:$E, E$5&$D27, CSV!$D:$D)","v":0},{"$f":"SUMIF(CSV!$E:$E, F$5&$D27, CSV!$D:$D)","v":0},{"$f":"SUMIF(CSV!$E:$E, G$5&$D27, CSV!$D:$D)","v":0},{"$f":"SUMIF(CSV!$E:$E, H$5&$D27, CSV!$D:$D)","v":0},{"$f":"SUMIF(CSV!$E:$E, I$5&$D27, CSV!$D:$D)","v":0},{"$f":"SUMIF(CSV!$E:$E, J$5&$D27, CSV!$D:$D)","v":0},"第四の聖徳"]
[null,null,null,{"$f":"K19","v":"無貪の善根"},{"$f":"SUMIF(CSV!$E:$E, E$5&$D28, CSV!$D:$D)","v":0},{"$f":"SUMIF(CSV!$E:$E, F$5&$D28, CSV!$D:$D)","v":0},{"$f":"SUMIF(CSV!$E:$E, G$5&$D28, CSV!$D:$D)","v":0},{"$f":"SUMIF(CSV!$E:$E, H$5&$D28, CSV!$D:$D)","v":0},{"$f":"SUMIF(CSV!$E:$E, I$5&$D28, CSV!$D:$D)","v":0},{"$f":"SUMIF(CSV!$E:$E, J$5&$D28, CSV!$D:$D)","v":0}]
[null,null,null,"上質なゾミト器官",{"$f":"SUMIF(CSV!$E:$E, E$5&$D29, CSV!$D:$D)","v":0},{"$f":"SUMIF(CSV!$E:$E, F$5&$D29, CSV!$D:$D)","v":0},{"$f":"SUMIF(CSV!$E:$E, G$5&$D29, CSV!$D:$D)","v":0},{"$f":"SUMIF(CSV!$E:$E, H$5&$D29, CSV!$D:$D)","v":0},{"$f":"SUMIF(CSV!$E:$E, I$5&$D29, CSV!$D:$D)","v":0},{"$f":"SUMIF(CSV!$E:$E, J$5&$D29, CSV!$D:$D)","v":0}]
[null,"Jailer of Prudence","アル・タユ(L-8)",{"$f":"K20","v":"第三の聖徳"},{"$f":"SUMIF(CSV!$E:$E, E$5&$D30, CSV!$D:$D)","v":0},{"$f":"SUMIF(CSV!$E:$E, F$5&$D30, CSV!$D:$D)","v":0},{"$f":"SUMIF(CSV!$E:$E, G$5&$D30, CSV!$D:$D)","v":0},{"$f":"SUMIF(CSV!$E:$E, H$5&$D30, CSV!$D:$D)","v":0},{"$f":"SUMIF(CSV!$E:$E, I$5&$D30, CSV!$D:$D)","v":0},{"$f":"SUMIF(CSV!$E:$E, J$5&$D30, CSV!$D:$D)","v":0},"第六の聖徳"]
[null,null,null,{"$f":"K21","v":"無痴の善根"},{"$f":"SUMIF(CSV!$E:$E, E$5&$D31, CSV!$D:$D)","v":0},{"$f":"SUMIF(CSV!$E:$E, F$5&$D31, CSV!$D:$D)","v":0},{"$f":"SUMIF(CSV!$E:$E, G$5&$D31, CSV!$D:$D)","v":0},{"$f":"SUMIF(CSV!$E:$E, H$5&$D31, CSV!$D:$D)","v":0},{"$f":"SUMIF(CSV!$E:$E, I$5&$D31, CSV!$D:$D)","v":0},{"$f":"SUMIF(CSV!$E:$E, J$5&$D31, CSV!$D:$D)","v":0}]
[null,null,null,"上質なペミデ器官",{"$f":"SUMIF(CSV!$E:$E, E$5&$D32, CSV!$D:$D)","v":0},{"$f":"SUMIF(CSV!$E:$E, F$5&$D32, CSV!$D:$D)","v":0},{"$f":"SUMIF(CSV!$E:$E, G$5&$D32, CSV!$D:$D)","v":0},{"$f":"SUMIF(CSV!$E:$E, H$5&$D32, CSV!$D:$D)","v":0},{"$f":"SUMIF(CSV!$E:$E, I$5&$D32, CSV!$D:$D)","v":0},{"$f":"SUMIF(CSV!$E:$E, J$5&$D32, CSV!$D:$D)","v":0}]
[]
[]
["T3","Jailer of Love","アル・タユ(K-12)","第五の聖徳",{"$f":"SUMIF(CSV!$E:$E, E$5&$D35, CSV!$D:$D)","v":0},{"$f":"SUMIF(CSV!$E:$E, F$5&$D35, CSV!$D:$D)","v":0},{"$f":"SUMIF(CSV!$E:$E, G$5&$D35, CSV!$D:$D)","v":0},{"$f":"SUMIF(CSV!$E:$E, H$5&$D35, CSV!$D:$D)","v":0},{"$f":"SUMIF(CSV!$E:$E, I$5&$D35, CSV!$D:$D)","v":0},{"$f":"SUMIF(CSV!$E:$E, J$5&$D35, CSV!$D:$D)","v":0}]
[null,null,null,"第四の聖徳",{"$f":"SUMIF(CSV!$E:$E, E$5&$D36, CSV!$D:$D)","v":0},{"$f":"SUMIF(CSV!$E:$E, F$5&$D36, CSV!$D:$D)","v":0},{"$f":"SUMIF(CSV!$E:$E, G$5&$D36, CSV!$D:$D)","v":0},{"$f":"SUMIF(CSV!$E:$E, H$5&$D36, CSV!$D:$D)","v":0},{"$f":"SUMIF(CSV!$E:$E, I$5&$D36, CSV!$D:$D)","v":0},{"$f":"SUMIF(CSV!$E:$E, J$5&$D36, CSV!$D:$D)","v":0}]
[null,null,null,"第六の聖徳",{"$f":"SUMIF(CSV!$E:$E, E$5&$D37, CSV!$D:$D)","v":0},{"$f":"SUMIF(CSV!$E:$E, F$5&$D37, CSV!$D:$D)","v":0},{"$f":"SUMIF(CSV!$E:$E, G$5&$D37, CSV!$D:$D)","v":0},{"$f":"SUMIF(CSV!$E:$E, H$5&$D37, CSV!$D:$D)","v":0},{"$f":"SUMIF(CSV!$E:$E, I$5&$D37, CSV!$D:$D)","v":0},{"$f":"SUMIF(CSV!$E:$E, J$5&$D37, CSV!$D:$D)","v":0}]
[]
[null,null,null,"溺愛の情念",{"$f":"SUMIF(CSV!$E:$E, E$5&$D39, CSV!$D:$D)","v":0},{"$f":"SUMIF(CSV!$E:$E, F$5&$D39, CSV!$D:$D)","v":0},{"$f":"SUMIF(CSV!$E:$E, G$5&$D39, CSV!$D:$D)","v":0},{"$f":"SUMIF(CSV!$E:$E, H$5&$D39, CSV!$D:$D)","v":0},{"$f":"SUMIF(CSV!$E:$E, I$5&$D39, CSV!$D:$D)","v":0},{"$f":"SUMIF(CSV!$E:$E, J$5&$D39, CSV!$D:$D)","v":0}]
[null,null,null,"ノーヴィオピアス",{"$f":"SUMIF(CSV!$E:$E, E$5&$D40, CSV!$D:$D)","v":0},{"$f":"SUMIF(CSV!$E:$E, F$5&$D40, CSV!$D:$D)","v":0},{"$f":"SUMIF(CSV!$E:$E, G$5&$D40, CSV!$D:$D)","v":0},{"$f":"SUMIF(CSV!$E:$E, H$5&$D40, CSV!$D:$D)","v":0},{"$f":"SUMIF(CSV!$E:$E, I$5&$D40, CSV!$D:$D)","v":0},{"$f":"SUMIF(CSV!$E:$E, J$5&$D40, CSV!$D:$D)","v":0}]

{"sheet":"ログ","index":9,"n_rows":5,"n_cols":5,"rows_kept":5,"cut":false,"hidden":false,"merged":[]}
[]
[]
[]
[]
["キャラ名","アイテム","セル","エラー","オーグメント"]

{"sheet":"Char6","index":10,"n_rows":0,"n_cols":0,"rows_kept":0,"cut":false,"hidden":false,"merged":[]}

{"sheet":"Char5","index":11,"n_rows":0,"n_cols":0,"rows_kept":0,"cut":false,"hidden":false,"merged":[]}

{"sheet":"Char4","index":12,"n_rows":0,"n_cols":0,"rows_kept":0,"cut":false,"hidden":false,"merged":[]}

{"sheet":"Char3","index":13,"n_rows":0,"n_cols":0,"rows_kept":0,"cut":false,"hidden":false,"merged":[]}

{"sheet":"Char2","index":14,"n_rows":0,"n_cols":0,"rows_kept":0,"cut":false,"hidden":false,"merged":[]}

{"sheet":"Char1","index":15,"n_rows":0,"n_cols":0,"rows_kept":0,"cut":false,"hidden":false,"merged":[]}

{"sheet":"CSV","index":16,"n_rows":0,"n_cols":0,"rows_kept":0,"cut":false,"hidden":false,"merged":[]}

{"sheet":"tmp","index":17,"n_rows":659,"n_cols":1,"rows_kept":659,"cut":false,"hidden":true,"merged":[]}
[]
[]
[]
[]
["sets.exported={"]
["item=\"リフトドロス\","]
["item=\"モグチケット【銀】\","]
["item=\"リフトシンダー\","]
["waist=\"ニヌルタサッシュ\","]
["item=\"モグチケット【金】\","]
["item=\"忘れ去られた感触\","]
["item=\"ファイアカード\","]
["item=\"リンクパール\","]
["item=\"銀糸\","]
["item=\"紙兵\","]
["item=\"フリギアインゴット\","]
["left_ring={ name=\"イオタリング\", augments={'INT+5','System: 1 ID: 131 Val: 6','\"Fast Cast\"+4','Haste+3',}},"]
["left_ring={ name=\"オメガリング\", augments={'INT+5','System: 1 ID: 131 Val: 6','\"Fast Cast\"+4','Haste+3',}},"]
["item=\"モグチケット【盟】\","]
["item=\"結晶素\","]
["left_ring=\"皇帝の指輪\","]
["item=\"バルラーンの眼帯\","]
["item=\"毒消し\","]
["hands=\"シケットゲージ\","]
["item=\"龍の心臓\","]
["sub=\"ホフド\","]
["left_ring=\"アニバーサリリング\","]
["item=\"やまびこ薬\","]
["neck=\"ジュエルドカラー\","]
["legs=\"ネブラスロップス\","]
["sub=\"ヒッコリーシールド\","]
["item=\"モグチケット【赤】\","]
["ammo=\"モグのへそくり\","]
["hands=\"ネブラカフス\","]
["hands=\"ネブラカフス\","]
["item=\"ダークカード\","]
["item=\"ライトカード\","]
["hands={ name=\"ハイドラブレーサー\", augments={'INT+5','System: 1 ID: 131 Val: 6','\"Fast Cast\"+4','Haste+3',}},"]
["item=\"珊瑚のかけら\","]
["head=\"破甲鉢巻\","]
["left_ear=\"アクアパール\","]
["left_ear=\"アクアパール\","]
["left_ear=\"アクアパール\","]
["left_ear=\"アクアパール\","]
["legs=\"アントワトラウザ\","]
["left_ear=\"ベイルピアス\","]
["hands=\"ワイルドゲージ\","]
["main=\"ソウルスカージ\","]
["item=\"モグチケット【虹】\","]
["main=\"ナイトフォール\","]
["item=\"絹糸\","]
["waist=\"アカースドベルト\","]
["item=\"忘れ去られた感触\","]
["item=\"獣人古銭\","]
["item=\"獣人古銭\","]
["main=\"王国儀仗\","]
["item=\"ギル\","]
["item=\"スピネット\","]
["item=\"セカンアプタント\","]
["head=\"パンプキンヘッド\","]
["head=\"ホラーヘッド\","]
["body=\"ポロッゴコート\","]
["item=\"大公国旗\","]
["item=\"天球儀\","]
["left_ear=\"ステラピアス\","]
["ammo=\"スノーサシェ\","]
["ammo=\"ライトサシェ\","]
["head=\"アルシドキャップ\","]
["head=\"アルシドキャップ\","]
["item=\"コバルト鉱\","]
["head={ name=\"アルシドキャップ\", augments={'Delay:-2',}},"]
["head={ name=\"ネブラハット\", augments={'AGI+8','Fire Affinity: Avatar perp. cost+4','Weapon skill damage +4%','System: 1 ID: 131 Val: 7',}},"]
["item=\"ヘリアンアプタント\","]
["body=\"ネブラウプランド\","]
["item=\"ブックシェルフ\","]
["item=\"ペーラアプタント\","]
["hands=\"ＰＥムフル+1\","]
["item=\"ブックシェルフ\","]
["hands=\"ウェーブゲージ\","]
["hands=\"ウィールドゲージ\","]
["item=\"ブックシェルフ\","]
["item=\"ブックシェルフ\","]
["item=\"フェストアプタント\","]
["legs=\"ネムスシャルバル\","]
["item=\"アエクスアプタント\","]
["feet={ name=\"ＰＥソルレ+1\", augments={'STR+6','DMG:+2','Weapon skill damage +3%','Sklchn.dmg.+5%',}},"]
["feet=\"アルシドレギンス\","]
["feet=\"アルシドレギンス\","]
["item=\"ルスゾルの革\","]
["item=\"カンブリック\","]
["item=\"ウォルフラム鋼\","]
["waist=\"アクアベルト\","]
["back=\"エロカンスケープ\","]
["item=\"ルスゾルの皮\","]
["item=\"シンチレーター\","]
["item=\"血糸\","]
["item=\"イスヒスアプタント\","]
["item=\"緋麻布\","]
["item=\"サーセネット織物\","]
["item=\"ラバーグローブ\","]
["item=\"オイルクロス\","]
["item=\"ギガースヘルム\","]
["item=\"エボンピグメント\","]
["item=\"フリアピグメント\","]
["item=\"エブルピグメント\","]
["ammo={ name=\"アクアサシェ\", augments={'MND+6','Fire resistance+10 Ice resistance+10 Wind resistance+10 Earth resistance+10 Lightning resistance+10 Water resistance+10 Light resistance+10 Dark resistance+10','Occ. inc. resist. to stat. ailments +10','\"Mag.Def.Bns.\"+3',}},"]
["head=\"ＢＬバーゴネット+2\","]
["head=\"アルシドキャップ\","]
["head=\"ローレルリース\","]
["head=\"スプラウトベレー\","]
["head=\"デストリアヘッド\","]
["head=\"クポマスク\","]
["body={ name=\"真伊賀忍着\", augments={'STR+7 DEX+7','DMG:+3','Weapon skill damage +4%','\"Triple Atk.\"+4',}},"]
["main=\"クワ\","]
["left_ring={ name=\"バリアブルリング\", augments={'INT+2','\"Fast Cast\"+2','Haste+2','System: 1 ID: 131 Val: 1',}},"]
["left_ring={ name=\"バリアブルリング\", augments={'INT+2','\"Fast Cast\"+2','Haste+2','System: 1 ID: 131 Val: 1',}},"]
["range=\"ストリンガー\","]
["ammo={ name=\"ルブリカント+1\", augments={'Attack+10','\"Dbl.Atk.\"+1','Pet: Mag. Acc.+4 Pet: \"Mag.Atk.Bns.\"+4','Pet: \"Dbl.Atk.\"+4 Pet: Crit.hit rate +4',}},"]
["body={ name=\"アルシドハーネス\", augments={'DEX+5 AGI+5','Enmity+10','Evasion+15','HP+20',}},"]
["body=\"アルシドハーネス\","]
["left_ring=\"タマスリング\","]
["left_ring=\"サットヴァリング\","]
["back={ name=\"レッドケープ\", augments={'\"Fast Cast\"+2','Haste+2','INT+4','System: 1 ID: 131 Val: 5',}},"]
["left_ear={ name=\"ゴールドピアス\", augments={'\"Fast Cast\"+2','Haste+2','INT+4','System: 1 ID: 131 Val: 5',}},"]
["left_ear={ name=\"ゴールドピアス\", augments={'\"Fast Cast\"+2','Haste+2','INT+4','System: 1 ID: 131 Val: 5',}},"]
["body=\"デストリアスーツ\","]
["hands=\"ネムスバズバンド\","]
["legs={ name=\"ＢＬフランチャー+2\", augments={'STR+6','DMG:+2','Weapon skill damage +3%','Sklchn.dmg.+5%',}},"]
["item=\"コロモヅモの紋皮\","]
["left_ring={ name=\"ゴールドリング\", augments={'\"Fast Cast\"+2','Haste+2','INT+4','System: 1 ID: 131 Val: 5',}},"]
["left_ring={ name=\"ゴールドリング\", augments={'\"Fast Cast\"+2','Haste+2','INT+4','System: 1 ID: 131 Val: 5',}},"]
["feet=\"アルシドレギンス\","]
["neck=\"オネイロストルク\","]
["waist=\"サンダーベルト\","]
["back=\"エザンスマント+1\","]
["back=\"ビジランスマント\","]
["back=\"ビジランスマント\","]
["body={ name=\"王国従士長衣+1\", augments={'\"Fast Cast\"+2','Haste+2','INT+4','System: 1 ID: 131 Val: 5',}},"]
["back=\"ビジランスマント\","]
["head={ name=\"コルセアハット\", augments={'\"Fast Cast\"+2','Haste+2','INT+4','System: 1 ID: 131 Val: 5',}},"]
["left_ring=\"ラジャスリング\","]
["back=\"メタロンマント\","]
["neck=\"孔雀経の護符\","]
["left_ring=\"ウッズマンリング\","]
["back=\"リベッチョマント\","]
["left_ear=\"オネイロスピアス\","]
["head={ name=\"カカイヘッド\", augments={'Evasion+6','System: 1 ID: 129 Val: 16','System: 1 ID: 132 Val: 1','\"Mag.Def.Bns.\"+5',}},"]
["neck={ name=\"モブワスカーフ\", augments={'INT+2','\"Fast Cast\"+2','Haste+2','System: 1 ID: 131 Val: 1',}},"]
["neck={ name=\"クレイアミュレット\", augments={'\"Fast Cast\"+2','Haste+2','INT+4','System: 1 ID: 131 Val: 5',}},"]
["main=\"王国儀仗\","]
["item=\"レッドドロップ\","]
["item=\"レッドドロップ\","]
["item=\"レッドドロップ\","]
["head=\"ＰＥサラド+1\","]
["head=\"モルボルキャップ\","]
["body=\"ＰＥオーベール+1\","]
["body=\"ＢＬキュイラス+2\","]
["head=\"フランマスク\","]
["hands=\"ＢＬガントレット+2\","]
["body=\"伐折羅明光鎧\","]
["legs=\"ＰＥブレエット+1\","]
["feet=\"ＢＬソルレット+2\","]
["back=\"ストレンドゥマント\","]
["item=\"ベヒーモスの毛皮\","]
["item=\"ベヒーモスなめし革\","]
["item=\"亜麻糸\","]
["left_ear=\"スライムピアス\","]
["item=\"互助会引換券・銅\","]
["item=\"クーポンA-Lum\","]
["item=\"互助会引換券・銅\","]
["item=\"互助会引換券・銅\","]
["item=\"互助会引換券・銅\","]
["item=\"互助会引換券・銅\","]
["item=\"互助会引換券・銅\","]
["item=\"互助会引換券・銅\","]
["item=\"互助会引換券・銅\","]
["item=\"魔人印章\","]
["item=\"魔王印章\","]
["item=\"互助会引換券・銅\","]
["item=\"万魔殿の鍵\","]
["item=\"きらめきの小瓶\","]
["item=\"魔神印章\","]
["item=\"ヘヴィメタル\","]
["item=\"レッドドロップ\","]
["item=\"レッドドロップ\","]
["item=\"クーポンW-E90\","]
["item=\"ヘヴィメタル\","]
["item=\"レッドドロップ\","]
["item=\"互助会引換券・銅\","]
["item=\"レッドドロップ\","]
["item=\"レッドドロップ\","]
["item=\"レッドドロップ\","]
["item=\"レッドドロップ\","]
["item=\"ヘヴィメタル\","]
["item=\"ヘヴィメタル\","]
["item=\"互助会引換券・銅\","]
["item=\"ヘヴィメタル\","]
["item=\"鋼鉄の鎧板\","]
["item=\"ゴラホＭチップ\","]
["item=\"アレキサンドライト\","]
["head=\"オネイロスヘルム\","]
["left_ring=\"オネイロスアヌレ\","]
["item=\"きらめきの小瓶\","]
["item=\"きらめきの小瓶\","]
["item=\"ヘヴィメタル\","]
["item=\"ヘヴィメタル\","]
["item=\"互助会引換券・銅\","]
["item=\"ヘヴィメタル\","]
["item=\"ポーチ【Ｖ．Ｓ．】\","]
["item=\"トリックダイス\","]
["item=\"祈祷師のニンニク\","]
["item=\"モグの預り帳【14】\","]
["item=\"モグの預り帳【01】\","]
["item=\"クーポンW-Pulse\","]
["item=\"モグの預り帳【06】\","]
["ammo=\"オベロンブレット\","]
["range=\"オウレオール\","]
["item=\"クーポンW-Pulse\","]
["item=\"リングキャンデー\","]
["item=\"リングキャンデー\","]
["item=\"カリス型紙：脚\","]
["item=\"アルタナムルスム\","]
["item=\"リングキャンデー\","]
["item=\"魔王印章\","]
["item=\"やまびこ薬\","]
["ammo=\"アントリオンアロー\","]
["item=\"クーポンW-Job\","]
["item=\"魔人印章\","]
["item=\"やまびこ薬\","]
["item=\"やまびこ薬\","]
["item=\"獣人印章\","]
["item=\"獣神印章\","]
["item=\"真冬の夜の夢\","]
["item=\"胴乱【オベロン】\","]
["item=\"ダークカード\","]
["item=\"クーポンW-E90\","]
["item=\"モグの預り帳【09】\","]
["item=\"レープクーヘン\","]
["item=\"セルビナミルク\","]
["item=\"イエロードロップ\","]
["item=\"ミーゴ風海の幸串焼\","]
["item=\"サイレントオイル\","]
["item=\"魔神印章\","]
["item=\"ブラッディチョコ\","]
["item=\"ヘヴィメタル\","]
["item=\"アルタナムルスム\","]
["item=\"毒消し\","]
["item=\"ルミニアン組織\","]
["item=\"アルタナムルスム\","]
["item=\"真冬の夜の夢\","]
["item=\"真冬の夜の夢\","]
["item=\"ターキーロースト\","]
["item=\"ターキーロースト\","]
["item=\"クーポンW-EMI\","]
["item=\"ルミニアン組織\","]
["item=\"アーン器官\","]
["item=\"コットンキャンディ\","]
["item=\"ファイアカード\","]
["item=\"モルボルカフェラテ\","]
["item=\"ルミニオンチップ\","]
["item=\"フェリン型紙：手\","]
["item=\"真冬の夜の夢\","]
["item=\"ヨヴラ器官\","]
["item=\"ステッキキャンデー\","]
["item=\"ルミニオンチップ\","]
["item=\"セルビナミルク\","]
["item=\"聖水\","]
["feet=\"セルペンテスサボ\","]
["item=\"クーポンW-Job\","]
["left_ear=\"ノーヴィアピアス\","]
["left_ring=\"ストレンドゥリング\","]
["left_ear=\"スノーパール\","]
["item=\"リングキャンデー\","]
["left_ring=\"大公親衛隊制式指輪\","]
["item=\"神楯の欠片\","]
["ammo=\"アントリオンアロー\","]
["item=\"忍だすき【紙兵】\","]
["item=\"リングキャンデー\","]
["neck=\"ガネーシャマーラー\","]
["waist=\"ライトベルト\","]
["legs=\"ポーテントパンツ\","]
["legs=\"ＣＭトルーズ+2\","]
["item=\"胴乱【鋼】\","]
["item=\"第一の聖徳\","]
["body=\"ＣＭフラック+2\","]
["item=\"第一の聖徳\","]
["item=\"上質なペミデ器官\","]
["item=\"上質なユブヒ器官\","]
["item=\"貪欲の毒悪\","]
["item=\"粗目糖\","]
["item=\"氷のクリスタル\","]
["item=\"闇のクリスタル\","]
["item=\"風のクリスタル\","]
["item=\"風の塊\","]
["item=\"闇のクリスタル\","]
["item=\"土の塊\","]
["item=\"水のクリスタル\","]
["item=\"光のクリスタル\","]
["item=\"炎の塊\","]
["left_ear=\"フリギアピアス\","]
["item=\"光の塊\","]
["left_ear=\"フリギアピアス\","]
["item=\"炎の塊\","]
["item=\"風の塊\","]
["item=\"土の塊\","]
["item=\"土の塊\","]
["item=\"雷の塊\","]
["item=\"雷の塊\","]
["item=\"水の塊\","]
["item=\"炎の塊\","]
["item=\"炎の塊\","]
["item=\"闇の塊\","]
["item=\"炎の塊\","]
["item=\"風の塊\","]
["item=\"水の塊\","]
["item=\"光の塊\","]
["item=\"光の塊\","]
["item=\"闇の塊\","]
["item=\"闇の塊\","]
["item=\"土の塊\","]
["item=\"雷の塊\","]
["item=\"水の塊\","]
["item=\"光の塊\","]
["item=\"水のクリスタル\","]
["item=\"闇の塊\","]
["item=\"闇のクリスタル\","]
["item=\"土の塊\","]
["item=\"水の塊\","]
["item=\"光の塊\","]
["item=\"闇の塊\","]
["item=\"闇の塊\","]
["item=\"雷の塊\","]
["item=\"炎の塊\","]
["item=\"ファイアカード\","]
["item=\"炎の塊\","]
["item=\"土のクリスタル\","]
["item=\"アースカード\","]
["item=\"風の塊\","]
["item=\"風の塊\","]
["item=\"雷の塊\","]
["item=\"イエロームートン\","]
["item=\"土の塊\","]
["item=\"光の塊\","]
["item=\"水の塊\","]
["item=\"闇の塊\","]
["item=\"土の塊\","]
["item=\"パナケイア\","]
["item=\"炎の塊\","]
["item=\"アダマンインゴット\","]
["item=\"雷の塊\","]
["item=\"水の塊\","]
["item=\"光の塊\","]
["item=\"風の塊\","]
["item=\"雷の塊\","]
["item=\"風の塊\","]
["item=\"闇の塊\","]
["item=\"光の塊\","]
["item=\"闇の塊\","]
["neck=\"フェイストルク\","]
["item=\"土の塊\","]
["item=\"水の塊\","]
["legs={ name=\"ＣＣパンタローニ+2\", augments={'\"Refresh\"+2','Pet: STR+10 Pet: DEX+10 Pet: VIT+10','Pet: Acc.+20 Pet: R.Acc.+20 Pet: Atk.+20 Pet: R.Atk.+20','Pet: \"Dbl.Atk.\"+6 Pet: Crit.hit rate +6',}},"]
["feet={ name=\"ＣＣスカルペ+2\", augments={'\"Refresh\"+2','Pet: STR+10 Pet: DEX+10 Pet: VIT+10','Pet: Acc.+20 Pet: R.Acc.+20 Pet: Atk.+20 Pet: R.Atk.+20','Pet: \"Dbl.Atk.\"+6 Pet: Crit.hit rate +6',}},"]
["sub=\"コンコーディア\","]
["head=\"ネムスクード\","]
["sub=\"クラーケンクラブ\","]
["feet={ name=\"ネムスネール\", augments={'STR+5 DEX+5','DMG:+2','Latent effect: \"Regain\"+10','Quadruple Attack +1',}},"]
["left_ring={ name=\"結氷の指輪\", augments={'AGI+6','Fire Affinity: Avatar perp. cost+4','Weapon skill damage +3%','System: 1 ID: 131 Val: 5',}},"]
["head={ name=\"ＣＣカペッロ+2\", augments={'\"Refresh\"+2','Pet: STR+10 Pet: DEX+10 Pet: VIT+10','Pet: Acc.+20 Pet: R.Acc.+20 Pet: Atk.+20 Pet: R.Atk.+20','Pet: \"Dbl.Atk.\"+6 Pet: Crit.hit rate +6',}},"]
["ammo={ name=\"ハッピーエッグ\", augments={'DMG:+4','Haste+4','System: 1 ID: 132 Val: 3','\"Store TP\"+4 \"Subtle Blow\"+4',}},"]
["head={ name=\"カービーキャップ\", augments={'HP+33','Fire Affinity: Avatar perp. cost','Ice resistance+1','Latent effect: \"Regain\"+5',}},"]
["hands={ name=\"ＣＣグアンティ+2\", augments={'\"Refresh\"+2','Pet: STR+10 Pet: DEX+10 Pet: VIT+10','Pet: Acc.+20 Pet: R.Acc.+20 Pet: Atk.+20 Pet: R.Atk.+20','Pet: \"Dbl.Atk.\"+6 Pet: Crit.hit rate +6',}},"]
["hands={ name=\"ＣＬブレーサー+2\", augments={'\"Refresh\"+2','\"Blood Pact\" ability delay -3','Pet: Mag. Acc.+20 Pet: \"Mag.Atk.Bns.\"+20','Wind resistance+8',}},"]
["neck=\"アパシーゴルゲット\","]
["waist=\"シャドウベルト\","]
["waist=\"クルデリスベルト\","]
["ammo={ name=\"ルブリカント+3\", augments={'\"Refresh\"+2','Pet: STR+10 Pet: DEX+10 Pet: VIT+10','Pet: Acc.+20 Pet: R.Acc.+20 Pet: Atk.+20 Pet: R.Atk.+20','Pet: \"Dbl.Atk.\"+6 Pet: Crit.hit rate +6',}},"]
["neck={ name=\"アガサヤカラー\", augments={'\"Refresh\"+2','Pet: STR+10 Pet: DEX+10 Pet: VIT+10','Pet: Acc.+20 Pet: R.Acc.+20 Pet: Atk.+20 Pet: R.Atk.+20','Pet: \"Dbl.Atk.\"+6 Pet: Crit.hit rate +6',}},"]
["legs={ name=\"ＣＬスパッツ+2\", augments={'\"Refresh\"+2','\"Blood Pact\" ability delay -3','Pet: Mag. Acc.+20 Pet: \"Mag.Atk.Bns.\"+20','Wind resistance+8',}},"]
["range={ name=\"ターボストリンガー\", augments={'Attack+10','\"Dbl.Atk.\"+1','Pet: Mag. Acc.+4 Pet: \"Mag.Atk.Bns.\"+4','Pet: \"Dbl.Atk.\"+4 Pet: Crit.hit rate +4',}},"]
["feet={ name=\"ＣＬピガッシュ+2\", augments={'\"Refresh\"+2','\"Blood Pact\" ability delay -3','Pet: Mag. Acc.+20 Pet: \"Mag.Atk.Bns.\"+20','Wind resistance+8',}},"]
["left_ring={ name=\"オネイロスリング\", augments={'\"Refresh\"+2','Pet: STR+10 Pet: DEX+10 Pet: VIT+10','Pet: Acc.+20 Pet: R.Acc.+20 Pet: Atk.+20 Pet: R.Atk.+20','Pet: \"Dbl.Atk.\"+6 Pet: Crit.hit rate +6',}},"]
["waist={ name=\"ディアボロスロープ\", augments={'\"Refresh\"+2','\"Blood Pact\" ability delay -3','Pet: Mag. Acc.+20 Pet: \"Mag.Atk.Bns.\"+20','Wind resistance+8',}},"]
["range={ name=\"ストリンガーＤＸ\", augments={'\"Refresh\"+2','Pet: STR+10 Pet: DEX+10 Pet: VIT+10','Pet: Acc.+20 Pet: R.Acc.+20 Pet: Atk.+20 Pet: R.Atk.+20','Pet: \"Dbl.Atk.\"+6 Pet: Crit.hit rate +6',}},"]
["body={ name=\"ＰＮトベ+2\", augments={'\"Refresh\"+2','Pet: STR+10 Pet: DEX+10 Pet: VIT+10','Pet: Acc.+20 Pet: R.Acc.+20 Pet: Atk.+20 Pet: R.Atk.+20','Pet: \"Dbl.Atk.\"+6 Pet: Crit.hit rate +6',}},"]
["main={ name=\"乾坤圏\", augments={'\"Refresh\"+2','Pet: STR+10 Pet: DEX+10 Pet: VIT+10','Pet: Acc.+20 Pet: R.Acc.+20 Pet: Atk.+20 Pet: R.Atk.+20','Pet: \"Dbl.Atk.\"+6 Pet: Crit.hit rate +6',}},"]
["body={ name=\"ＣＬダブレット+2\", augments={'\"Refresh\"+2','\"Blood Pact\" ability delay -3','Pet: Mag. Acc.+20 Pet: \"Mag.Atk.Bns.\"+20','Wind resistance+8',}},"]
["head={ name=\"ＣＬホーン+2\", augments={'\"Refresh\"+2','\"Blood Pact\" ability delay -3','Pet: Mag. Acc.+20 Pet: \"Mag.Atk.Bns.\"+20','Wind resistance+8',}},"]
["feet=\"ＣＣスカルペ+1\","]
["left_ear={ name=\"サンダーパール\", augments={'\"Refresh\"+2','Pet: STR+10 Pet: DEX+10 Pet: VIT+10','Pet: Acc.+20 Pet: R.Acc.+20 Pet: Atk.+20 Pet: R.Atk.+20','Pet: \"Dbl.Atk.\"+6 Pet: Crit.hit rate +6',}},"]
["body={ name=\"アンフルローブ\", augments={'INT+5','System: 1 ID: 131 Val: 6','\"Fast Cast\"+4','Haste+3',}},"]
["main={ name=\"クラウストルム\", augments={'\"Refresh\"+2','\"Blood Pact\" ability delay -3','Pet: Mag. Acc.+20 Pet: \"Mag.Atk.Bns.\"+20','Wind resistance+8',}},"]
["left_ear={ name=\"ギフトピアス\", augments={'\"Refresh\"+2','\"Blood Pact\" ability delay -3','Pet: Mag. Acc.+20 Pet: \"Mag.Atk.Bns.\"+20','Wind resistance+8',}},"]
["neck={ name=\"コーラーペンダント\", augments={'\"Refresh\"+2','\"Blood Pact\" ability delay -3','Pet: Mag. Acc.+20 Pet: \"Mag.Atk.Bns.\"+20','Wind resistance+8',}},"]
["feet={ name=\"ラストラムパンプス\", augments={'INT+4','System: 1 ID: 131 Val: 5','\"Fast Cast\"+4','Haste+2',}},"]
["left_ear={ name=\"サンダーパール\", augments={'\"Refresh\"+2','Pet: STR+10 Pet: DEX+10 Pet: VIT+10','Pet: Acc.+20 Pet: R.Acc.+20 Pet: Atk.+20 Pet: R.Atk.+20','Pet: \"Dbl.Atk.\"+6 Pet: Crit.hit rate +6',}},"]
["left_ring={ name=\"迅雷の指輪\", augments={'\"Refresh\"+2','Pet: STR+10 Pet: DEX+10 Pet: VIT+10','Pet: Acc.+20 Pet: R.Acc.+20 Pet: Atk.+20 Pet: R.Atk.+20','Pet: \"Dbl.Atk.\"+6 Pet: Crit.hit rate +6',}},"]
["waist={ name=\"ブルウィップベルト\", augments={'\"Refresh\"+2','Pet: STR+10 Pet: DEX+10 Pet: VIT+10','Pet: Acc.+20 Pet: R.Acc.+20 Pet: Atk.+20 Pet: R.Atk.+20','Pet: \"Dbl.Atk.\"+6 Pet: Crit.hit rate +6',}},"]
["back={ name=\"エロカンスケープ\", augments={'\"Refresh\"+2','Pet: STR+10 Pet: DEX+10 Pet: VIT+10','Pet: Acc.+20 Pet: R.Acc.+20 Pet: Atk.+20 Pet: R.Atk.+20','Pet: \"Dbl.Atk.\"+6 Pet: Crit.hit rate +6',}},"]
["left_ear={ name=\"ロケイシャスピアス\", augments={'INT+5','System: 1 ID: 131 Val: 6','\"Fast Cast\"+4','Haste+3',}},"]
["ammo={ name=\"ラッキーエッグ\", augments={'HP+20 MP+20','DMG:+4','INT+5 MND+5 CHR+5','STR+5 DEX+5',}},"]
["left_ring={ name=\"宵闇の指輪\", augments={'\"Refresh\"+2','\"Blood Pact\" ability delay -3','Pet: Mag. Acc.+20 Pet: \"Mag.Atk.Bns.\"+20','Wind resistance+8',}},"]
["sub={ name=\"ヴォックスグリップ\", augments={'\"Refresh\"+2','\"Blood Pact\" ability delay -3','Pet: Mag. Acc.+20 Pet: \"Mag.Atk.Bns.\"+20','Wind resistance+8',}},"]
["left_ear={ name=\"コーラーピアス\", augments={'\"Refresh\"+2','\"Blood Pact\" ability delay -3','Pet: Mag. Acc.+20 Pet: \"Mag.Atk.Bns.\"+20','Wind resistance+8',}},"]
["back={ name=\"エバリエントケープ\", augments={'\"Refresh\"+2','\"Blood Pact\" ability delay -3','Pet: Mag. Acc.+20 Pet: \"Mag.Atk.Bns.\"+20','Wind resistance+8',}},"]
["left_ring={ name=\"宵闇の指輪\", augments={'\"Refresh\"+2','\"Blood Pact\" ability delay -3','Pet: Mag. Acc.+20 Pet: \"Mag.Atk.Bns.\"+20','Wind resistance+8',}},"]
["main={ name=\"ニルヴァーナ\", augments={'\"Refresh\"+2','Pet: STR+10 Pet: DEX+10 Pet: VIT+10','Pet: Acc.+20 Pet: R.Acc.+20 Pet: Atk.+20 Pet: R.Atk.+20','Pet: \"Dbl.Atk.\"+6 Pet: Crit.hit rate +6',}},"]
["head={ name=\"ＳＭホーン+2\", augments={'VIT+6','HP+20','Latent effect: \"Regain\"+10','Occ. inc. resist. to stat. ailments +10',}},"]
["ammo={ name=\"クラルスストーン\", augments={'\"Refresh\"+2','\"Blood Pact\" ability delay -3','Pet: Mag. Acc.+20 Pet: \"Mag.Atk.Bns.\"+20','Wind resistance+8',}},"]
["body={ name=\"ＳＭダブレット+2\", augments={'VIT+6','HP+20','Latent effect: \"Regain\"+10','Occ. inc. resist. to stat. ailments +10',}},"]
["hands={ name=\"ＳＭブレーサー+2\", augments={'VIT+6','HP+20','Latent effect: \"Regain\"+10','Occ. inc. resist. to stat. ailments +10',}},"]
["legs={ name=\"ＳＭスパッツ+2\", augments={'VIT+6','HP+20','Latent effect: \"Regain\"+10','Occ. inc. resist. to stat. ailments +10',}},"]
["feet={ name=\"ＳＭピガッシュ+2\", augments={'VIT+6','HP+20','Latent effect: \"Regain\"+10','Occ. inc. resist. to stat. ailments +10',}},"]
["left_ring=\"ルザフリング\","]
["body=\"スプリガンコートＰ\","]
["sub=\"オネイロスグリップ\","]
["main=\"ピッチフォーク+1\","]
["head=\"ボムマスク\","]
["head=\"ボムマスク+1\","]
["sub=\"エクスカリパー\","]
["sub=\"エクスカリパーII\","]
["ammo=\"マーヴィタスラム\","]
["sub={ name=\"ガトラー\", augments={'Pet: \"Regen\"+4','Pet: Damage taken -4%','Pet: Mag. Acc.+7 Pet: \"Mag.Atk.Bns.\"+7','Pet: TP Bonus+60',}},"]
["head=\"コローラ\","]
["left_ear=\"ブルタルピアス\","]
["left_ring=\"グリフィンリング\","]
["item=\"ラストエリクサー\","]
["item=\"ウォルフラム鋼\","]
["left_ring=\"スパイラルリング\","]
["left_ring=\"夢神の指輪\","]
["left_ear={ name=\"胡蝶のイヤリング\", augments={'Attack+4','TP Bonus +250',}},"]
["neck=\"カラクトチョーカー\","]
["hands={ name=\"デナリリスト\", augments={'VIT+3','DEF+15','HP+10','Occ. inc. resist. to stat. ailments +10',}},"]
["left_ear=\"サバントピアス\","]
["main=\"ロスシックル\","]
["main=\"正宗\","]
["sub={ name=\"アイムール\", augments={'Pet: \"Regen\"+4','Pet: Damage taken -4%','Pet: Mag. Acc.+7 Pet: \"Mag.Atk.Bns.\"+7','Pet: TP Bonus+60',}},"]
["head=\"トワイライトヘルム\","]
["head=\"真雲海烏帽子形兜\","]
["body=\"真雲海胴丸\","]
["body={ name=\"トワイライトメイル\", augments={'STR+8','DMG:+3','Weapon skill damage +4%','Sklchn.dmg.+10%',}},"]
["hands=\"真雲海筒篭手\","]
["legs=\"真雲海板佩楯\","]
["feet=\"真雲海筒脛当\","]
["back=\"雲海菅蓑\","]
["item=\"ターキーロースト\","]
["item=\"ターキーロースト\","]
["item=\"リングキャンデー\","]
["item=\"リングキャンデー\","]
["item=\"ステッキキャンデー\","]
["item=\"ステッキキャンデー\","]
["item=\"ステッキキャンデー\","]
["item=\"ステッキキャンデー\","]
["body={ name=\"クリムゾンスケイル\", augments={'VIT+3','DEF+15','HP+10','Occ. inc. resist. to stat. ailments +10',}},"]
["main=\"布都御魂\","]
["sub=\"アンタレス\","]
["main=\"エンフォーサー\","]
["sub={ name=\"ベルスナイフ+1\", augments={'AGI+8','Fire Affinity: Avatar perp. cost+4','Weapon skill damage +4%','System: 1 ID: 131 Val: 7',}},"]
["hands={ name=\"真伊賀手甲\", augments={'DEX+7 AGI+7','DMG:+3','Weapon skill damage +4%','System: 1 ID: 132 Val: 3',}},"]
["sub={ name=\"神無\", augments={'STR+7 DEX+7','DMG:+3','Weapon skill damage +4%','\"Triple Atk.\"+4',}},"]
["sub=\"メルクリウスクリス\","]
["head={ name=\"真甲賀半首\", augments={'DEX+7 AGI+7','Enmity+15','Evasion+20','HP+30',}},"]
["head=\"ノクターヌスヘルム\","]
["sub={ name=\"神無\", augments={'STR+7 DEX+7','DMG:+3','Weapon skill damage +4%','\"Triple Atk.\"+4',}},"]
["body=\"ノクターヌスメイル\","]
["main=\"アポカリプス\","]
["range={ name=\"キラーショートボウ\", augments={'STR+8','DMG:+3','Weapon skill damage +4%','Sklchn.dmg.+10%',}},"]
["hands={ name=\"サバンナゲージ\", augments={'Occ. inc. resist. to stat. ailments +10','\"Treasure Hunter\"+1',}},"]
["legs={ name=\"ヘイヴンホーズ\", augments={'Occ. inc. resist. to stat. ailments +10','\"Treasure Hunter\"+1',}},"]
["legs=\"ジェットサラウィル\","]
["waist={ name=\"まほろばの帯\", augments={'Occ. inc. resist. to stat. ailments +10','\"Treasure Hunter\"+1',}},"]
["left_ear={ name=\"ジュピターパール\", augments={'STR+7 DEX+7','DMG:+3','Weapon skill damage +4%','\"Triple Atk.\"+4',}},"]
["left_ear={ name=\"ジュピターパール\", augments={'STR+7 DEX+7','DMG:+3','Weapon skill damage +4%','\"Triple Atk.\"+4',}},"]
["sub=\"アークセイバー\","]
["legs={ name=\"真甲賀袴\", augments={'DEX+5 AGI+5','DMG:+2','Weapon skill damage +3%','System: 1 ID: 132 Val: 1',}},"]
["body=\"トワイライトプリス\","]
["hands={ name=\"真甲賀手甲\", augments={'DEX+7 AGI+7','Enmity+15','Evasion+20','HP+30',}},"]
["body=\"ミキストリハーネス\","]
["legs={ name=\"真伊賀袴\", augments={'DEX+7 AGI+7','Enmity+15','Evasion+20','HP+30',}},"]
["legs={ name=\"ＡＵブレー+1\", augments={'DEX+8','DMG:+3','Weapon skill damage +4%','Crit. hit damage +3%',}},"]
["head={ name=\"真伊賀頭巾\", augments={'MND+8','Fire resistance+20 Ice resistance+20 Wind resistance+20 Earth resistance+20 Lightning resistance+20 Water resistance+20 Light resistance+20 Dark resistance+20','Occ. inc. resist. to stat. ailments +15','\"Mag.Def.Bns.\"+5',}},"]
["ammo={ name=\"ソイルサシェ\", augments={'Occ. inc. resist. to stat. ailments +10','\"Treasure Hunter\"+1',}},"]
["hands={ name=\"ヘアフォクミトン\", augments={'STR+8','DMG:+3','Weapon skill damage +4%','Sklchn.dmg.+10%',}},"]
["neck={ name=\"黄昏の光輪\", augments={'MND+8','Fire resistance+20 Ice resistance+20 Wind resistance+20 Earth resistance+20 Lightning resistance+20 Water resistance+20 Light resistance+20 Dark resistance+20','Occ. inc. resist. to stat. ailments +15','\"Mag.Def.Bns.\"+5',}},"]
["head={ name=\"アルシドキャップ\", augments={'Latent effect: \"Regain\"+10','\"Treasure Hunter\"+1','Ice resistance+2',}},"]
["head={ name=\"アイアスボンネット\", augments={'STR+7 DEX+7','DMG:+3','Weapon skill damage +4%','\"Triple Atk.\"+4',}},"]
["ammo={ name=\"サンダーサシェ\", augments={'STR+7 DEX+7','DMG:+3','Weapon skill damage +4%','\"Triple Atk.\"+4',}},"]
["neck={ name=\"インビディアトルク\", augments={'Occ. inc. resist. to stat. ailments +10','\"Treasure Hunter\"+1',}},"]
["left_ring={ name=\"ミゼリアリング\", augments={'Occ. inc. resist. to stat. ailments +10','\"Treasure Hunter\"+1',}},"]
["body={ name=\"真甲賀鎖帷子\", augments={'DEX+7 AGI+7','Enmity+15','Evasion+20','HP+30',}},"]
["left_ear={ name=\"フリギアピアス+1\", augments={'Occ. inc. resist. to stat. ailments +10','\"Treasure Hunter\"+1',}},"]
["back={ name=\"エザンスマント\", augments={'Occ. inc. resist. to stat. ailments +10','\"Treasure Hunter\"+1',}},"]
["back={ name=\"ビジランスマント+1\", augments={'VIT+8','DEF+30','HP+30','\"Fast Cast\"+4',}},"]
["feet={ name=\"真伊賀脚絆\", augments={'DEX+7 AGI+7','Enmity+15','Evasion+20','HP+30',}},"]
["waist={ name=\"黄昏の帯\", augments={'DEX+7 AGI+7','Enmity+15','Evasion+20','HP+30',}},"]
["main={ name=\"カラドボルグ\", augments={'STR+8','DMG:+3','Weapon skill damage +4%','Sklchn.dmg.+10%',}},"]
["left_ring=\"エボカーリング\","]
["left_ear={ name=\"フリギアピアス+1\", augments={'Occ. inc. resist. to stat. ailments +10','\"Treasure Hunter\"+1',}},"]
["left_ring={ name=\"エアリーリング\", augments={'Occ. inc. resist. to stat. ailments +10','\"Treasure Hunter\"+1',}},"]
["left_ring={ name=\"猛火の指輪\", augments={'STR+8','DMG:+3','Weapon skill damage +4%','Sklchn.dmg.+10%',}},"]
["left_ring={ name=\"猛火の指輪\", augments={'STR+8','DMG:+3','Weapon skill damage +4%','Sklchn.dmg.+10%',}},"]
["ammo={ name=\"アントリオンアロー\", augments={'STR+8','DMG:+3','Weapon skill damage +4%','Sklchn.dmg.+10%',}},"]
["sub={ name=\"ウーゼルグリップ\", augments={'STR+8','DMG:+3','Weapon skill damage +4%','Sklchn.dmg.+10%',}},"]
["left_ear={ name=\"テラパール\", augments={'DEX+7 AGI+7','Enmity+15','Evasion+20','HP+30',}},"]
["left_ear={ name=\"テラパール\", augments={'DEX+7 AGI+7','Enmity+15','Evasion+20','HP+30',}},"]
["feet={ name=\"ネムスネール\", augments={'\"Treasure Hunter\"+1',}},"]
["body={ name=\"ネブラウプランド\", augments={'Latent effect: \"Regain\"+10','\"Treasure Hunter\"+1','Ice resistance+2',}},"]
["feet=\"真甲賀脚絆\","]
["body=\"ホマムコラッツァ\","]
["back=\"伊賀道中合羽\","]
["left_ring={ name=\"守りの指輪\", augments={'VIT+5','DEF+18','HP+15','Occ. inc. resist. to stat. ailments +15',}},"]
["main=\"イリダルスタッフ\","]
["body={ name=\"ネムスペティ\", augments={'AGI+8','Fire Affinity: Avatar perp. cost+4','Weapon skill damage +4%','System: 1 ID: 131 Val: 7',}},"]
["head=\"ヴァルハラヘルム\","]
["head=\"エブルハット\","]
["head={ name=\"キュムラスマスク\", augments={'HP+33 MP+33','Ice resistance+3','Weapon skill damage +4%','\"Treasure Hunter\"+1',}},"]
["range={ name=\"ルーンボウ\", augments={'INT+5','System: 1 ID: 131 Val: 6','\"Fast Cast\"+4','Haste+3',}},"]
["ammo={ name=\"ルーンアロー\", augments={'INT+5','System: 1 ID: 131 Val: 6','\"Fast Cast\"+4','Haste+3',}},"]
["neck={ name=\"ウガレピペンダント\", augments={'INT+5','System: 1 ID: 131 Val: 6','\"Fast Cast\"+4','Haste+3',}},"]
["body=\"アルシドハーネス\","]
["neck={ name=\"フォシャゴルゲット\", augments={'STR+4 DEX+4','DMG:+3','System: 1 ID: 132 Val: 2','\"Store TP\"+3',}},"]
["body=\"アルシドハーネス\","]
["legs=\"ネムスシャルバル\","]
["ammo={ name=\"アントリオンアロー\", augments={'STR+8','DMG:+3','Latent effect: \"Regain\"+15','Quadruple Attack +2',}},"]
["legs=\"バッスルディル\","]
["left_ring={ name=\"サカーリング\", augments={'VIT+5','DEF+18','HP+15','Occ. inc. resist. to stat. ailments +15',}},"]
["ammo={ name=\"オベロンブレット\", augments={'STR+8','DMG:+3','Latent effect: \"Regain\"+15','Quadruple Attack +2',}},"]
["head={ name=\"ＮＡトリコルヌ+2\", augments={'AGI+8','Fire Affinity: Avatar perp. cost+4','Weapon skill damage +4%','System: 1 ID: 131 Val: 7',}},"]
["body={ name=\"ＮＡフラック+2\", augments={'AGI+8','Fire Affinity: Avatar perp. cost+4','Weapon skill damage +4%','System: 1 ID: 131 Val: 7',}},"]
["feet=\"ネムスネール\","]
["hands={ name=\"ＮＡガントリー+2\", augments={'AGI+8','Fire Affinity: Avatar perp. cost+4','Weapon skill damage +4%','System: 1 ID: 131 Val: 7',}},"]
["legs={ name=\"ＮＡトルーズ+2\", augments={'AGI+8','Fire Affinity: Avatar perp. cost+4','Weapon skill damage +4%','System: 1 ID: 131 Val: 7',}},"]
["feet={ name=\"ＮＡブーツ+2\", augments={'AGI+8','Fire Affinity: Avatar perp. cost+4','Weapon skill damage +4%','System: 1 ID: 131 Val: 7',}},"]
["hands=\"ＣＭガントリー+2\","]
["legs={ name=\"ネムスシャルバル\", augments={'STR+8','DMG:+3','Latent effect: \"Regain\"+15','Quadruple Attack +2',}},"]
["range={ name=\"アルマゲドン\", augments={'AGI+8','Fire Affinity: Avatar perp. cost+4','Weapon skill damage +4%','System: 1 ID: 131 Val: 7',}},"]
["hands={ name=\"シュッツェンミトン\", augments={'AGI+8','Fire Affinity: Avatar perp. cost+4','Weapon skill damage +4%','System: 1 ID: 131 Val: 7',}},"]
["head=\"ＣＭトリコルヌ+2\","]
["waist={ name=\"アクィラインベルト\", augments={'AGI+8','Fire Affinity: Avatar perp. cost+4','Weapon skill damage +4%','System: 1 ID: 131 Val: 7',}},"]
["left_ring={ name=\"突風の指輪\", augments={'AGI+8','Fire Affinity: Avatar perp. cost+4','Weapon skill damage +4%','System: 1 ID: 131 Val: 7',}},"]
["feet={ name=\"ＣＭブーツ+2\", augments={'AGI+8','Fire Affinity: Avatar perp. cost+4','Weapon skill damage +4%','System: 1 ID: 131 Val: 7',}},"]
["sub={ name=\"アキナケス\", augments={'AGI+8','Fire Affinity: Avatar perp. cost+4','Weapon skill damage +4%','System: 1 ID: 131 Val: 7',}},"]
["left_ear={ name=\"ブリーズパール\", augments={'AGI+8','Fire Affinity: Avatar perp. cost+4','Weapon skill damage +4%','System: 1 ID: 131 Val: 7',}},"]
["sub={ name=\"ティソーナ\", augments={'INT+8','System: 1 ID: 131 Val: 7','\"Fast Cast\"+4','\"Refresh\"+2',}},"]
["back={ name=\"ナバーチマント\", augments={'AGI+8','Fire Affinity: Avatar perp. cost+4','Weapon skill damage +4%','System: 1 ID: 131 Val: 7',}},"]
["body=\"ヴァルハラブレスト\","]
["waist={ name=\"フォシャベルト\", augments={'STR+7 DEX+7','DMG:+3','Weapon skill damage +4%','\"Triple Atk.\"+4',}},"]
["left_ear={ name=\"ブリーズパール\", augments={'AGI+8','Fire Affinity: Avatar perp. cost+4','Weapon skill damage +4%','System: 1 ID: 131 Val: 7',}},"]
["body=\"ラプソディシャツ+1\","]
["head=\"ガネーシャマスク\","]
["waist={ name=\"八輪の帯\", augments={'INT+5','System: 1 ID: 131 Val: 6','\"Fast Cast\"+4','Haste+3',}},"]
["head={ name=\"クアトリヘッド+1\", augments={'AGI+8','Fire Affinity: Avatar perp. cost+4','Weapon skill damage +4%','System: 1 ID: 131 Val: 7',}},"]
["legs=\"金剛戦脚\","]
["feet=\"金剛戦靴\","]
["back={ name=\"黄昏の羽衣\", augments={'INT+8','System: 1 ID: 131 Val: 7','Fire Affinity: Avatar perp. cost+4','Magic Damage +15',}},"]
["waist={ name=\"ブリーズベルト\", augments={'AGI+8','Fire Affinity: Avatar perp. cost+4','Weapon skill damage +4%','System: 1 ID: 131 Val: 7',}},"]
["legs=\"カルメカトラウザ\","]
["neck={ name=\"ナバーチチョーカー\", augments={'AGI+8','Fire Affinity: Avatar perp. cost+4','Weapon skill damage +4%','System: 1 ID: 131 Val: 7',}},"]
["left_ear={ name=\"アウスターパール\", augments={'AGI+8','Fire Affinity: Avatar perp. cost+4','Weapon skill damage +4%','System: 1 ID: 131 Val: 7',}},"]
["sub={ name=\"アルマス\", augments={'STR+7 DEX+7','DMG:+3','Weapon skill damage +4%','\"Triple Atk.\"+4',}},"]
["left_ring={ name=\"ゾディアクリング\", augments={'INT+8','System: 1 ID: 131 Val: 7','Fire Affinity: Avatar perp. cost+4','Magic Damage +15',}},"]
["left_ear={ name=\"アウスターパール\", augments={'AGI+8','Fire Affinity: Avatar perp. cost+4','Weapon skill damage +4%','System: 1 ID: 131 Val: 7',}},"]
["back={ name=\"エザンスマント+1\", augments={'AGI+8','Fire Affinity: Avatar perp. cost+4','Weapon skill damage +4%','System: 1 ID: 131 Val: 7',}},"]
["left_ring={ name=\"突風の指輪\", augments={'AGI+8','Fire Affinity: Avatar perp. cost+4','Weapon skill damage +4%','System: 1 ID: 131 Val: 7',}},"]
["neck=\"アルクティエトルク\","]
["head={ name=\"ハイドラキャップ\", augments={'INT+5','System: 1 ID: 131 Val: 6','\"Fast Cast\"+4','Haste+3',}},"]
["body={ name=\"ハイドラジュポン\", augments={'INT+5','System: 1 ID: 131 Val: 6','\"Fast Cast\"+4','Haste+3',}},"]
["range={ name=\"デスペナルティ\", augments={'AGI+8','Fire Affinity: Avatar perp. cost+4','Weapon skill damage +4%','System: 1 ID: 131 Val: 7',}},"]
["neck={ name=\"ソイルゴルゲット\", augments={'INT+5','System: 1 ID: 131 Val: 6','Elem. magic skill +4','Magic Damage +10',}},"]
["left_ear={ name=\"アクィロパール\", augments={'AGI+8','Fire Affinity: Avatar perp. cost+4','Weapon skill damage +4%','System: 1 ID: 131 Val: 7',}},"]
["legs={ name=\"ホマムコッシャレ\", augments={'INT+5','System: 1 ID: 131 Val: 6','\"Fast Cast\"+4','Haste+3',}},"]
["legs={ name=\"ハイドラホーズ\", augments={'INT+5','System: 1 ID: 131 Val: 6','\"Fast Cast\"+4','Haste+3',}},"]
["sub={ name=\"ベルスナイフ+1\", augments={'AGI+8','Fire Affinity: Avatar perp. cost+4','Weapon skill damage +4%','System: 1 ID: 131 Val: 7',}},"]
["left_ring={ name=\"結氷の指輪\", augments={'AGI+8','Fire Affinity: Avatar perp. cost+4','Weapon skill damage +4%','System: 1 ID: 131 Val: 7',}},"]
["sub=\"マチズモ\","]
["left_ear={ name=\"アクィロパール\", augments={'AGI+8','Fire Affinity: Avatar perp. cost+4','Weapon skill damage +4%','System: 1 ID: 131 Val: 7',}},"]
["feet=\"ホマムガンビエラ\","]
["feet={ name=\"ハイドラブーツ\", augments={'INT+5','System: 1 ID: 131 Val: 6','\"Fast Cast\"+4','Haste+3',}},"]
["left_ring={ name=\"パイリング\", augments={'INT+5','System: 1 ID: 131 Val: 6','\"Fast Cast\"+4','Haste+3',}},"]
["head={ name=\"エブルタム\", augments={'INT+5','System: 1 ID: 131 Val: 6','\"Fast Cast\"+4','Haste+3',}},"]
["body={ name=\"エブルタラー\", augments={'INT+5','System: 1 ID: 131 Val: 6','\"Fast Cast\"+4','Haste+3',}},"]
["head={ name=\"ＴＥシャポー+1\", augments={'INT+8','System: 1 ID: 131 Val: 7','\"Fast Cast\"+4','\"Refresh\"+2',}},"]
["neck={ name=\"ツィールの護符\", augments={'STR+7 DEX+7','DMG:+3','Latent effect: \"Regain\"+15','Quadruple Attack +2',}},"]
["feet={ name=\"ＡＵゲートル+1\", augments={'STR+7 DEX+7','DMG:+3','Weapon skill damage +4%','\"Triple Atk.\"+4',}},"]
["left_ear={ name=\"サンダーパール\", augments={'STR+8','DMG:+3','Weapon skill damage +4%','Sklchn.dmg.+10%',}},"]
["hands={ name=\"メラソミトン\", augments={'AGI+8','DMG:+3','\"Dual Wield\"+5','Latent effect: \"Regain\"+15',}},"]
["left_ring={ name=\"エポナリング\", augments={'STR+7 DEX+7','DMG:+3','Latent effect: \"Regain\"+15','Quadruple Attack +2',}},"]
["body=\"ＳＶガウン+1\","]
["back={ name=\"エザンスマント+1\", augments={'AGI+8','DMG:+3','\"Dual Wield\"+5','Latent effect: \"Regain\"+15',}},"]
["back={ name=\"エスリングマント\", augments={'STR+7 DEX+7','DMG:+3','Weapon skill damage +4%','\"Triple Atk.\"+4',}},"]
["hands={ name=\"ＭＶバズバンド+2\", augments={'INT+8','System: 1 ID: 131 Val: 7','\"Fast Cast\"+4','\"Refresh\"+2',}},"]
["sub={ name=\"アルマス\", augments={'STR+7 DEX+7','DMG:+3','Weapon skill damage +4%','\"Triple Atk.\"+4',}},"]
["waist={ name=\"ピピラカベルト\", augments={'AGI+8','DMG:+3','\"Dual Wield\"+5','Latent effect: \"Regain\"+15',}},"]
["head=\"ＭＶカヴク+2\","]
["waist={ name=\"まほろばの帯+1\", augments={'INT+8','System: 1 ID: 131 Val: 7','\"Fast Cast\"+4','\"Refresh\"+2',}},"]
["hands=\"オセロットグローブ\","]
["feet={ name=\"アリオンゲマッシュ\", augments={'STR+7 DEX+7','DMG:+3','Latent effect: \"Regain\"+15','Quadruple Attack +2',}},"]
["body={ name=\"ＭＶミンタン+2\", augments={'STR+6','DMG:+2','Latent effect: \"Regain\"+10','Quadruple Attack +1',}},"]
["head={ name=\"ＭＩケフィエ+2\", augments={'VIT+8','HP+30','Latent effect: \"Regain\"+15','Occ. inc. resist. to stat. ailments +15',}},"]
["head={ name=\"ＡＵベレー+1\", augments={'STR+7 DEX+7','DMG:+3','Weapon skill damage +4%','\"Triple Atk.\"+4',}},"]
["left_ring={ name=\"メリディアンリング\", augments={'STR+7 DEX+7','DMG:+3','Latent effect: \"Regain\"+15','Quadruple Attack +2',}},"]
["left_ear={ name=\"サンダーパール\", augments={'STR+8','DMG:+3','Weapon skill damage +4%','Sklchn.dmg.+10%',}},"]
["body={ name=\"ＡＵダブレット+1\", augments={'STR+7 DEX+7','DMG:+3','Weapon skill damage +4%','\"Triple Atk.\"+4',}},"]
["ammo={ name=\"ルーンアロー\", augments={'STR+4 DEX+4','DMG:+3','System: 1 ID: 132 Val: 2','\"Store TP\"+3',}},"]
["left_ring={ name=\"結氷の指輪\", augments={'INT+8','System: 1 ID: 131 Val: 7','Fire Affinity: Avatar perp. cost+4','Magic Damage +15',}},"]
["back={ name=\"ポテンティアケープ\", augments={'INT+8','System: 1 ID: 131 Val: 7','Fire Affinity: Avatar perp. cost+4','Magic Damage +15',}},"]
["body={ name=\"ＭＩジュバ+2\", augments={'VIT+8','HP+30','Latent effect: \"Regain\"+15','Occ. inc. resist. to stat. ailments +15',}},"]
["range={ name=\"ルーンボウ\", augments={'STR+4 DEX+4','DMG:+3','System: 1 ID: 132 Val: 2','\"Store TP\"+3',}},"]
["body={ name=\"タラニスハーネス\", augments={'STR+7 DEX+7','DMG:+3','Latent effect: \"Regain\"+15','Quadruple Attack +2',}},"]
["left_ear={ name=\"サンダーパール\", augments={'AGI+8','DMG:+3','\"Dual Wield\"+5','Latent effect: \"Regain\"+15',}},"]
["hands={ name=\"ＭＩバズバンド+2\", augments={'VIT+8','HP+30','Latent effect: \"Regain\"+15','Occ. inc. resist. to stat. ailments +15',}},"]
["waist=\"ヌスクサッシュ\","]
["legs={ name=\"ＭＩシャルワー+2\", augments={'VIT+8','HP+30','Latent effect: \"Regain\"+15','Occ. inc. resist. to stat. ailments +15',}},"]
["head={ name=\"ゼルスティアラ\", augments={'STR+7 DEX+7','DMG:+3','Latent effect: \"Regain\"+15','Quadruple Attack +2',}},"]
["feet={ name=\"ＭＩチャルク+2\", augments={'VIT+8','HP+30','Latent effect: \"Regain\"+15','Occ. inc. resist. to stat. ailments +15',}},"]
["hands={ name=\"ＡＵグローブ+1\", augments={'STR+7 DEX+7','DMG:+3','Weapon skill damage +4%','\"Triple Atk.\"+4',}},"]
["legs={ name=\"ＭＶタイト+2\", augments={'STR+7 DEX+7','DMG:+3','Weapon skill damage +4%','\"Triple Atk.\"+4',}},"]
["left_ring={ name=\"塊土の指輪\", augments={'INT+8','System: 1 ID: 131 Val: 7','\"Fast Cast\"+4','\"Refresh\"+2',}},"]
["left_ear={ name=\"ネプチュンパール\", augments={'MND+8','Fire Affinity: Avatar perp. cost+3','\"Cure\" potency +3%','Earth resistance+30',}},"]
["neck={ name=\"ノーティックトルク\", augments={'INT+8','System: 1 ID: 131 Val: 7','\"Fast Cast\"+4','\"Refresh\"+2',}},"]
["left_ear={ name=\"アクィロパール\", augments={'INT+8','System: 1 ID: 131 Val: 7','\"Fast Cast\"+4','\"Refresh\"+2',}},"]
["hands=\"ＴＥカフス+1\","]
["ammo={ name=\"オベロンブレット\", augments={'AGI+8','Fire Affinity: Avatar perp. cost+4','Weapon skill damage +4%','System: 1 ID: 131 Val: 7',}},"]
["head=\"オネイロスヘッド\","]
["ammo={ name=\"アントリオンアロー\", augments={'MND+8','\"Cure\" potency +3%','Lightning resistance+5','\"Refresh\"+2',}},"]
["left_ring={ name=\"湧水の指輪\", augments={'MND+8','Fire Affinity: Avatar perp. cost+3','\"Cure\" potency +3%','Earth resistance+30',}},"]
["sub={ name=\"ティソーナ\", augments={'INT+8','System: 1 ID: 131 Val: 7','\"Fast Cast\"+4','\"Refresh\"+2',}},"]
["left_ring={ name=\"塊土の指輪\", augments={'INT+8','System: 1 ID: 131 Val: 7','\"Fast Cast\"+4','\"Refresh\"+2',}},"]
["back={ name=\"エロカンスケープ\", augments={'INT+8','System: 1 ID: 131 Val: 7','\"Fast Cast\"+4','\"Refresh\"+2',}},"]
["left_ring={ name=\"シロナリング\", augments={'MND+8','Fire Affinity: Avatar perp. cost+3','\"Cure\" potency +3%','Earth resistance+30',}},"]
["waist=\"オネイロスセスト\","]
["head={ name=\"ネブラハット\", augments={'MND+8','\"Cure\" potency +3%','Lightning resistance+5','\"Refresh\"+2',}},"]
["left_ear={ name=\"血石のピアス\", augments={'STR+7 DEX+7','DMG:+3','Latent effect: \"Regain\"+15','Quadruple Attack +2',}},"]
["body={ name=\"ネブラウプランド\", augments={'MND+8','\"Cure\" potency +3%','Lightning resistance+5','\"Refresh\"+2',}},"]
["hands={ name=\"ネブラカフス\", augments={'MND+8','\"Cure\" potency +3%','Lightning resistance+5','\"Refresh\"+2',}},"]
["neck=\"トレーロトルク\","]
["legs={ name=\"ネブラスロップス\", augments={'MND+8','\"Cure\" potency +3%','Lightning resistance+5','\"Refresh\"+2',}},"]
["left_ear={ name=\"スノーパール\", augments={'\"Fast Cast\"+4','HP+20','Latent effect: \"Regain\"+10','Haste+10',}},"]
["body=\"プルビアーレ\","]
["legs=\"ＭＶタイト+1\","]
["body={ name=\"ＴＥサイオ+1\", augments={'INT+8','System: 1 ID: 131 Val: 7','\"Fast Cast\"+4','\"Refresh\"+2',}},"]
["waist=\"ジーゲルサッシュ\","]
["left_ring={ name=\"キーンリング\", augments={'STR+8','DMG:+3','Weapon skill damage +4%','Sklchn.dmg.+10%',}},"]
["feet=\"ＭＶバシュマク+1\","]
["left_ring={ name=\"ヒードリング\", augments={'STR+8','DMG:+3','Weapon skill damage +4%','Sklchn.dmg.+10%',}},"]
["legs={ name=\"ＴＥスロップス+1\", augments={'INT+8','System: 1 ID: 131 Val: 7','\"Fast Cast\"+4','\"Refresh\"+2',}},"]
["waist={ name=\"カスケイドベルト\", augments={'MND+8','\"Cure\" potency +3%','Lightning resistance+5','\"Refresh\"+2',}},"]
["feet={ name=\"ＭＶバシュマク+2\", augments={'INT+8','System: 1 ID: 131 Val: 7','\"Fast Cast\"+4','\"Refresh\"+2',}},"]
["feet={ name=\"ＴＥピガッシュ+1\", augments={'MND+8','Fire Affinity: Avatar perp. cost+3','\"Cure\" potency +3%','Earth resistance+30',}},"]
["left_ear={ name=\"ヘカテーピアス\", augments={'INT+8','System: 1 ID: 131 Val: 7','Fire Affinity: Avatar perp. cost+4','Magic Damage +15',}},"]
["back={ name=\"エロカンスケープ+1\", augments={'MND+8','\"Cure\" potency +3%','Lightning resistance+5','\"Refresh\"+2',}},"]
["left_ear={ name=\"アクィロパール\", augments={'INT+8','System: 1 ID: 131 Val: 7','\"Fast Cast\"+4','\"Refresh\"+2',}},"]
["body=\"ＭＶミンタン+1\","]
["head=\"クアトリヘッド\","]
["hands=\"ＭＶバズバンド+1\","]
["left_ring={ name=\"迅雷の指輪\", augments={'STR+8','DMG:+3','Weapon skill damage +4%','Sklchn.dmg.+10%',}},"]
["left_ring={ name=\"迅雷の指輪\", augments={'STR+8','DMG:+3','Weapon skill damage +4%','Sklchn.dmg.+10%',}},"]
["left_ring={ name=\"結氷の指輪\", augments={'INT+8','System: 1 ID: 131 Val: 7','Fire Affinity: Avatar perp. cost+4','Magic Damage +15',}},"]
["}"]